{"text_format":"1","workbook":"xlsx","n_sheets":14,"sheets":["ＴＯＰ","基本情報","対象者情報","K-308","K-309","K-301","K-303","K-307","K-312","K-313","K-306","K-314","送り状","労使協定"],"not_rendered":{"charts":0,"images":19,"macros":1,"external_links":0,"defined_names":12,"comments":0,"pivot_tables":0},"unopened":[],"bounds":{"document_bytes":16777216,"sheet_cells":100000,"rows_first":2000,"rows_last":500,"rows_between":2000,"halvings":0,"cell_chars":16384,"cell_head_chars":4096},"cells_cut":0,"cells_raw":0,"read":"whole","date_system":"1900"}

{"sheet":"ＴＯＰ","index":0,"n_rows":46,"n_cols":15,"rows_kept":46,"cut":false,"hidden":false,"merged":[[37,4,37,14],[29,4,29,14],[31,4,31,14],[33,4,33,14],[35,4,35,14],[27,4,27,14],[25,4,25,14],[3,1,3,14],[9,1,9,14],[15,4,15,14],[13,4,13,14],[23,1,23,14],[5,11,7,14],[17,1,17,14],[19,4,19,14],[21,4,21,14]]}
[]
[]
[]
[null,"１、基本情報"]
[]
[null,null,null,null,"会社名など基本情報を入力します。",null,null,null,null,null,null,"手続きの流れなどは厚生労働省の「iDeCo公式サイト」も参考にしてください。\nhttps://www.ideco-koushiki.jp/owner/#Small_business_flow"]
[]
[null,null,null," ","掛金の対象者となる被保険者の名前などの情報を入力します。"]
[null,"２、労使協議"]
[null,"２、労使協議"]
[]
[null,null,null,null,"中小事業主掛金納付制度に関する労使協定のひな型です。"]
[]
[null,null,null,null,"中小事業主掛金を拠出すること及び中小事業主掛金の額の決定に関する同意書（K-308）"]
[]
[null,null,null,null,"中小事業主掛金の拠出の対象となる者に一定の資格を定めることに関する同意書（K-309）\n（一定の職種、一定の勤続期間で資格を設ける場合）"]
[null,"２、労使協議"]
[null,"３、事業所の事前登録書類の作成（事前登録は労使合意不要なので先に提出も、下記の書類とまとめて提出もできます）\n　　※事前登録書類は一部づつ印刷して提出します（送付状は不要）"]
[]
[null,null,null,null,"中小事業主掛金納付事業所登録申請書（事前登録用）（K-314）　　\n（初めて「事業主払込」の事業所登録をする場合）"]
[]
[null,"リンク先からＰＤＦをダウンロード",null,null,"預金口座振替依頼書兼自動払込利用申込書（様式第Ｋ-007Ｂ号）　　\n（初めて「事業主払込」の事業所登録をする場合）"]
[null,"２、労使協議"]
[null,"４、届出書類の作成\n　　※以下の書類は二部づつ印刷して提出します（送付状（一部）が必要です）"]
[]
[null,null,null,null,"中小事業主掛金納付開始・終了届（K-301）"]
[]
[null,null,null,null,"中小事業主掛金対象者登録届（Ｋ-303）"]
[]
[null,null,null,null,"中小事業主の資格に関する現況について（K-307）"]
[]
[null,null,null,null,"労働組合の現況について（K-312）　　\n※労働組合がある場合。ない場合はK-313を使います。"]
[]
[null,null,null,null,"過半数を代表する者の証明書（K-313）　　\n※労働組合がない場合。K-312とのいずれか"]
[]
[null,null,null,null,"資格別中小事業主掛金届（K-306）　　\n（資格ごとに事業主掛金の額を定める場合）"]
[]
[null,null,null,null,"Ｋ-314とK-007Bは１部づつ。それ以外の書類は２部づつ印刷し、国民年金基金連合会へこの送付状を付けて提出します。"]
[null,null,null,null,null,null,null,null,null,null,null,null,null,null,"提供：小林敬幸税理士事務所"]
[null,null,null,null,null,null,null,null,null,null,null,null,null,null,"Ver. 1.0"]
[null,"★当事務所の税理士の著書"]
[]
[null,null,null,"帳簿初心者な方向けに、パソコン会計で徹底的に簡単に青色申告を行うためのTipsを詰め込んだ、自信の一作です！"]
[null,null,null,"★参考"]
[null,null,null,"このファイルの保護パスワードは、こちらの本の背面の２つめのバーコードの数字（1922で始まる１３ケタの数字（半角））になっています。"]
[null,null,null,"マクロを有効にすると、保護を解除しなくともすべての機能は使えますが、保護を解除して改造等挑戦される方は是非本書もお求めください。"]

{"sheet":"基本情報","index":1,"n_rows":34,"n_cols":15,"rows_kept":34,"cut":false,"hidden":false,"merged":[[31,2,31,4],[33,2,33,4],[14,1,15,1],[5,2,5,3],[13,2,13,5],[12,2,12,5],[6,2,6,3],[8,2,8,3],[7,2,7,3]]}
[]
[]
[]
[]
[]
[null,null,"カ）　コンノデザイン"]
[null,"会社名","株式会社今野デザイン",null,null,null,null,{"$f":"C7&\"　\"&C9","v":"株式会社今野デザイン　代表取締役　今野　友夫"}]
[null,null,"ダイヒョウトリシマリヤク　コンノ　トモオ",null,null,null,null,{"$f":"C6&\"　\"&C8","v":"カ）　コンノデザイン　ダイヒョウトリシマリヤク　コンノ　トモオ"}]
[null,"代表者役職と代表者名","代表取締役　今野　友夫"]
[]
[null,"郵便番号（ハイフンなし）",6580047,null,null,null,null,{"$f":"LEFT(C11,3)","v":"658"},{"$f":"MID(C11,4,4)","v":"0047"}]
[]
[null,"住所カナ","ヒョウゴケンコウベシヒガシナダクミカゲ"]
[null,"住所","兵庫県神戸市東灘区御影〇－〇－〇"]
[null,"住所","都道府県","郡","市町村(23区）","それ以降",null,{"$f":"IF(ISERROR(REPLACE(H16,LEN(H16),1,\"\")),\"\",REPLACE(H16,LEN(H16),1,\"\"))","v":"兵庫"},null,null,{"$f":"IF(ISERROR(REPLACE(K16,LEN(K16),1,\"\")),\"\",REPLACE(K16,LEN(K16),1,\"\"))","v":""},{"$f":"IF(ISERROR(REPLACE(L16,LEN(L16),1,\"\")),\"\",REPLACE(L16,LEN(L16),1,\"\"))","v":"神戸市東灘"}]
[null,null,"兵庫",null,"神戸市東灘","御影〇－〇－〇",null,"兵庫県","神戸市東灘区","御影",{"$f":"IF(ISERROR(LEFT(I16,FIND(\"郡\",I16))),\"\",LEFT(I16,FIND(\"郡\",I16)))","v":""},{"$f":"IF(ISERROR(MID(I16,FIND(\"郡\",I16)+1,LEN(I16)-LEN(K16))),I16,MID(I16,FIND(\"郡\",I16)+1,LEN(I16)-LEN(K16)))","v":"神戸市東灘区"}]
[]
[null,"電話番号","078","111","2222"]
[null,null,null,null,null,null,null,1,2,3,4,5,6,7,8]
[null,"登録事業所番号",null,null,null,null,null,{"$f":"MID($C$20,H19,1)","v":""},{"$f":"MID($C$20,I19,1)","v":""},"","","","","",""]
[]
[null,"管轄地方厚生局","近畿厚生局",null,"地方厚生局","管轄地域",null,{"$f":"LEFT(C22,FIND(\"厚生\",C22)-1)","v":"近畿"}]
[null,null,null,null,"北海道厚生局","北海道"]
[null,"申請担当者","絹延橋　みつ子",null,"東北厚生局","青森県、岩手県、宮城県、秋田県、山形県、福島県"]
[null,null,null,null,"関東信越厚生局","茨城県、栃木県、群馬県、埼玉県、千葉県、東京都、神奈川県、新潟県、山梨県、長野県"]
[null,"金融機関名","四菱USJ",null,"東海北陸厚生局","富山県、石川県、岐阜県、静岡県、愛知県、三重県"]
[null,null,null,null,"近畿厚生局","福井県、滋賀県、京都府、大阪府、兵庫県、奈良県、和歌山県"]
[null,"支店名","住吉",null,"中国四国厚生局","鳥取県、島根県、岡山県、広島県、山口県、徳島県、香川県、愛媛県、高知県",null,{"$f":"LEN(C30)","v":7}]
[null,null,null,null,"四国厚生支局","徳島県、香川県、愛媛県、高知県",null,1,2,3,4,5,6,7]
[null,"口座番号",1234567,null,"九州厚生局","福岡県、佐賀県、長崎県、熊本県、大分県、宮崎県、鹿児島県、沖縄県",null,{"$f":"MID($C$30,$H$28-6,1)","v":"1"},{"$f":"MID($C$30,$H$28-5,1)","v":"2"},{"$f":"MID($C$30,$H$28-4,1)","v":"3"},{"$f":"MID($C$30,$H$28-3,1)","v":"4"},{"$f":"MID($C$30,$H$28-2,1)","v":"5"},{"$f":"MID($C$30,$H$28-1,1)","v":"6"},{"$f":"MID($C$30,$H$28,1)","v":"7"}]
[]
[null,"口座名義人","株式会社今野デザイン　代表取締役　今野　友夫"]
[]
[null,"口座名義人カナ","カブシキガイシャコンノデザイン　ダイヒョウトリシマリヤク　コンノ　トモオ"]

{"sheet":"対象者情報","index":2,"n_rows":32,"n_cols":26,"rows_kept":32,"cut":false,"hidden":false,"merged":[]}
[]
[]
[]
[]
[]
[]
[null,"番号","名前","名前フリガナ","性別","生年月日","基礎年金番号",null,null,null,1,2,3,4,5,6,1,2,3,4,5,6,7,8,9,10]
[null,1,"今野　友夫","コンノ　トモオ","男","1975-10-21",1234567890,null,{"$f":"TEXT(F8,\"ggg\")","v":"昭和"},{"$f":"TEXT(F8,\"eemmdd\")","v":"501021"},{"$f":"MID($J8,K$7,1)","v":"5"},{"$f":"MID($J8,L$7,1)","v":"0"},"1","0","2","1",{"$f":"MID($G8,Q$7,1)","v":"1"},{"$f":"MID($G8,R$7,1)","v":"2"},"3","4","5","6","7","8","9","0"]
[null,2,"今野　朝子","コンノ　アサコ","女","1978-03-03",1244552016,null,{"$f":"TEXT(F9,\"ggg\")","v":"昭和"},{"$f":"TEXT(F9,\"eemmdd\")","v":"530303"},{"$f":"MID($J9,K$7,1)","v":"5"},"3","0","3","0","3",{"$f":"MID($G9,Q$7,1)","v":"1"},"2","4","4","5","5","2","0","1","6"]
[null,3,"絹延橋　みつ子","キヌノベバシ　ミツコ","女","1977-11-25",1254536142,null,"昭和","521125","5","2","1","1","2","5","1","2","5","4","5","3","6","1","4","2"]
[null,4,"山下　崇","ヤマシタ　タカシ","男","1981-11-21",1264520268,null,"昭和","561121","5","6","1","1","2","1","1","2","6","4","5","2","0","2","6","8"]
[null,5,"滝山　真一","タキヤマ　シンイチ","男","1983-04-18",1274504394,null,"昭和","580418","5","8","0","4","1","8","1","2","7","4","5","0","4","3","9","4"]
[null,6,"日生　暁久","ニッセイ　アキヒサ","男","1986-06-21",1284488520,null,"昭和","610621","6","1","0","6","2","1","1","2","8","4","4","8","8","5","2","0"]
[null,7,"鳥居　雅之","トリイ　マサユキ","男","1987-08-19",1294472646,null,"昭和","620819","6","2","0","8","1","9","1","2","9","4","4","7","2","6","4","6"]
[null,8,"笹部　菜穂美","ササベ　ナホミ","女","1991-03-08",1304456772,null,"平成","030308","0","3","0","3","0","8","1","3","0","4","4","5","6","7","7","2"]
[null,9,"畦野　繁樹","ウネノ　シゲキ","男","1992-02-05",1314440898,null,"平成","040205","0","4","0","2","0","5","1","3","1","4","4","4","0","8","9","8"]
[null,10,"多田　昭彦","タダ　アキヒコ","男","1993-09-30",1324425024,null,"平成","050930","0","5","0","9","3","0","1","3","2","4","4","2","5","0","2","4"]
[null,11,"川西　めぐみ","カワニシ　メグミ","女","1998-03-06",1334409150,null,"平成","100306","1","0","0","3","0","6","1","3","3","4","4","0","9","1","5","0"]
[null,12,"常盤　典子","トキワ　ノリコ","女","1999-07-08",1344393276,null,"平成","110708","1","1","0","7","0","8","1","3","4","4","3","9","3","2","7","6"]
[null,13,"平野　裕","ヒラノ　ヒロシ","男","1988-03-04",1354377402,null,"昭和","630304","6","3","0","3","0","4","1","3","5","4","3","7","7","4","0","2"]
[null,14,"鼓滝　健三","ツツミタキ　ケンゾウ","男","1987-05-05",1364361528,null,"昭和","620505","6","2","0","5","0","5","1","3","6","4","3","6","1","5","2","8"]
[null,15,"妙見　隆一","ミョウケン　リュウイチ","男","1986-07-17",1374345654,null,"昭和","610717","6","1","0","7","1","7","1","3","7","4","3","4","5","6","5","4"]
[null,16,null,null,null,null,null,null,"明治","330100","3","3","0","1","0","0","","","","","","","","","",""]
[null,17,null,null,null,null,null,null,"明治","330100","3","3","0","1","0","0","","","","","","","","","",""]
[null,18,null,null,null,null,null,null,"明治","330100",{"$f":"MID($J25,K$7,1)","v":"3"},"3","0","1","0","0",{"$f":"MID($G25,Q$7,1)","v":""},"","","","","","","","",""]
[null,19,null,null,null,null,null,null,"明治","330100","3","3","0","1","0","0","","","","","","","","","",""]
[null,20,null,null,null,null,null,null,"明治","330100","3","3","0","1","0","0","","","","","","","","","",""]
[null,21,null,null,null,null,null,null,"明治","330100","3","3","0","1","0","0","","","","","","","","","",""]
[null,22,null,null,null,null,null,null,"明治","330100","3","3","0","1","0","0","","","","","","","","","",""]
[null,23,null,null,null,null,null,null,"明治","330100","3","3","0","1","0","0","","","","","","","","","",""]
[null,24,null,null,null,null,null,null,"明治","330100","3","3","0","1","0","0","","","","","","","","","",""]
[null,25,null,null,null,null,null,null,"明治","330100","3","3","0","1","0","0","","","","","","","","","",""]

{"sheet":"K-308","index":3,"n_rows":43,"n_cols":111,"rows_kept":43,"cut":false,"hidden":false,"merged":[[42,13,51,105],[9,110,11,112],[11,13,15,43],[11,44,15,47],[19,64,23,98],[24,80,28,102],[35,13,38,105],[9,10,10,16],[9,80,11,90],[9,91,11,93],[9,94,11,99],[9,100,11,102],[9,103,11,109]]}
[]
[]
[]
[]
[]
[]
[]
[]
[]
[null,null,null,null,null,null,null,null,null,null,"事業主名",null,null,null,null,null,null,null,null,null,null,null,null,null,null,null,null,null,null,null,null,null,null,null,null,null,null,null,null,null,null,null,null,null,null,null,null,null,null,null,null,null,null,null,null,null,null,null,null,null,null,null,null,null,null,null,null,null,null,null,null,null,null,null,null,null,null,null,null,null,null,null,null,null,null,null,null,null,null,null,null,"年",null,null,null,null,null,null,null,null,"月",null,null,null,null,null,null,null,null,null,"日"]
[]
[null,null,null,null,null,null,null,null,null,null,null,null,null,{"$f":"基本情報!C7&\"　\"&基本情報!C9","v":"株式会社今野デザイン　代表取締役　今野　友夫"},null,null,null,null,null,null,null,null,null,null,null,null,null,null,null,null,null,null,null,null,null,null,null,null,null,null,null,null,null,null,"殿"]
[]
[]
[]
[]
[]
[]
[]
[null,null,null,null,null,null,null,null,null,null,null,null,null,null,null,null,null,null,null,null,null,null,null,null,null,null,null,null,null,null,null,null,null,null,null,null,null,null,null,null,null,null,null,null,null,null,null,null,null,null,null,null,null,null,null,null,null,null,null,null,null,null,null,null,"労働組合の名称及び当該労働組合を代表する者の氏名\n又は第一号厚生年金被保険者の過半数を代表する者の氏名"]
[]
[]
[]
[]
[]
[]
[]
[]
[]
[]
[]
[]
[]
[]
[]
[null,null,null,null,null,null,null,null,null,null,null,null,null,"同意書"]
[]
[]
[]
[]
[]
[]
[null,null,null,null,null,null,null,null,null,null,null,null,null,"　確定拠出年金法の規定に基づく中小事業主掛金を拠出すること及び中小事業主掛金の額の\n決定に同意します。"]

{"sheet":"K-309","index":4,"n_rows":43,"n_cols":111,"rows_kept":43,"cut":false,"hidden":false,"merged":[[42,13,51,105],[9,110,11,112],[11,13,15,43],[11,44,15,47],[19,64,23,98],[24,80,28,102],[35,13,38,105],[9,10,10,16],[9,80,11,90],[9,91,11,93],[9,94,11,99],[9,100,11,102],[9,103,11,109]]}
[]
[]
[]
[]
[]
[]
[]
[]
[]
[null,null,null,null,null,null,null,null,null,null,"事業主名",null,null,null,null,null,null,null,null,null,null,null,null,null,null,null,null,null,null,null,null,null,null,null,null,null,null,null,null,null,null,null,null,null,null,null,null,null,null,null,null,null,null,null,null,null,null,null,null,null,null,null,null,null,null,null,null,null,null,null,null,null,null,null,null,null,null,null,null,null,null,null,null,null,null,null,null,null,null,null,null,"年",null,null,null,null,null,null,null,null,"月",null,null,null,null,null,null,null,null,null,"日"]
[]
[null,null,null,null,null,null,null,null,null,null,null,null,null,{"$f":"基本情報!C7&\"　\"&基本情報!C9","v":"株式会社今野デザイン　代表取締役　今野　友夫"},null,null,null,null,null,null,null,null,null,null,null,null,null,null,null,null,null,null,null,null,null,null,null,null,null,null,null,null,null,null,"殿"]
[]
[]
[]
[]
[]
[]
[]
[null,null,null,null,null,null,null,null,null,null,null,null,null,null,null,null,null,null,null,null,null,null,null,null,null,null,null,null,null,null,null,null,null,null,null,null,null,null,null,null,null,null,null,null,null,null,null,null,null,null,null,null,null,null,null,null,null,null,null,null,null,null,null,null,"労働組合の名称及び当該労働組合を代表する者の氏名\n又は第一号厚生年金被保険者の過半数を代表する者の氏名"]
[]
[]
[]
[]
[]
[]
[]
[]
[]
[]
[]
[]
[]
[]
[]
[null,null,null,null,null,null,null,null,null,null,null,null,null,"同意書"]
[]
[]
[]
[]
[]
[]
[null,null,null,null,null,null,null,null,null,null,null,null,null,"　確定拠出年金法の規定に基づく中小事業主掛金の拠出の対象となる者の資格を定めることに\n同意します。"]

{"sheet":"K-301","index":5,"n_rows":128,"n_cols":80,"rows_kept":128,"cut":false,"hidden":false,"merged":[[127,4,128,29],[109,58,111,59],[109,60,111,61],[109,62,111,63],[109,64,111,79],[111,4,112,29],[111,34,112,38],[112,43,126,63],[112,64,126,79],[113,4,114,29],[115,4,116,29],[117,4,118,29],[119,4,120,29],[121,4,122,29],[123,4,124,29],[125,4,126,29],[97,4,101,11],[97,12,101,79],[102,4,103,79],[109,4,110,29],[109,30,110,38],[109,43,111,48],[109,49,111,51],[109,52,111,53],[109,54,111,55],[109,56,111,57],[90,4,92,79],[93,4,96,11],[93,12,96,18],[93,19,96,22],[93,23,96,26],[93,27,96,30],[93,31,96,34],[74,11,77,15],[74,16,77,75],[74,76,77,79],[78,8,85,79],[87,4,88,5],[87,6,88,79],[56,4,85,7],[63,12,65,79],[66,8,69,12],[66,13,69,75],[66,76,69,79],[70,11,70,79],[71,11,73,14],[71,15,73,79],[53,45,54,46],[53,49,54,50],[53,53,54,54],[53,57,54,58],[53,61,54,62],[56,8,58,79],[59,8,61,11],[59,12,61,79],[63,8,65,11],[52,10,55,13],[52,64,55,79],[53,14,55,15],[53,17,54,18],[53,21,54,22],[53,25,54,26],[53,29,54,30],[53,33,54,34],[49,44,51,47],[49,48,51,51],[49,52,51,55],[49,56,51,59],[49,60,51,63],[46,57,47,58],[46,61,47,62],[46,41,47,42],[46,45,47,46],[46,49,47,50],[46,53,47,54],[49,24,51,27],[49,28,51,31],[49,32,51,35],[49,36,51,39],[46,33,47,34],[46,37,47,38],[53,37,54,38],[53,41,54,42],[49,40,51,43],[36,4,55,7],[36,8,41,79],[42,8,44,15],[42,16,44,19],[42,20,44,23],[42,24,44,27],[42,28,44,31],[42,32,44,35],[42,36,44,39],[42,40,44,43],[42,44,44,47],[42,48,44,51],[42,52,44,55],[42,56,44,59],[42,60,44,63],[45,10,48,13],[46,17,47,18],[46,21,47,22],[46,25,47,26],[46,29,47,30],[47,14,48,15],[49,8,51,15],[49,16,51,19],[49,20,51,23],[26,4,27,5],[26,6,27,79],[29,4,31,79],[32,4,35,12],[32,13,35,19],[32,20,35,23],[32,24,35,27],[32,28,35,31],[32,32,35,35],[33,36,34,79],[16,4,24,12],[16,20,17,79],[18,13,19,14],[18,15,19,20],[18,21,19,22],[18,23,19,30],[18,71,19,78],[18,79,19,79],[21,13,24,20],[21,21,24,24],[21,25,24,30],[21,31,24,34],[21,35,24,41],[21,42,24,45],[21,46,24,79],[18,41,19,48],[18,49,19,49],[18,50,19,57],[18,58,19,59],[18,60,19,68],[18,69,19,70],[6,4,7,10],[8,4,9,10],[10,4,11,19],[10,20,15,27],[10,28,11,79],[12,4,15,5],[12,6,15,7],[12,8,15,9],[12,10,15,11],[12,12,15,13],[12,14,15,15],[12,16,15,17],[12,18,15,19],[12,28,15,79]]}
[]
[]
[]
[]
[]
[]
[null,null,null,null,"届書コード"]
[]
[null,null,null,null,"０７０２１"]
[]
[null,null,null,null,"登 録 事 業 所 番 号",null,null,null,null,null,null,null,null,null,null,null,null,null,null,null,"事業所名称",null,null,null,null,null,null,null,{"$f":"基本情報!C6","v":"カ）　コンノデザイン"}]
[]
[null,null,null,null,{"$f":"基本情報!H20","v":""},null,{"$f":"基本情報!I20","v":""},null,{"$f":"基本情報!J20","v":""},null,{"$f":"基本情報!K20","v":""},null,{"$f":"基本情報!L20","v":""},null,{"$f":"基本情報!M20","v":""},null,{"$f":"基本情報!N20","v":""},null,{"$f":"基本情報!O20","v":""},null,null,null,null,null,null,null,null,null,{"$f":"基本情報!C7","v":"株式会社今野デザイン"}]
[]
[]
[]
[null,null,null,null,"所　在　地",null,null,null,null,null,null,null,null,null,null,null,null,null,null,null,{"$f":"基本情報!C13","v":"ヒョウゴケンコウベシヒガシナダクミカゲ"}]
[]
[null,null,null,null,null,null,null,null,null,null,null,null,null,"〒",null,{"$f":"基本情報!H11","v":"658"},null,null,null,null,null,"－",null,{"$f":"基本情報!I11","v":"0047"},null,null,null,null,null,null,null,null,null,null,null,null,null,null,null,null,null,"連絡先電話番号",null,null,null,null,null,null,null,"(",{"$f":"IF(基本情報!C18=\"\",\"\",基本情報!C18)","v":"078"},null,null,null,null,null,null,null,"-",null,{"$f":"IF(基本情報!D18=\"\",\"\",基本情報!D18)","v":"111"},null,null,null,null,null,null,null,null,"-",null,{"$f":"IF(基本情報!E18=\"\",\"\",基本情報!E18)","v":"2222"},null,null,null,null,null,null,null,"）"]
[]
[]
[null,null,null,null,null,null,null,null,null,null,null,null,null,{"$f":"基本情報!C16","v":"兵庫"},null,null,null,null,null,null,null,"都　道\n府　県",null,null,null,{"$f":"IF(基本情報!D16=\"\",\"\",基本情報!D16)","v":""},null,null,null,null,null,"\n郡",null,null,null,{"$f":"基本情報!E16","v":"神戸市東灘"},null,null,null,null,null,null,"市　区\n町　村",null,null,null,{"$f":"基本情報!F16","v":"御影〇－〇－〇"}]
[]
[]
[]
[]
[null,null,null,null,"　",null,"１．　中小事業主掛金の拠出を開始する場合、レ点および以下をご記入ください。"]
[]
[]
[null,null,null,null,"　　中小事業主掛金対象者登録届、様式第１０号、様式第１１号、様式第１５号又は１６号（※）を添付してください。"]
[]
[]
[null,null,null,null,"開始年月",null,null,null,null,null,null,null,null,"９ ： 令和",null,null,null,null,null,null,0,null,null,null,3,null,null,null,0,null,null,null,9]
[null,null,null,null,null,null,null,null,null,null,null,null,null,null,null,null,null,null,null,null,null,null,null,null,null,null,null,null,null,null,null,null,null,null,null,null,"開始年月の翌月以降、直近の納付月から引落しを開始します。"]
[]
[]
[null,null,null,null,"掛 金　の　納　付　月",null,null,null,"　事業主が中小事業主掛金を納付する月（口座引落し月）にレ点をご記入ください。\n　毎月２６日（金融機関が休業日の場合は、翌営業日）が口座引落日です。"]
[]
[]
[]
[]
[]
[null,null,null,null,null,null,null,null,"当　　年",null,null,null,null,null,null,null,"1月\n(12月分)",null,null,null,"2月\n(1月分)",null,null,null,"3月\n(2月分)",null,null,null,"4月\n(3月分)",null,null,null,"5月\n(4月分)",null,null,null,"6月\n(5月分)",null,null,null,"7月\n(6月分)",null,null,null,"8月\n(7月分)",null,null,null,"9月\n(8月分)",null,null,null,"10月\n(9月分)",null,null,null,"11月\n(10月分)",null,null,null,"12月\n(11月分)"]
[]
[]
[null,null,null,null,null,null,null,null,"令和",null,3]
[null,null,null,null,null,null,null,null,null,null,null,null,null,null,null,null,null,"　",null,null,null,"　",null,null,null,"　",null,null,null,"　",null,null,null,"　",null,null,null,"　",null,null,null,"　",null,null,null,"　",null,null,null,"レ",null,null,null,"レ",null,null,null,"レ",null,null,null,"レ"]
[null,null,null,null,null,null,null,null,null,null,null,null,null,null,"年"]
[]
[null,null,null,null,null,null,null,null,"翌年以降",null,null,null,null,null,null,null,"1月\n(12月分)",null,null,null,"2月\n(1月分)",null,null,null,"3月\n(2月分)",null,null,null,"4月\n(3月分)",null,null,null,"5月\n(4月分)",null,null,null,"6月\n(5月分)",null,null,null,"7月\n(6月分)",null,null,null,"8月\n(7月分)",null,null,null,"9月\n(8月分)",null,null,null,"10月\n(9月分)",null,null,null,"11月\n(10月分)",null,null,null,"12月\n(11月分)"]
[]
[]
[null,null,null,null,null,null,null,null,"令和",null,4,null,null,null,null,null,null,null,null,null,null,null,null,null,null,null,null,null,null,null,null,null,null,null,null,null,null,null,null,null,null,null,null,null,null,null,null,null,null,null,null,null,null,null,null,null,null,null,null,null,null,null,null,null,"　（　）内は何月分の掛金\n　であるかを表記しています。"]
[null,null,null,null,null,null,null,null,null,null,null,null,null,null,"年\n以降",null,null,"レ",null,null,null,"レ",null,null,null,"レ",null,null,null,"レ",null,null,null,"レ",null,null,null,"レ",null,null,null,"レ",null,null,null,"レ",null,null,null,"レ",null,null,null,"レ",null,null,null,"レ",null,null,null,"レ"]
[]
[]
[null,null,null,null,"対　象　者　等　の　条　件",null,null,null,"　以下のいずれかを選択してください。"]
[]
[]
[null,null,null,null,null,null,null,null,"○",null,null,null,"１．中小事業主掛金を拠出する対象者について、一定の資格を定めません。\n  （厚生年金に適用されている全従業員を対象とし、一律の中小事業主掛金額を拠出します。）"]
[]
[]
[]
[null,null,null,null,null,null,null,null,"○",null,null,null,"２．中小事業主掛金を拠出する対象者について、以下の一定の資格（職種又は勤続期間に限る。）を定めます。"]
[]
[]
[null,null,null,null,null,null,null,null,"資格",null,null,null,null,"〔勤続期間３年以上",null,null,null,null,null,null,null,null,null,null,null,null,null,null,null,null,null,null,null,null,null,null,null,null,null,null,null,null,null,null,null,null,null,null,null,null,null,null,null,null,null,null,null,null,null,null,null,null,null,null,null,null,null,null,null,null,null,null,null,null,null,null,"〕"]
[]
[]
[]
[null,null,null,null,null,null,null,null,null,null,null,"以下に該当する場合は、選択してください。"]
[null,null,null,null,null,null,null,null,null,null,null,"　",null,null,null,"一定の資格（職種・勤続期間）以外に、中小事業主掛金を拠出する対象者について、労働協約又は就業規則その他これらに準ずるものにおける給与及び退職金等の労働条件が異なるなど合理的な理由がある場合において資格を区分し、資格ごとに事業主掛金の額を定めます。"]
[]
[]
[null,null,null,null,null,null,null,null,null,null,null,"区分",null,null,null,null,"〔",null,null,null,null,null,null,null,null,null,null,null,null,null,null,null,null,null,null,null,null,null,null,null,null,null,null,null,null,null,null,null,null,null,null,null,null,null,null,null,null,null,null,null,null,null,null,null,null,null,null,null,null,null,null,null,null,null,null,null,"〕"]
[]
[]
[]
[null,null,null,null,null,null,null,null,"　　　　　　　　以下の書類も添付してください。\n　　　　　　　　・上記２．の拠出対象者に一定の資格（職種・勤続期間）を定める場合は様式第12号\n　　　　　　　　・一定の資格（職種・勤続期間）やそれ以外の資格ごとに事業主掛金の額を定める場合は「資格別中小事業主掛金届」\n　　　　　　　　・①一定の職種により拠出対象者の資格を定める場合は一定の職種及びそれ以外の職種の労働条件、②一定の勤続期間以外の資格ごと に\n                    事業主掛金の額を定める場合は資格ごとの労働条件、が規定されている労働協約又は就業規則などの写し"]
[]
[]
[]
[]
[]
[]
[]
[]
[null,null,null,null,"　",null,"　２．中小事業主掛金の拠出を終了する場合、レ点および以下をご記入ください。"]
[]
[]
[null,null,null,null,"　様式第１４号、様式第１５号又は１６号（※）を添付してください。"]
[]
[]
[null,null,null,null,"終了年月",null,null,null,null,null,null,null,"９ ： 令和"]
[]
[]
[]
[null,null,null,null,"終了理由"]
[]
[]
[]
[]
[null,null,null,null,"※従業員の過半数で組織する労働組合がある場合様式第１５号、労働組合がない場合様式第１６号を添付してください。"]
[]
[]
[]
[]
[]
[]
[null,null,null,null,"各種届書・添付書類",null,null,null,null,null,null,null,null,null,null,null,null,null,null,null,null,null,null,null,null,null,null,null,null,null,"確認",null,null,null,null,null,null,null,null,null,null,null,null,"連合会",null,null,null,null,null,"９：\n令和",null,null,null,null,null,null,null,null,null,null,null,null,null,null,"厚生労働省"]
[]
[null,null,null,null,"中小事業主掛金対象者登録届",null,null,null,null,null,null,null,null,null,null,null,null,null,null,null,null,null,null,null,null,null,null,null,null,null,null,null,null,null,"　　　　枚"]
[]
[null,null,null,null,"資格別中小事業主掛金届"]
[]
[null,null,null,null,"資格を定める規定等の写し"]
[]
[null,null,null,null,"様式第１０号"]
[]
[null,null,null,null,"様式第１１号"]
[]
[null,null,null,null,"様式第１２号"]
[]
[null,null,null,null,"様式第１４号"]
[]
[null,null,null,null,"様式第１５号"]
[]
[null,null,null,null,"様式第１６号"]

{"sheet":"K-303","index":6,"n_rows":379,"n_cols":108,"rows_kept":379,"cut":false,"hidden":false,"merged":[[4,2,5,17],[4,18,5,75],[6,2,10,3],[6,4,10,5],[6,6,10,7],[6,8,10,9],[6,10,10,11],[6,12,10,13],[6,14,10,15],[6,16,10,17],[13,107,15,110],[16,2,19,4],[16,5,19,7],[16,8,19,10],[16,11,19,13],[16,14,19,15],[16,16,19,18],[16,19,19,21],[16,22,19,24],[16,25,19,27],[13,83,15,86],[13,87,15,90],[13,91,15,94],[13,95,15,98],[13,99,15,102],[13,103,15,106],[6,18,7,75],[8,18,10,75],[11,2,15,33],[11,34,15,51],[11,52,12,110],[13,63,15,66],[13,67,15,70],[13,71,15,74],[13,75,15,78],[13,79,15,82],[16,91,19,94],[16,95,19,98],[16,99,19,102],[16,103,19,106],[16,107,19,110],[19,34,23,51],[20,67,23,70],[20,71,23,74],[20,75,23,78],[20,79,23,82],[16,67,19,70],[16,71,19,74],[16,75,19,78],[16,79,19,82],[16,83,19,86],[16,87,19,90],[16,28,19,30],[16,31,19,33],[16,34,18,51],[16,52,19,54],[16,57,19,60],[16,63,19,66],[20,107,23,110],[24,2,27,4],[24,5,27,7],[24,8,27,10],[24,11,27,13],[24,14,27,15],[24,16,27,18],[24,19,27,21],[24,22,27,24],[24,25,27,27],[20,83,23,86],[20,87,23,90],[20,91,23,94],[20,95,23,98],[20,99,23,102],[20,103,23,106],[20,25,23,27],[20,28,23,30],[20,31,23,33],[20,52,23,54],[20,57,23,60],[20,63,23,66],[20,2,23,5],[20,6,23,10],[20,11,23,15],[20,16,23,18],[20,19,23,21],[20,22,23,24],[24,91,27,94],[24,95,27,98],[24,99,27,102],[24,103,27,106],[24,107,27,110],[27,34,31,51],[28,67,31,70],[28,71,31,74],[28,75,31,78],[28,79,31,82],[24,67,27,70],[24,71,27,74],[24,75,27,78],[24,79,27,82],[24,83,27,86],[24,87,27,90],[24,28,27,30],[24,31,27,33],[24,34,26,51],[24,52,27,54],[24,55,27,62],[24,63,27,66],[28,107,31,110],[32,2,35,4],[32,5,35,7],[32,8,35,10],[32,11,35,13],[32,14,35,15],[32,16,35,18],[32,19,35,21],[32,22,35,24],[32,25,35,27],[28,83,31,86],[28,87,31,90],[28,91,31,94],[28,95,31,98],[28,99,31,102],[28,103,31,106],[28,25,31,27],[28,28,31,30],[28,31,31,33],[28,52,31,54],[28,55,31,62],[28,63,31,66],[28,2,31,5],[28,6,31,10],[28,11,31,15],[28,16,31,18],[28,19,31,21],[28,22,31,24],[32,91,35,94],[32,95,35,98],[32,99,35,102],[32,103,35,106],[32,107,35,110],[35,34,39,51],[36,67,39,70],[36,71,39,74],[36,75,39,78],[36,79,39,82],[32,67,35,70],[32,71,35,74],[32,75,35,78],[32,79,35,82],[32,83,35,86],[32,87,35,90],[32,28,35,30],[32,31,35,33],[32,34,34,51],[32,52,35,54],[32,55,35,62],[32,63,35,66],[36,107,39,110],[40,2,43,4],[40,5,43,7],[40,8,43,10],[40,11,43,13],[40,14,43,15],[40,16,43,18],[40,19,43,21],[40,22,43,24],[40,25,43,27],[36,83,39,86],[36,87,39,90],[36,91,39,94],[36,95,39,98],[36,99,39,102],[36,103,39,106],[36,25,39,27],[36,28,39,30],[36,31,39,33],[36,52,39,54],[36,55,39,62],[36,63,39,66],[36,2,39,5],[36,6,39,10],[36,11,39,15],[36,16,39,18],[36,19,39,21],[36,22,39,24],[40,91,43,94],[40,95,43,98],[40,99,43,102],[40,103,43,106],[40,107,43,110],[43,34,47,51],[44,67,47,70],[44,71,47,74],[44,75,47,78],[44,79,47,82],[40,67,43,70],[40,71,43,74],[40,75,43,78],[40,79,43,82],[40,83,43,86],[40,87,43,90],[40,28,43,30],[40,31,43,33],[40,34,42,51],[40,52,43,54],[40,55,43,62],[40,63,43,66],[44,107,47,110],[48,2,51,4],[48,5,51,7],[48,8,51,10],[48,11,51,13],[48,14,51,15],[48,16,51,18],[48,19,51,21],[48,22,51,24],[48,25,51,27],[44,83,47,86],[44,87,47,90],[44,91,47,94],[44,95,47,98],[44,99,47,102],[44,103,47,106],[44,25,47,27],[44,28,47,30],[44,31,47,33],[44,52,47,54],[44,55,47,62],[44,63,47,66],[44,2,47,5],[44,6,47,10],[44,11,47,15],[44,16,47,18],[44,19,47,21],[44,22,47,24],[48,91,51,94],[48,95,51,98],[48,99,51,102],[48,103,51,106],[48,107,51,110],[51,34,55,51],[52,71,55,74],[52,75,55,78],[52,79,55,82],[52,83,55,86],[48,67,51,70],[48,71,51,74],[48,75,51,78],[48,79,51,82],[48,83,51,86],[48,87,51,90],[48,28,51,30],[48,31,51,33],[48,34,50,51],[48,52,51,54],[48,55,51,62],[48,63,51,66],[58,90,60,91],[58,92,60,93],[58,94,60,110],[61,73,74,93],[61,94,74,110],[84,2,85,17],[84,18,85,75],[58,73,60,78],[58,79,60,81],[58,82,60,83],[58,84,60,85],[58,86,60,87],[58,88,60,89],[52,87,55,90],[52,91,55,94],[52,95,55,98],[52,99,55,102],[52,103,55,106],[52,107,55,110],[52,28,55,30],[52,31,55,33],[52,52,55,54],[52,55,55,62],[52,63,55,66],[52,67,55,70],[52,6,55,10],[52,11,55,15],[52,16,55,18],[52,19,55,21],[52,22,55,24],[52,25,55,27],[93,99,95,102],[93,103,95,106],[93,107,95,110],[96,2,99,4],[96,5,99,7],[96,8,99,10],[96,11,99,13],[96,14,99,15],[96,16,99,18],[96,19,99,21],[93,75,95,78],[93,79,95,82],[93,83,95,86],[93,87,95,90],[93,91,95,94],[93,95,95,98],[86,14,90,15],[86,16,90,17],[86,18,87,75],[88,18,90,75],[91,2,95,33],[91,34,95,51],[91,52,92,110],[93,63,95,66],[93,67,95,70],[93,71,95,74],[86,2,90,3],[86,4,90,5],[86,6,90,7],[86,8,90,9],[86,10,90,11],[86,12,90,13],[96,107,99,110],[99,34,103,51],[100,2,103,5],[100,6,103,10],[100,11,103,15],[100,16,103,18],[100,19,103,21],[100,22,103,24],[100,25,103,27],[100,28,103,30],[96,83,99,86],[96,87,99,90],[96,91,99,94],[96,95,99,98],[96,99,99,102],[96,103,99,106],[96,57,99,60],[96,63,99,66],[96,67,99,70],[96,71,99,74],[96,75,99,78],[96,79,99,82],[96,22,99,24],[96,25,99,27],[96,28,99,30],[96,31,99,33],[96,34,98,51],[96,52,99,54],[100,99,103,102],[100,103,103,106],[100,107,103,110],[104,5,107,7],[104,8,107,10],[104,11,107,13],[104,14,107,15],[104,16,107,18],[104,19,107,21],[100,75,103,78],[100,79,103,82],[100,83,103,86],[100,87,103,90],[100,91,103,94],[100,95,103,98],[100,31,103,33],[100,52,103,54],[100,57,103,60],[100,63,103,66],[100,67,103,70],[100,71,103,74],[104,107,107,110],[107,34,111,51],[108,2,111,5],[108,6,111,10],[108,11,111,15],[108,16,111,18],[108,19,111,21],[108,22,111,24],[108,25,111,27],[108,28,111,30],[104,83,107,86],[104,87,107,90],[104,91,107,94],[104,95,107,98],[104,99,107,102],[104,103,107,106],[104,55,107,62],[104,63,107,66],[104,67,107,70],[104,71,107,74],[104,75,107,78],[104,79,107,82],[104,22,107,24],[104,25,107,27],[104,28,107,30],[104,31,107,33],[104,34,106,51],[104,52,107,54],[108,99,111,102],[108,103,111,106],[108,107,111,110],[104,2,107,4],[112,5,115,7],[112,8,115,10],[112,11,115,13],[112,14,115,15],[112,16,115,18],[112,19,115,21],[108,75,111,78],[108,79,111,82],[108,83,111,86],[108,87,111,90],[108,91,111,94],[108,95,111,98],[108,31,111,33],[108,52,111,54],[108,55,111,62],[108,63,111,66],[108,67,111,70],[108,71,111,74],[112,107,115,110],[115,34,119,51],[116,2,119,5],[116,6,119,10],[116,11,119,15],[116,16,119,18],[116,19,119,21],[116,22,119,24],[116,25,119,27],[116,28,119,30],[112,83,115,86],[112,87,115,90],[112,91,115,94],[112,95,115,98],[112,99,115,102],[112,103,115,106],[112,55,115,62],[112,63,115,66],[112,67,115,70],[112,71,115,74],[112,75,115,78],[112,79,115,82],[112,22,115,24],[112,25,115,27],[112,28,115,30],[112,31,115,33],[112,34,114,51],[112,52,115,54],[116,99,119,102],[116,103,119,106],[116,107,119,110],[112,2,115,4],[120,5,123,7],[120,8,123,10],[120,11,123,13],[120,14,123,15],[120,16,123,18],[120,19,123,21],[116,75,119,78],[116,79,119,82],[116,83,119,86],[116,87,119,90],[116,91,119,94],[116,95,119,98],[116,31,119,33],[116,52,119,54],[116,55,119,62],[116,63,119,66],[116,67,119,70],[116,71,119,74],[120,107,123,110],[123,34,127,51],[124,2,127,5],[124,6,127,10],[124,11,127,15],[124,16,127,18],[124,19,127,21],[124,22,127,24],[124,25,127,27],[124,28,127,30],[120,83,123,86],[120,87,123,90],[120,91,123,94],[120,95,123,98],[120,99,123,102],[120,103,123,106],[120,55,123,62],[120,63,123,66],[120,67,123,70],[120,71,123,74],[120,75,123,78],[120,79,123,82],[120,22,123,24],[120,25,123,27],[120,28,123,30],[120,31,123,33],[120,34,122,51],[120,52,123,54],[124,99,127,102],[124,103,127,106],[124,107,127,110],[120,2,123,4],[128,2,131,4],[128,5,131,7],[128,8,131,10],[128,11,131,13],[128,14,131,15],[128,16,131,18],[128,19,131,21],[124,75,127,78],[124,79,127,82],[124,83,127,86],[124,87,127,90],[124,91,127,94],[124,95,127,98],[124,31,127,33],[124,52,127,54],[124,55,127,62],[124,63,127,66],[124,67,127,70],[124,71,127,74],[128,107,131,110],[131,34,135,51],[132,6,135,10],[132,11,135,15],[132,16,135,18],[132,19,135,21],[132,22,135,24],[132,25,135,27],[132,28,135,30],[132,31,135,33],[128,83,131,86],[128,87,131,90],[128,91,131,94],[128,95,131,98],[128,99,131,102],[128,103,131,106],[128,55,131,62],[128,63,131,66],[128,67,131,70],[128,71,131,74],[128,75,131,78],[128,79,131,82],[128,22,131,24],[128,25,131,27],[128,28,131,30],[128,31,131,33],[128,34,130,51],[128,52,131,54],[138,94,140,110],[141,73,154,93],[141,94,154,110],[164,2,165,17],[164,18,165,75],[166,2,170,3],[166,4,170,5],[166,6,170,7],[166,8,170,9],[166,10,170,11],[132,103,135,106],[132,107,135,110],[138,73,140,78],[138,79,140,81],[138,82,140,83],[138,84,140,85],[138,86,140,87],[138,88,140,89],[138,90,140,91],[138,92,140,93],[132,79,135,82],[132,83,135,86],[132,87,135,90],[132,91,135,94],[132,95,135,98],[132,99,135,102],[132,52,135,54],[132,55,135,62],[132,63,135,66],[132,67,135,70],[132,71,135,74],[132,75,135,78],[173,95,175,98],[173,99,175,102],[173,103,175,106],[173,107,175,110],[176,2,179,4],[176,5,179,7],[176,8,179,10],[176,11,179,13],[176,14,179,15],[176,16,179,18],[173,71,175,74],[173,75,175,78],[173,79,175,82],[173,83,175,86],[173,87,175,90],[173,91,175,94],[166,12,170,13],[166,14,170,15],[166,16,170,17],[166,18,167,75],[168,18,170,75],[171,2,175,33],[171,34,175,51],[171,52,172,110],[173,63,175,66],[173,67,175,70],[176,103,179,106],[176,107,179,110],[179,34,183,51],[180,2,183,5],[180,6,183,10],[180,11,183,15],[180,16,183,18],[180,19,183,21],[180,22,183,24],[180,25,183,27],[176,79,179,82],[176,83,179,86],[176,87,179,90],[176,91,179,94],[176,95,179,98],[176,99,179,102],[176,52,179,54],[176,57,179,60],[176,63,179,66],[176,67,179,70],[176,71,179,74],[176,75,179,78],[176,19,179,21],[176,22,179,24],[176,25,179,27],[176,28,179,30],[176,31,179,33],[176,34,178,51],[180,95,183,98],[180,99,183,102],[180,103,183,106],[180,107,183,110],[184,2,187,4],[184,5,187,7],[184,8,187,10],[184,11,187,13],[184,14,187,15],[184,16,187,18],[180,71,183,74],[180,75,183,78],[180,79,183,82],[180,83,183,86],[180,87,183,90],[180,91,183,94],[180,28,183,30],[180,31,183,33],[180,52,183,54],[180,57,183,60],[180,63,183,66],[180,67,183,70],[184,103,187,106],[184,107,187,110],[187,34,191,51],[188,2,191,5],[188,6,191,10],[188,11,191,15],[188,16,191,18],[188,19,191,21],[188,22,191,24],[188,25,191,27],[184,79,187,82],[184,83,187,86],[184,87,187,90],[184,91,187,94],[184,95,187,98],[184,99,187,102],[184,52,187,54],[184,55,187,62],[184,63,187,66],[184,67,187,70],[184,71,187,74],[184,75,187,78],[184,19,187,21],[184,22,187,24],[184,25,187,27],[184,28,187,30],[184,31,187,33],[184,34,186,51],[188,95,191,98],[188,99,191,102],[188,103,191,106],[188,107,191,110],[192,2,195,4],[192,5,195,7],[192,8,195,10],[192,11,195,13],[192,14,195,15],[192,16,195,18],[188,71,191,74],[188,75,191,78],[188,79,191,82],[188,83,191,86],[188,87,191,90],[188,91,191,94],[188,28,191,30],[188,31,191,33],[188,52,191,54],[188,55,191,62],[188,63,191,66],[188,67,191,70],[192,103,195,106],[192,107,195,110],[195,34,199,51],[196,2,199,5],[196,6,199,10],[196,11,199,15],[196,16,199,18],[196,19,199,21],[196,22,199,24],[196,25,199,27],[192,79,195,82],[192,83,195,86],[192,87,195,90],[192,91,195,94],[192,95,195,98],[192,99,195,102],[192,52,195,54],[192,55,195,62],[192,63,195,66],[192,67,195,70],[192,71,195,74],[192,75,195,78],[192,19,195,21],[192,22,195,24],[192,25,195,27],[192,28,195,30],[192,31,195,33],[192,34,194,51],[196,95,199,98],[196,99,199,102],[196,103,199,106],[196,107,199,110],[200,2,203,4],[200,5,203,7],[200,8,203,10],[200,11,203,13],[200,14,203,15],[200,16,203,18],[196,71,199,74],[196,75,199,78],[196,79,199,82],[196,83,199,86],[196,87,199,90],[196,91,199,94],[196,28,199,30],[196,31,199,33],[196,52,199,54],[196,55,199,62],[196,63,199,66],[196,67,199,70],[200,103,203,106],[200,107,203,110],[203,34,207,51],[204,2,207,5],[204,6,207,10],[204,11,207,15],[204,16,207,18],[204,19,207,21],[204,22,207,24],[204,25,207,27],[200,79,203,82],[200,83,203,86],[200,87,203,90],[200,91,203,94],[200,95,203,98],[200,99,203,102],[200,52,203,54],[200,55,203,62],[200,63,203,66],[200,67,203,70],[200,71,203,74],[200,75,203,78],[200,19,203,21],[200,22,203,24],[200,25,203,27],[200,28,203,30],[200,31,203,33],[200,34,202,51],[204,95,207,98],[204,99,207,102],[204,103,207,106],[204,107,207,110],[208,2,211,4],[208,5,211,7],[208,8,211,10],[208,11,211,13],[208,14,211,15],[208,16,211,18],[204,71,207,74],[204,75,207,78],[204,79,207,82],[204,83,207,86],[204,87,207,90],[204,91,207,94],[204,28,207,30],[204,31,207,33],[204,52,207,54],[204,55,207,62],[204,63,207,66],[204,67,207,70],[208,103,211,106],[208,107,211,110],[211,34,215,51],[212,6,215,10],[212,11,215,15],[212,16,215,18],[212,19,215,21],[212,22,215,24],[212,25,215,27],[212,28,215,30],[208,79,211,82],[208,83,211,86],[208,87,211,90],[208,91,211,94],[208,95,211,98],[208,99,211,102],[208,52,211,54],[208,55,211,62],[208,63,211,66],[208,67,211,70],[208,71,211,74],[208,75,211,78],[208,19,211,21],[208,22,211,24],[208,25,211,27],[208,28,211,30],[208,31,211,33],[208,34,210,51],[218,92,220,93],[218,94,220,110],[221,73,234,93],[221,94,234,110],[244,2,245,17],[244,18,245,75],[212,99,215,102],[212,103,215,106],[212,107,215,110],[218,73,220,78],[218,79,220,81],[218,82,220,83],[218,84,220,85],[218,86,220,87],[218,88,220,89],[218,90,220,91],[212,75,215,78],[212,79,215,82],[212,83,215,86],[212,87,215,90],[212,91,215,94],[212,95,215,98],[212,31,215,33],[212,52,215,54],[212,55,215,62],[212,63,215,66],[212,67,215,70],[212,71,215,74],[253,99,255,102],[253,103,255,106],[253,107,255,110],[256,2,259,4],[256,5,259,7],[256,8,259,10],[256,11,259,13],[256,14,259,15],[256,16,259,18],[256,19,259,21],[253,75,255,78],[253,79,255,82],[253,83,255,86],[253,87,255,90],[253,91,255,94],[253,95,255,98],[246,14,250,15],[246,16,250,17],[246,18,247,75],[248,18,250,75],[251,2,255,33],[251,34,255,51],[251,52,252,110],[253,63,255,66],[253,67,255,70],[253,71,255,74],[246,2,250,3],[246,4,250,5],[246,6,250,7],[246,8,250,9],[246,10,250,11],[246,12,250,13],[256,107,259,110],[259,34,263,51],[260,2,263,5],[260,6,263,10],[260,11,263,15],[260,16,263,18],[260,19,263,21],[260,22,263,24],[260,25,263,27],[260,28,263,30],[256,83,259,86],[256,87,259,90],[256,91,259,94],[256,95,259,98],[256,99,259,102],[256,103,259,106],[256,57,259,60],[256,63,259,66],[256,67,259,70],[256,71,259,74],[256,75,259,78],[256,79,259,82],[256,22,259,24],[256,25,259,27],[256,28,259,30],[256,31,259,33],[256,34,258,51],[256,52,259,54],[260,99,263,102],[260,103,263,106],[260,107,263,110],[264,5,267,7],[264,8,267,10],[264,11,267,13],[264,14,267,15],[264,16,267,18],[264,19,267,21],[260,75,263,78],[260,79,263,82],[260,83,263,86],[260,87,263,90],[260,91,263,94],[260,95,263,98],[260,31,263,33],[260,52,263,54],[260,57,263,60],[260,63,263,66],[260,67,263,70],[260,71,263,74],[264,107,267,110],[267,34,271,51],[268,2,271,5],[268,6,271,10],[268,11,271,15],[268,16,271,18],[268,19,271,21],[268,22,271,24],[268,25,271,27],[268,28,271,30],[264,83,267,86],[264,87,267,90],[264,91,267,94],[264,95,267,98],[264,99,267,102],[264,103,267,106],[264,55,267,62],[264,63,267,66],[264,67,267,70],[264,71,267,74],[264,75,267,78],[264,79,267,82],[264,22,267,24],[264,25,267,27],[264,28,267,30],[264,31,267,33],[264,34,266,51],[264,52,267,54],[268,99,271,102],[268,103,271,106],[268,107,271,110],[264,2,267,4],[272,5,275,7],[272,8,275,10],[272,11,275,13],[272,14,275,15],[272,16,275,18],[272,19,275,21],[268,75,271,78],[268,79,271,82],[268,83,271,86],[268,87,271,90],[268,91,271,94],[268,95,271,98],[268,31,271,33],[268,52,271,54],[268,55,271,62],[268,63,271,66],[268,67,271,70],[268,71,271,74],[272,107,275,110],[275,34,279,51],[276,2,279,5],[276,6,279,10],[276,11,279,15],[276,16,279,18]],"merged_total":1435,"flags":["merged_cut"]}
[]
[]
[]
[]
[null,null,"登 録 事 業 所 番 号",null,null,null,null,null,null,null,null,null,null,null,null,null,null,null,"登　　　　録　　　　事　　　　業　　　　所　　　　名　　　　称"]
[]
[null,null,{"$f":"基本情報!H20","v":""},null,{"$f":"基本情報!I20","v":""},null,{"$f":"基本情報!J20","v":""},null,{"$f":"基本情報!K20","v":""},null,{"$f":"基本情報!L20","v":""},null,{"$f":"基本情報!M20","v":""},null,{"$f":"基本情報!N20","v":""},null,{"$f":"基本情報!O20","v":""},null,{"$f":"基本情報!C6","v":"カ）　コンノデザイン"}]
[]
[null,null,null,null,null,null,null,null,null,null,null,null,null,null,null,null,null,null,{"$f":"基本情報!C7","v":"株式会社今野デザイン"}]
[]
[]
[null,null,"基礎年金番号\n性別・生年月日※",null,null,null,null,null,null,null,null,null,null,null,null,null,null,null,null,null,null,null,null,null,null,null,null,null,null,null,null,null,null,null,"氏名",null,null,null,null,null,null,null,null,null,null,null,null,null,null,null,null,null,"中小事業主掛金額（千円単位）"]
[]
[null,null,null,null,null,null,null,null,null,null,null,null,null,null,null,null,null,null,null,null,null,null,null,null,null,null,null,null,null,null,null,null,null,null,null,null,null,null,null,null,null,null,null,null,null,null,null,null,null,null,null,null,null,null,null,null,null,null,null,null,null,null,"納付月","1月\n（12月分）",null,null,null,"2月\n（1月分）",null,null,null,"3月\n（2月分）",null,null,null,"4月\n（3月分）",null,null,null,"5月\n（4月分）",null,null,null,"6月\n（5月分）",null,null,null,"7月\n（6月分）",null,null,null,"8月\n（7月分）",null,null,null,"9月\n（8月分）",null,null,null,"10月\n（9月分）",null,null,null,"11月\n（10月分）",null,null,null,"12月\n（11月分）"]
[]
[null,null,null,null,null,null,null,null,null,null,null,null,null,null,null,null,null,null,null,null,null,null,null,null,null,null,null,null,null,null,null,null,null,null,null,null,null,null,null,null,null,null,null,null,null,null,null,null,null,null,null,null,"年"]
[1,null,{"$f":"IF(VLOOKUP(A17,対象者情報!$B$8:$Z$32,2,FALSE)=0,\"\",VLOOKUP(A17,対象者情報!$B$8:$Z$32,16,FALSE))","v":"1"},null,null,{"$f":"IF(VLOOKUP(A17,対象者情報!$B$8:$Z$32,2,FALSE)=0,\"\",VLOOKUP(A17,対象者情報!$B$8:$Z$32,17,FALSE))","v":"2"},null,null,{"$f":"IF(VLOOKUP(A17,対象者情報!$B$8:$Z$32,2,FALSE)=0,\"\",VLOOKUP(A17,対象者情報!$B$8:$Z$32,18,FALSE))","v":"3"},null,null,{"$f":"IF(VLOOKUP(A17,対象者情報!$B$8:$Z$32,2,FALSE)=0,\"\",VLOOKUP(A17,対象者情報!$B$8:$Z$32,19,FALSE))","v":"4"},null,null,"－",null,{"$f":"IF(VLOOKUP(A17,対象者情報!$B$8:$Z$32,2,FALSE)=0,\"\",VLOOKUP(A17,対象者情報!$B$8:$Z$32,20,FALSE))","v":"5"},null,null,{"$f":"IF(VLOOKUP(A17,対象者情報!$B$8:$Z$32,2,FALSE)=0,\"\",VLOOKUP(A17,対象者情報!$B$8:$Z$32,21,FALSE))","v":"6"},null,null,{"$f":"IF(VLOOKUP(A17,対象者情報!$B$8:$Z$32,2,FALSE)=0,\"\",VLOOKUP(A17,対象者情報!$B$8:$Z$32,22,FALSE))","v":"7"},null,null,{"$f":"IF(VLOOKUP(A17,対象者情報!$B$8:$Z$32,2,FALSE)=0,\"\",VLOOKUP(A17,対象者情報!$B$8:$Z$32,23,FALSE))","v":"8"},null,null,{"$f":"IF(VLOOKUP(A17,対象者情報!$B$8:$Z$32,2,FALSE)=0,\"\",VLOOKUP(A17,対象者情報!$B$8:$Z$32,24,FALSE))","v":"9"},null,null,{"$f":"IF(VLOOKUP(A17,対象者情報!$B$8:$Z$32,2,FALSE)=0,\"\",VLOOKUP(A17,対象者情報!$B$8:$Z$32,25,FALSE))","v":"0"},null,null,{"$f":"IF(VLOOKUP(A17,対象者情報!$B$8:$G$32,3,FALSE)=0,\"\",VLOOKUP(A17,対象者情報!$B$8:$G$32,3,FALSE))","v":"コンノ　トモオ"},null,null,null,null,null,null,null,null,null,null,null,null,null,null,null,null,null,"当年",null,null,"令和",null,3,null,null,null,null,null,null,null,null,null,null,null,null,null,null,null,null,null,null,null,null,null,null,null,null,null,null,null,null,null,null,null,null,null,null,null,null,null,22,null,null,null,22,null,null,null,22,null,null,null,22]
[]
[null,null,null,null,null,null,null,null,null,null,null,null,null,null,null,null,null,null,null,null,null,null,null,null,null,null,null,null,null,null,null,null,null,null,null,null,null,null,null,null,null,null,null,null,null,null,null,null,null,null,null,null,null,null,null,null,null,null,null,null,null,null,"年"]
[null,null,null,null,null,null,null,null,null,null,null,null,null,null,null,null,null,null,null,null,null,null,null,null,null,null,null,null,null,null,null,null,null,null,{"$f":"IF(VLOOKUP(A17,対象者情報!$B$8:$G$32,2,FALSE)=0,\"\",VLOOKUP(A17,対象者情報!$B$8:$G$32,2,FALSE))","v":"今野　友夫"}]
[null,null,null,null,null,null,{"$f":"IF(VLOOKUP(A17,対象者情報!$B$8:$G$32,4,FALSE)=0,\"\",IF(VLOOKUP(A17,対象者情報!$B$8:$G$32,4,FALSE)=\"男\",\"1　男\",\"2　女\"))","v":"1　男"},null,null,null,null,{"$f":"IF(VLOOKUP(A17,対象者情報!$B$8:$Z$32,8,FALSE)=0,\"\",IF(VLOOKUP(A17,対象者情報!$B$8:$Z$32,8,FALSE)=\"昭和\",\"5　昭和\",IF(VLOOKUP(A17,対象者情報!$B$8:$Z$32,8,FALSE)=\"平成\",\"7　平成\",\"\")))","v":"5　昭和"},null,null,null,null,{"$f":"IF(VLOOKUP(A17,対象者情報!$B$8:$Z$32,2,FALSE)=0,\"\",VLOOKUP(A17,対象者情報!$B$8:$Z$32,10,FALSE))","v":"5"},null,null,{"$f":"IF(VLOOKUP(A17,対象者情報!$B$8:$Z$32,2,FALSE)=0,\"\",VLOOKUP(A17,対象者情報!$B$8:$Z$32,11,FALSE))","v":"0"},null,null,{"$f":"IF(VLOOKUP(A17,対象者情報!$B$8:$Z$32,2,FALSE)=0,\"\",VLOOKUP(A17,対象者情報!$B$8:$Z$32,12,FALSE))","v":"1"},null,null,{"$f":"IF(VLOOKUP(A17,対象者情報!$B$8:$Z$32,2,FALSE)=0,\"\",VLOOKUP(A17,対象者情報!$B$8:$Z$32,13,FALSE))","v":"0"},null,null,{"$f":"IF(VLOOKUP(A17,対象者情報!$B$8:$Z$32,2,FALSE)=0,\"\",VLOOKUP(A17,対象者情報!$B$8:$Z$32,14,FALSE))","v":"2"},null,null,{"$f":"IF(VLOOKUP(A17,対象者情報!$B$8:$Z$32,2,FALSE)=0,\"\",VLOOKUP(A17,対象者情報!$B$8:$Z$32,15,FALSE))","v":"1"},null,null,null,null,null,null,null,null,null,null,null,null,null,null,null,null,null,null,null,null,"翌年\n以降",null,null,"令和",null,4,null,null,null,null,null,22,null,null,null,22,null,null,null,22,null,null,null,22,null,null,null,22,null,null,null,22,null,null,null,22,null,null,null,22,null,null,null,22,null,null,null,22,null,null,null,22,null,null,null,22]
[]
[null,null,null,null,null,null,null,null,null,null,null,null,null,null,null,null,null,null,null,null,null,null,null,null,null,null,null,null,null,null,null,null,null,null,null,null,null,null,null,null,null,null,null,null,null,null,null,null,null,null,null,null,null,null,null,null,null,null,null,null,null,null,"年"]
[null,null,null,null,null,null,null,null,null,null,null,null,null,null,null,null,null,null,null,null,null,null,null,null,null,null,null,null,null,null,null,null,null,null,null,null,null,null,null,null,null,null,null,null,null,null,null,null,null,null,null,null,null,null,null,null,null,null,null,null,null,null,"以降"]
[{"$f":"A17+1","v":2},null,{"$f":"IF(VLOOKUP(A25,対象者情報!$B$8:$Z$32,2,FALSE)=0,\"\",VLOOKUP(A25,対象者情報!$B$8:$Z$32,16,FALSE))","v":"1"},null,null,{"$f":"IF(VLOOKUP(A25,対象者情報!$B$8:$Z$32,2,FALSE)=0,\"\",VLOOKUP(A25,対象者情報!$B$8:$Z$32,17,FALSE))","v":"2"},null,null,{"$f":"IF(VLOOKUP(A25,対象者情報!$B$8:$Z$32,2,FALSE)=0,\"\",VLOOKUP(A25,対象者情報!$B$8:$Z$32,18,FALSE))","v":"4"},null,null,{"$f":"IF(VLOOKUP(A25,対象者情報!$B$8:$Z$32,2,FALSE)=0,\"\",VLOOKUP(A25,対象者情報!$B$8:$Z$32,19,FALSE))","v":"4"},null,null,"－",null,{"$f":"IF(VLOOKUP(A25,対象者情報!$B$8:$Z$32,2,FALSE)=0,\"\",VLOOKUP(A25,対象者情報!$B$8:$Z$32,20,FALSE))","v":"5"},null,null,{"$f":"IF(VLOOKUP(A25,対象者情報!$B$8:$Z$32,2,FALSE)=0,\"\",VLOOKUP(A25,対象者情報!$B$8:$Z$32,21,FALSE))","v":"5"},null,null,{"$f":"IF(VLOOKUP(A25,対象者情報!$B$8:$Z$32,2,FALSE)=0,\"\",VLOOKUP(A25,対象者情報!$B$8:$Z$32,22,FALSE))","v":"2"},null,null,{"$f":"IF(VLOOKUP(A25,対象者情報!$B$8:$Z$32,2,FALSE)=0,\"\",VLOOKUP(A25,対象者情報!$B$8:$Z$32,23,FALSE))","v":"0"},null,null,{"$f":"IF(VLOOKUP(A25,対象者情報!$B$8:$Z$32,2,FALSE)=0,\"\",VLOOKUP(A25,対象者情報!$B$8:$Z$32,24,FALSE))","v":"1"},null,null,{"$f":"IF(VLOOKUP(A25,対象者情報!$B$8:$Z$32,2,FALSE)=0,\"\",VLOOKUP(A25,対象者情報!$B$8:$Z$32,25,FALSE))","v":"6"},null,null,{"$f":"IF(VLOOKUP(A25,対象者情報!$B$8:$G$32,3,FALSE)=0,\"\",VLOOKUP(A25,対象者情報!$B$8:$G$32,3,FALSE))","v":"コンノ　アサコ"},null,null,null,null,null,null,null,null,null,null,null,null,null,null,null,null,null,"当年",null,null,"（１人目と同年）",null,null,null,null,null,null,null,null,null,null,null,null,null,null,null,null,null,null,null,null,null,null,null,null,null,null,null,null,null,null,null,null,null,null,null,null,null,null,null,22,null,null,null,22,null,null,null,22,null,null,null,22]
[]
[]
[null,null,null,null,null,null,null,null,null,null,null,null,null,null,null,null,null,null,null,null,null,null,null,null,null,null,null,null,null,null,null,null,null,null,{"$f":"IF(VLOOKUP(A25,対象者情報!$B$8:$G$32,2,FALSE)=0,\"\",VLOOKUP(A25,対象者情報!$B$8:$G$32,2,FALSE))","v":"今野　朝子"}]
[null,null,null,null,null,null,{"$f":"IF(VLOOKUP(A25,対象者情報!$B$8:$G$32,4,FALSE)=0,\"\",IF(VLOOKUP(A25,対象者情報!$B$8:$G$32,4,FALSE)=\"男\",\"1　男\",\"2　女\"))","v":"2　女"},null,null,null,null,{"$f":"IF(VLOOKUP(A25,対象者情報!$B$8:$Z$32,8,FALSE)=0,\"\",IF(VLOOKUP(A25,対象者情報!$B$8:$Z$32,8,FALSE)=\"昭和\",\"5　昭和\",IF(VLOOKUP(A25,対象者情報!$B$8:$Z$32,8,FALSE)=\"平成\",\"7　平成\",\"\")))","v":"5　昭和"},null,null,null,null,{"$f":"IF(VLOOKUP(A25,対象者情報!$B$8:$Z$32,2,FALSE)=0,\"\",VLOOKUP(A25,対象者情報!$B$8:$Z$32,10,FALSE))","v":"5"},null,null,{"$f":"IF(VLOOKUP(A25,対象者情報!$B$8:$Z$32,2,FALSE)=0,\"\",VLOOKUP(A25,対象者情報!$B$8:$Z$32,11,FALSE))","v":"3"},null,null,{"$f":"IF(VLOOKUP(A25,対象者情報!$B$8:$Z$32,2,FALSE)=0,\"\",VLOOKUP(A25,対象者情報!$B$8:$Z$32,12,FALSE))","v":"0"},null,null,{"$f":"IF(VLOOKUP(A25,対象者情報!$B$8:$Z$32,2,FALSE)=0,\"\",VLOOKUP(A25,対象者情報!$B$8:$Z$32,13,FALSE))","v":"3"},null,null,{"$f":"IF(VLOOKUP(A25,対象者情報!$B$8:$Z$32,2,FALSE)=0,\"\",VLOOKUP(A25,対象者情報!$B$8:$Z$32,14,FALSE))","v":"0"},null,null,{"$f":"IF(VLOOKUP(A25,対象者情報!$B$8:$Z$32,2,FALSE)=0,\"\",VLOOKUP(A25,対象者情報!$B$8:$Z$32,15,FALSE))","v":"3"},null,null,null,null,null,null,null,null,null,null,null,null,null,null,null,null,null,null,null,null,"翌年\n以降",null,null,"（１人目と同年）",null,null,null,null,null,null,null,22,null,null,null,22,null,null,null,22,null,null,null,22,null,null,null,22,null,null,null,22,null,null,null,22,null,null,null,22,null,null,null,22,null,null,null,22,null,null,null,22,null,null,null,22]
[]
[]
[]
[{"$f":"A25+1","v":3},null,{"$f":"IF(VLOOKUP(A33,対象者情報!$B$8:$Z$32,2,FALSE)=0,\"\",VLOOKUP(A33,対象者情報!$B$8:$Z$32,16,FALSE))","v":"1"},null,null,{"$f":"IF(VLOOKUP(A33,対象者情報!$B$8:$Z$32,2,FALSE)=0,\"\",VLOOKUP(A33,対象者情報!$B$8:$Z$32,17,FALSE))","v":"2"},null,null,{"$f":"IF(VLOOKUP(A33,対象者情報!$B$8:$Z$32,2,FALSE)=0,\"\",VLOOKUP(A33,対象者情報!$B$8:$Z$32,18,FALSE))","v":"5"},null,null,{"$f":"IF(VLOOKUP(A33,対象者情報!$B$8:$Z$32,2,FALSE)=0,\"\",VLOOKUP(A33,対象者情報!$B$8:$Z$32,19,FALSE))","v":"4"},null,null,"－",null,{"$f":"IF(VLOOKUP(A33,対象者情報!$B$8:$Z$32,2,FALSE)=0,\"\",VLOOKUP(A33,対象者情報!$B$8:$Z$32,20,FALSE))","v":"5"},null,null,{"$f":"IF(VLOOKUP(A33,対象者情報!$B$8:$Z$32,2,FALSE)=0,\"\",VLOOKUP(A33,対象者情報!$B$8:$Z$32,21,FALSE))","v":"3"},null,null,{"$f":"IF(VLOOKUP(A33,対象者情報!$B$8:$Z$32,2,FALSE)=0,\"\",VLOOKUP(A33,対象者情報!$B$8:$Z$32,22,FALSE))","v":"6"},null,null,{"$f":"IF(VLOOKUP(A33,対象者情報!$B$8:$Z$32,2,FALSE)=0,\"\",VLOOKUP(A33,対象者情報!$B$8:$Z$32,23,FALSE))","v":"1"},null,null,{"$f":"IF(VLOOKUP(A33,対象者情報!$B$8:$Z$32,2,FALSE)=0,\"\",VLOOKUP(A33,対象者情報!$B$8:$Z$32,24,FALSE))","v":"4"},null,null,{"$f":"IF(VLOOKUP(A33,対象者情報!$B$8:$Z$32,2,FALSE)=0,\"\",VLOOKUP(A33,対象者情報!$B$8:$Z$32,25,FALSE))","v":"2"},null,null,{"$f":"IF(VLOOKUP(A33,対象者情報!$B$8:$G$32,3,FALSE)=0,\"\",VLOOKUP(A33,対象者情報!$B$8:$G$32,3,FALSE))","v":"キヌノベバシ　ミツコ"},null,null,null,null,null,null,null,null,null,null,null,null,null,null,null,null,null,"当年",null,null,"（１人目と同年）",null,null,null,null,null,null,null,null,null,null,null,null,null,null,null,null,null,null,null,null,null,null,null,null,null,null,null,null,null,null,null,null,null,null,null,null,null,null,null,22,null,null,null,22,null,null,null,22,null,null,null,22]
[]
[]
[null,null,null,null,null,null,null,null,null,null,null,null,null,null,null,null,null,null,null,null,null,null,null,null,null,null,null,null,null,null,null,null,null,null,{"$f":"IF(VLOOKUP(A33,対象者情報!$B$8:$G$32,2,FALSE)=0,\"\",VLOOKUP(A33,対象者情報!$B$8:$G$32,2,FALSE))","v":"絹延橋　みつ子"}]
[null,null,null,null,null,null,{"$f":"IF(VLOOKUP(A33,対象者情報!$B$8:$G$32,4,FALSE)=0,\"\",IF(VLOOKUP(A33,対象者情報!$B$8:$G$32,4,FALSE)=\"男\",\"1　男\",\"2　女\"))","v":"2　女"},null,null,null,null,{"$f":"IF(VLOOKUP(A33,対象者情報!$B$8:$Z$32,8,FALSE)=0,\"\",IF(VLOOKUP(A33,対象者情報!$B$8:$Z$32,8,FALSE)=\"昭和\",\"5　昭和\",IF(VLOOKUP(A33,対象者情報!$B$8:$Z$32,8,FALSE)=\"平成\",\"7　平成\",\"\")))","v":"5　昭和"},null,null,null,null,{"$f":"IF(VLOOKUP(A33,対象者情報!$B$8:$Z$32,2,FALSE)=0,\"\",VLOOKUP(A33,対象者情報!$B$8:$Z$32,10,FALSE))","v":"5"},null,null,{"$f":"IF(VLOOKUP(A33,対象者情報!$B$8:$Z$32,2,FALSE)=0,\"\",VLOOKUP(A33,対象者情報!$B$8:$Z$32,11,FALSE))","v":"2"},null,null,{"$f":"IF(VLOOKUP(A33,対象者情報!$B$8:$Z$32,2,FALSE)=0,\"\",VLOOKUP(A33,対象者情報!$B$8:$Z$32,12,FALSE))","v":"1"},null,null,{"$f":"IF(VLOOKUP(A33,対象者情報!$B$8:$Z$32,2,FALSE)=0,\"\",VLOOKUP(A33,対象者情報!$B$8:$Z$32,13,FALSE))","v":"1"},null,null,{"$f":"IF(VLOOKUP(A33,対象者情報!$B$8:$Z$32,2,FALSE)=0,\"\",VLOOKUP(A33,対象者情報!$B$8:$Z$32,14,FALSE))","v":"2"},null,null,{"$f":"IF(VLOOKUP(A33,対象者情報!$B$8:$Z$32,2,FALSE)=0,\"\",VLOOKUP(A33,対象者情報!$B$8:$Z$32,15,FALSE))","v":"5"},null,null,null,null,null,null,null,null,null,null,null,null,null,null,null,null,null,null,null,null,"翌年\n以降",null,null,"（１人目と同年）",null,null,null,null,null,null,null,22,null,null,null,22,null,null,null,22,null,null,null,22,null,null,null,22,null,null,null,22,null,null,null,22,null,null,null,22,null,null,null,22,null,null,null,22,null,null,null,22,null,null,null,22]
[]
[]
[]
[{"$f":"A33+1","v":4},null,{"$f":"IF(VLOOKUP(A41,対象者情報!$B$8:$Z$32,2,FALSE)=0,\"\",VLOOKUP(A41,対象者情報!$B$8:$Z$32,16,FALSE))","v":"1"},null,null,{"$f":"IF(VLOOKUP(A41,対象者情報!$B$8:$Z$32,2,FALSE)=0,\"\",VLOOKUP(A41,対象者情報!$B$8:$Z$32,17,FALSE))","v":"2"},null,null,{"$f":"IF(VLOOKUP(A41,対象者情報!$B$8:$Z$32,2,FALSE)=0,\"\",VLOOKUP(A41,対象者情報!$B$8:$Z$32,18,FALSE))","v":"6"},null,null,{"$f":"IF(VLOOKUP(A41,対象者情報!$B$8:$Z$32,2,FALSE)=0,\"\",VLOOKUP(A41,対象者情報!$B$8:$Z$32,19,FALSE))","v":"4"},null,null,"－",null,{"$f":"IF(VLOOKUP(A41,対象者情報!$B$8:$Z$32,2,FALSE)=0,\"\",VLOOKUP(A41,対象者情報!$B$8:$Z$32,20,FALSE))","v":"5"},null,null,{"$f":"IF(VLOOKUP(A41,対象者情報!$B$8:$Z$32,2,FALSE)=0,\"\",VLOOKUP(A41,対象者情報!$B$8:$Z$32,21,FALSE))","v":"2"},null,null,{"$f":"IF(VLOOKUP(A41,対象者情報!$B$8:$Z$32,2,FALSE)=0,\"\",VLOOKUP(A41,対象者情報!$B$8:$Z$32,22,FALSE))","v":"0"},null,null,{"$f":"IF(VLOOKUP(A41,対象者情報!$B$8:$Z$32,2,FALSE)=0,\"\",VLOOKUP(A41,対象者情報!$B$8:$Z$32,23,FALSE))","v":"2"},null,null,{"$f":"IF(VLOOKUP(A41,対象者情報!$B$8:$Z$32,2,FALSE)=0,\"\",VLOOKUP(A41,対象者情報!$B$8:$Z$32,24,FALSE))","v":"6"},null,null,{"$f":"IF(VLOOKUP(A41,対象者情報!$B$8:$Z$32,2,FALSE)=0,\"\",VLOOKUP(A41,対象者情報!$B$8:$Z$32,25,FALSE))","v":"8"},null,null,{"$f":"IF(VLOOKUP(A41,対象者情報!$B$8:$G$32,3,FALSE)=0,\"\",VLOOKUP(A41,対象者情報!$B$8:$G$32,3,FALSE))","v":"ヤマシタ　タカシ"},null,null,null,null,null,null,null,null,null,null,null,null,null,null,null,null,null,"当年",null,null,"（１人目と同年）",null,null,null,null,null,null,null,null,null,null,null,null,null,null,null,null,null,null,null,null,null,null,null,null,null,null,null,null,null,null,null,null,null,null,null,null,null,null,null,5,null,null,null,5,null,null,null,5,null,null,null,5]
[]
[]
[null,null,null,null,null,null,null,null,null,null,null,null,null,null,null,null,null,null,null,null,null,null,null,null,null,null,null,null,null,null,null,null,null,null,{"$f":"IF(VLOOKUP(A41,対象者情報!$B$8:$G$32,2,FALSE)=0,\"\",VLOOKUP(A41,対象者情報!$B$8:$G$32,2,FALSE))","v":"山下　崇"}]
[null,null,null,null,null,null,{"$f":"IF(VLOOKUP(A41,対象者情報!$B$8:$G$32,4,FALSE)=0,\"\",IF(VLOOKUP(A41,対象者情報!$B$8:$G$32,4,FALSE)=\"男\",\"1　男\",\"2　女\"))","v":"1　男"},null,null,null,null,{"$f":"IF(VLOOKUP(A41,対象者情報!$B$8:$Z$32,8,FALSE)=0,\"\",IF(VLOOKUP(A41,対象者情報!$B$8:$Z$32,8,FALSE)=\"昭和\",\"5　昭和\",IF(VLOOKUP(A41,対象者情報!$B$8:$Z$32,8,FALSE)=\"平成\",\"7　平成\",\"\")))","v":"5　昭和"},null,null,null,null,{"$f":"IF(VLOOKUP(A41,対象者情報!$B$8:$Z$32,2,FALSE)=0,\"\",VLOOKUP(A41,対象者情報!$B$8:$Z$32,10,FALSE))","v":"5"},null,null,{"$f":"IF(VLOOKUP(A41,対象者情報!$B$8:$Z$32,2,FALSE)=0,\"\",VLOOKUP(A41,対象者情報!$B$8:$Z$32,11,FALSE))","v":"6"},null,null,{"$f":"IF(VLOOKUP(A41,対象者情報!$B$8:$Z$32,2,FALSE)=0,\"\",VLOOKUP(A41,対象者情報!$B$8:$Z$32,12,FALSE))","v":"1"},null,null,{"$f":"IF(VLOOKUP(A41,対象者情報!$B$8:$Z$32,2,FALSE)=0,\"\",VLOOKUP(A41,対象者情報!$B$8:$Z$32,13,FALSE))","v":"1"},null,null,{"$f":"IF(VLOOKUP(A41,対象者情報!$B$8:$Z$32,2,FALSE)=0,\"\",VLOOKUP(A41,対象者情報!$B$8:$Z$32,14,FALSE))","v":"2"},null,null,{"$f":"IF(VLOOKUP(A41,対象者情報!$B$8:$Z$32,2,FALSE)=0,\"\",VLOOKUP(A41,対象者情報!$B$8:$Z$32,15,FALSE))","v":"1"},null,null,null,null,null,null,null,null,null,null,null,null,null,null,null,null,null,null,null,null,"翌年\n以降",null,null,"（１人目と同年）",null,null,null,null,null,null,null,5,null,null,null,5,null,null,null,5,null,null,null,5,null,null,null,5,null,null,null,5,null,null,null,5,null,null,null,5,null,null,null,5,null,null,null,5,null,null,null,5,null,null,null,5]
[]
[]
[]
[{"$f":"A41+1","v":5},null,{"$f":"IF(VLOOKUP(A49,対象者情報!$B$8:$Z$32,2,FALSE)=0,\"\",VLOOKUP(A49,対象者情報!$B$8:$Z$32,16,FALSE))","v":"1"},null,null,{"$f":"IF(VLOOKUP(A49,対象者情報!$B$8:$Z$32,2,FALSE)=0,\"\",VLOOKUP(A49,対象者情報!$B$8:$Z$32,17,FALSE))","v":"2"},null,null,{"$f":"IF(VLOOKUP(A49,対象者情報!$B$8:$Z$32,2,FALSE)=0,\"\",VLOOKUP(A49,対象者情報!$B$8:$Z$32,18,FALSE))","v":"7"},null,null,{"$f":"IF(VLOOKUP(A49,対象者情報!$B$8:$Z$32,2,FALSE)=0,\"\",VLOOKUP(A49,対象者情報!$B$8:$Z$32,19,FALSE))","v":"4"},null,null,"－",null,{"$f":"IF(VLOOKUP(A49,対象者情報!$B$8:$Z$32,2,FALSE)=0,\"\",VLOOKUP(A49,対象者情報!$B$8:$Z$32,20,FALSE))","v":"5"},null,null,{"$f":"IF(VLOOKUP(A49,対象者情報!$B$8:$Z$32,2,FALSE)=0,\"\",VLOOKUP(A49,対象者情報!$B$8:$Z$32,21,FALSE))","v":"0"},null,null,{"$f":"IF(VLOOKUP(A49,対象者情報!$B$8:$Z$32,2,FALSE)=0,\"\",VLOOKUP(A49,対象者情報!$B$8:$Z$32,22,FALSE))","v":"4"},null,null,{"$f":"IF(VLOOKUP(A49,対象者情報!$B$8:$Z$32,2,FALSE)=0,\"\",VLOOKUP(A49,対象者情報!$B$8:$Z$32,23,FALSE))","v":"3"},null,null,{"$f":"IF(VLOOKUP(A49,対象者情報!$B$8:$Z$32,2,FALSE)=0,\"\",VLOOKUP(A49,対象者情報!$B$8:$Z$32,24,FALSE))","v":"9"},null,null,{"$f":"IF(VLOOKUP(A49,対象者情報!$B$8:$Z$32,2,FALSE)=0,\"\",VLOOKUP(A49,対象者情報!$B$8:$Z$32,25,FALSE))","v":"4"},null,null,{"$f":"IF(VLOOKUP(A49,対象者情報!$B$8:$G$32,3,FALSE)=0,\"\",VLOOKUP(A49,対象者情報!$B$8:$G$32,3,FALSE))","v":"タキヤマ　シンイチ"},null,null,null,null,null,null,null,null,null,null,null,null,null,null,null,null,null,"当年",null,null,"（１人目と同年）",null,null,null,null,null,null,null,null,null,null,null,null,null,null,null,null,null,null,null,null,null,null,null,null,null,null,null,null,null,null,null,null,null,null,null,null,null,null,null,5,null,null,null,5,null,null,null,5,null,null,null,5]
[]
[]
[null,null,null,null,null,null,null,null,null,null,null,null,null,null,null,null,null,null,null,null,null,null,null,null,null,null,null,null,null,null,null,null,null,null,{"$f":"IF(VLOOKUP(A49,対象者情報!$B$8:$G$32,2,FALSE)=0,\"\",VLOOKUP(A49,対象者情報!$B$8:$G$32,2,FALSE))","v":"滝山　真一"}]
[null,null,null,null,null,null,{"$f":"IF(VLOOKUP(A49,対象者情報!$B$8:$G$32,4,FALSE)=0,\"\",IF(VLOOKUP(A49,対象者情報!$B$8:$G$32,4,FALSE)=\"男\",\"1　男\",\"2　女\"))","v":"1　男"},null,null,null,null,{"$f":"IF(VLOOKUP(A49,対象者情報!$B$8:$Z$32,8,FALSE)=0,\"\",IF(VLOOKUP(A49,対象者情報!$B$8:$Z$32,8,FALSE)=\"昭和\",\"5　昭和\",IF(VLOOKUP(A49,対象者情報!$B$8:$Z$32,8,FALSE)=\"平成\",\"7　平成\",\"\")))","v":"5　昭和"},null,null,null,null,{"$f":"IF(VLOOKUP(A49,対象者情報!$B$8:$Z$32,2,FALSE)=0,\"\",VLOOKUP(A49,対象者情報!$B$8:$Z$32,10,FALSE))","v":"5"},null,null,{"$f":"IF(VLOOKUP(A49,対象者情報!$B$8:$Z$32,2,FALSE)=0,\"\",VLOOKUP(A49,対象者情報!$B$8:$Z$32,11,FALSE))","v":"8"},null,null,{"$f":"IF(VLOOKUP(A49,対象者情報!$B$8:$Z$32,2,FALSE)=0,\"\",VLOOKUP(A49,対象者情報!$B$8:$Z$32,12,FALSE))","v":"0"},null,null,{"$f":"IF(VLOOKUP(A49,対象者情報!$B$8:$Z$32,2,FALSE)=0,\"\",VLOOKUP(A49,対象者情報!$B$8:$Z$32,13,FALSE))","v":"4"},null,null,{"$f":"IF(VLOOKUP(A49,対象者情報!$B$8:$Z$32,2,FALSE)=0,\"\",VLOOKUP(A49,対象者情報!$B$8:$Z$32,14,FALSE))","v":"1"},null,null,{"$f":"IF(VLOOKUP(A49,対象者情報!$B$8:$Z$32,2,FALSE)=0,\"\",VLOOKUP(A49,対象者情報!$B$8:$Z$32,15,FALSE))","v":"8"},null,null,null,null,null,null,null,null,null,null,null,null,null,null,null,null,null,null,null,null,"翌年\n以降",null,null,"（１人目と同年）",null,null,null,null,null,null,null,5,null,null,null,5,null,null,null,5,null,null,null,5,null,null,null,5,null,null,null,5,null,null,null,5,null,null,null,5,null,null,null,5,null,null,null,5,null,null,null,5,null,null,null,5]
[]
[]
[]
[]
[]
[null,null,null,null,null,null,null,null,null,null,null,null,null,null,null,null,null,null,null,null,null,null,null,null,null,null,null,null,null,null,null,null,null,null,null,null,null,null,null,null,null,null,null,null,null,null,null,null,null,null,null,null,null,null,null,null,null,null,null,null,null,null,null,null,null,null,null,null,null,null,null,null,null,"連合会",null,null,null,null,null,"9：\n令和",null,null,null,null,null,null,null,null,null,null,null,null,null,null,"厚生労働省"]
[]
[]
[]
[]
[]
[]
[]
[]
[]
[]
[]
[]
[]
[]
[]
[]
[]
[]
[]
[]
[]
[]
[]
[]
[]
[null,null,"登 録 事 業 所 番 号",null,null,null,null,null,null,null,null,null,null,null,null,null,null,null,"登　　　　録　　　　事　　　　業　　　　所　　　　名　　　　称"]
[]
[null,null,{"$f":"$C$7","v":""},null,{"$f":"$E$7","v":""},null,{"$f":"$G$7","v":""},null,{"$f":"$I$7","v":""},null,{"$f":"$K$7","v":""},null,{"$f":"$M$7","v":""},null,{"$f":"$O$7","v":""},null,{"$f":"$Q$7","v":""},null,{"$f":"$S$7","v":"カ）　コンノデザイン"}]
[]
[null,null,null,null,null,null,null,null,null,null,null,null,null,null,null,null,null,null,{"$f":"$S$9","v":"株式会社今野デザイン"}]
[]
[]
[null,null,"基礎年金番号\n性別・生年月日※",null,null,null,null,null,null,null,null,null,null,null,null,null,null,null,null,null,null,null,null,null,null,null,null,null,null,null,null,null,null,null,"氏名",null,null,null,null,null,null,null,null,null,null,null,null,null,null,null,null,null,"中小事業主掛金額（千円単位）"]
[]
[null,null,null,null,null,null,null,null,null,null,null,null,null,null,null,null,null,null,null,null,null,null,null,null,null,null,null,null,null,null,null,null,null,null,null,null,null,null,null,null,null,null,null,null,null,null,null,null,null,null,null,null,null,null,null,null,null,null,null,null,null,null,"納付月","1月\n（12月分）",null,null,null,"2月\n（1月分）",null,null,null,"3月\n（2月分）",null,null,null,"4月\n（3月分）",null,null,null,"5月\n（4月分）",null,null,null,"6月\n（5月分）",null,null,null,"7月\n（6月分）",null,null,null,"8月\n（7月分）",null,null,null,"9月\n（8月分）",null,null,null,"10月\n（9月分）",null,null,null,"11月\n（10月分）",null,null,null,"12月\n（11月分）"]
[]
[null,null,null,null,null,null,null,null,null,null,null,null,null,null,null,null,null,null,null,null,null,null,null,null,null,null,null,null,null,null,null,null,null,null,null,null,null,null,null,null,null,null,null,null,null,null,null,null,null,null,null,null,"年"]
[{"$f":"A49+1","v":6},null,{"$f":"IF(VLOOKUP(A97,対象者情報!$B$8:$Z$32,2,FALSE)=0,\"\",VLOOKUP(A97,対象者情報!$B$8:$Z$32,16,FALSE))","v":"1"},null,null,{"$f":"IF(VLOOKUP(A97,対象者情報!$B$8:$Z$32,2,FALSE)=0,\"\",VLOOKUP(A97,対象者情報!$B$8:$Z$32,17,FALSE))","v":"2"},null,null,{"$f":"IF(VLOOKUP(A97,対象者情報!$B$8:$Z$32,2,FALSE)=0,\"\",VLOOKUP(A97,対象者情報!$B$8:$Z$32,18,FALSE))","v":"8"},null,null,{"$f":"IF(VLOOKUP(A97,対象者情報!$B$8:$Z$32,2,FALSE)=0,\"\",VLOOKUP(A97,対象者情報!$B$8:$Z$32,19,FALSE))","v":"4"},null,null,"－",null,{"$f":"IF(VLOOKUP(A97,対象者情報!$B$8:$Z$32,2,FALSE)=0,\"\",VLOOKUP(A97,対象者情報!$B$8:$Z$32,20,FALSE))","v":"4"},null,null,{"$f":"IF(VLOOKUP(A97,対象者情報!$B$8:$Z$32,2,FALSE)=0,\"\",VLOOKUP(A97,対象者情報!$B$8:$Z$32,21,FALSE))","v":"8"},null,null,{"$f":"IF(VLOOKUP(A97,対象者情報!$B$8:$Z$32,2,FALSE)=0,\"\",VLOOKUP(A97,対象者情報!$B$8:$Z$32,22,FALSE))","v":"8"},null,null,{"$f":"IF(VLOOKUP(A97,対象者情報!$B$8:$Z$32,2,FALSE)=0,\"\",VLOOKUP(A97,対象者情報!$B$8:$Z$32,23,FALSE))","v":"5"},null,null,{"$f":"IF(VLOOKUP(A97,対象者情報!$B$8:$Z$32,2,FALSE)=0,\"\",VLOOKUP(A97,対象者情報!$B$8:$Z$32,24,FALSE))","v":"2"},null,null,{"$f":"IF(VLOOKUP(A97,対象者情報!$B$8:$Z$32,2,FALSE)=0,\"\",VLOOKUP(A97,対象者情報!$B$8:$Z$32,25,FALSE))","v":"0"},null,null,{"$f":"IF(VLOOKUP(A97,対象者情報!$B$8:$G$32,3,FALSE)=0,\"\",VLOOKUP(A97,対象者情報!$B$8:$G$32,3,FALSE))","v":"ニッセイ　アキヒサ"},null,null,null,null,null,null,null,null,null,null,null,null,null,null,null,null,null,"当年",null,null,"令和",null,3]
[]
[null,null,null,null,null,null,null,null,null,null,null,null,null,null,null,null,null,null,null,null,null,null,null,null,null,null,null,null,null,null,null,null,null,null,null,null,null,null,null,null,null,null,null,null,null,null,null,null,null,null,null,null,null,null,null,null,null,null,null,null,null,null,"年"]
[null,null,null,null,null,null,null,null,null,null,null,null,null,null,null,null,null,null,null,null,null,null,null,null,null,null,null,null,null,null,null,null,null,null,{"$f":"IF(VLOOKUP(A97,対象者情報!$B$8:$G$32,2,FALSE)=0,\"\",VLOOKUP(A97,対象者情報!$B$8:$G$32,2,FALSE))","v":"日生　暁久"}]
[null,null,null,null,null,null,{"$f":"IF(VLOOKUP(A97,対象者情報!$B$8:$G$32,4,FALSE)=0,\"\",IF(VLOOKUP(A97,対象者情報!$B$8:$G$32,4,FALSE)=\"男\",\"1　男\",\"2　女\"))","v":"1　男"},null,null,null,null,{"$f":"IF(VLOOKUP(A97,対象者情報!$B$8:$Z$32,8,FALSE)=0,\"\",IF(VLOOKUP(A97,対象者情報!$B$8:$Z$32,8,FALSE)=\"昭和\",\"5　昭和\",IF(VLOOKUP(A97,対象者情報!$B$8:$Z$32,8,FALSE)=\"平成\",\"7　平成\",\"\")))","v":"5　昭和"},null,null,null,null,{"$f":"IF(VLOOKUP(A97,対象者情報!$B$8:$Z$32,2,FALSE)=0,\"\",VLOOKUP(A97,対象者情報!$B$8:$Z$32,10,FALSE))","v":"6"},null,null,{"$f":"IF(VLOOKUP(A97,対象者情報!$B$8:$Z$32,2,FALSE)=0,\"\",VLOOKUP(A97,対象者情報!$B$8:$Z$32,11,FALSE))","v":"1"},null,null,{"$f":"IF(VLOOKUP(A97,対象者情報!$B$8:$Z$32,2,FALSE)=0,\"\",VLOOKUP(A97,対象者情報!$B$8:$Z$32,12,FALSE))","v":"0"},null,null,{"$f":"IF(VLOOKUP(A97,対象者情報!$B$8:$Z$32,2,FALSE)=0,\"\",VLOOKUP(A97,対象者情報!$B$8:$Z$32,13,FALSE))","v":"6"},null,null,{"$f":"IF(VLOOKUP(A97,対象者情報!$B$8:$Z$32,2,FALSE)=0,\"\",VLOOKUP(A97,対象者情報!$B$8:$Z$32,14,FALSE))","v":"2"},null,null,{"$f":"IF(VLOOKUP(A97,対象者情報!$B$8:$Z$32,2,FALSE)=0,\"\",VLOOKUP(A97,対象者情報!$B$8:$Z$32,15,FALSE))","v":"1"},null,null,null,null,null,null,null,null,null,null,null,null,null,null,null,null,null,null,null,null,"翌年\n以降",null,null,"令和",null,4]
[]
[null,null,null,null,null,null,null,null,null,null,null,null,null,null,null,null,null,null,null,null,null,null,null,null,null,null,null,null,null,null,null,null,null,null,null,null,null,null,null,null,null,null,null,null,null,null,null,null,null,null,null,null,null,null,null,null,null,null,null,null,null,null,"年"]
[null,null,null,null,null,null,null,null,null,null,null,null,null,null,null,null,null,null,null,null,null,null,null,null,null,null,null,null,null,null,null,null,null,null,null,null,null,null,null,null,null,null,null,null,null,null,null,null,null,null,null,null,null,null,null,null,null,null,null,null,null,null,"以降"]
[{"$f":"A97+1","v":7},null,{"$f":"IF(VLOOKUP(A105,対象者情報!$B$8:$Z$32,2,FALSE)=0,\"\",VLOOKUP(A105,対象者情報!$B$8:$Z$32,16,FALSE))","v":"1"},null,null,{"$f":"IF(VLOOKUP(A105,対象者情報!$B$8:$Z$32,2,FALSE)=0,\"\",VLOOKUP(A105,対象者情報!$B$8:$Z$32,17,FALSE))","v":"2"},null,null,{"$f":"IF(VLOOKUP(A105,対象者情報!$B$8:$Z$32,2,FALSE)=0,\"\",VLOOKUP(A105,対象者情報!$B$8:$Z$32,18,FALSE))","v":"9"},null,null,{"$f":"IF(VLOOKUP(A105,対象者情報!$B$8:$Z$32,2,FALSE)=0,\"\",VLOOKUP(A105,対象者情報!$B$8:$Z$32,19,FALSE))","v":"4"},null,null,"－",null,{"$f":"IF(VLOOKUP(A105,対象者情報!$B$8:$Z$32,2,FALSE)=0,\"\",VLOOKUP(A105,対象者情報!$B$8:$Z$32,20,FALSE))","v":"4"},null,null,{"$f":"IF(VLOOKUP(A105,対象者情報!$B$8:$Z$32,2,FALSE)=0,\"\",VLOOKUP(A105,対象者情報!$B$8:$Z$32,21,FALSE))","v":"7"},null,null,{"$f":"IF(VLOOKUP(A105,対象者情報!$B$8:$Z$32,2,FALSE)=0,\"\",VLOOKUP(A105,対象者情報!$B$8:$Z$32,22,FALSE))","v":"2"},null,null,{"$f":"IF(VLOOKUP(A105,対象者情報!$B$8:$Z$32,2,FALSE)=0,\"\",VLOOKUP(A105,対象者情報!$B$8:$Z$32,23,FALSE))","v":"6"},null,null,{"$f":"IF(VLOOKUP(A105,対象者情報!$B$8:$Z$32,2,FALSE)=0,\"\",VLOOKUP(A105,対象者情報!$B$8:$Z$32,24,FALSE))","v":"4"},null,null,{"$f":"IF(VLOOKUP(A105,対象者情報!$B$8:$Z$32,2,FALSE)=0,\"\",VLOOKUP(A105,対象者情報!$B$8:$Z$32,25,FALSE))","v":"6"},null,null,{"$f":"IF(VLOOKUP(A105,対象者情報!$B$8:$G$32,3,FALSE)=0,\"\",VLOOKUP(A105,対象者情報!$B$8:$G$32,3,FALSE))","v":"トリイ　マサユキ"},null,null,null,null,null,null,null,null,null,null,null,null,null,null,null,null,null,"当年",null,null,"（１人目と同年）"]
[]
[]
[null,null,null,null,null,null,null,null,null,null,null,null,null,null,null,null,null,null,null,null,null,null,null,null,null,null,null,null,null,null,null,null,null,null,{"$f":"IF(VLOOKUP(A105,対象者情報!$B$8:$G$32,2,FALSE)=0,\"\",VLOOKUP(A105,対象者情報!$B$8:$G$32,2,FALSE))","v":"鳥居　雅之"}]
[null,null,null,null,null,null,{"$f":"IF(VLOOKUP(A105,対象者情報!$B$8:$G$32,4,FALSE)=0,\"\",IF(VLOOKUP(A105,対象者情報!$B$8:$G$32,4,FALSE)=\"男\",\"1　男\",\"2　女\"))","v":"1　男"},null,null,null,null,{"$f":"IF(VLOOKUP(A105,対象者情報!$B$8:$Z$32,8,FALSE)=0,\"\",IF(VLOOKUP(A105,対象者情報!$B$8:$Z$32,8,FALSE)=\"昭和\",\"5　昭和\",IF(VLOOKUP(A105,対象者情報!$B$8:$Z$32,8,FALSE)=\"平成\",\"7　平成\",\"\")))","v":"5　昭和"},null,null,null,null,{"$f":"IF(VLOOKUP(A105,対象者情報!$B$8:$Z$32,2,FALSE)=0,\"\",VLOOKUP(A105,対象者情報!$B$8:$Z$32,10,FALSE))","v":"6"},null,null,{"$f":"IF(VLOOKUP(A105,対象者情報!$B$8:$Z$32,2,FALSE)=0,\"\",VLOOKUP(A105,対象者情報!$B$8:$Z$32,11,FALSE))","v":"2"},null,null,{"$f":"IF(VLOOKUP(A105,対象者情報!$B$8:$Z$32,2,FALSE)=0,\"\",VLOOKUP(A105,対象者情報!$B$8:$Z$32,12,FALSE))","v":"0"},null,null,{"$f":"IF(VLOOKUP(A105,対象者情報!$B$8:$Z$32,2,FALSE)=0,\"\",VLOOKUP(A105,対象者情報!$B$8:$Z$32,13,FALSE))","v":"8"},null,null,{"$f":"IF(VLOOKUP(A105,対象者情報!$B$8:$Z$32,2,FALSE)=0,\"\",VLOOKUP(A105,対象者情報!$B$8:$Z$32,14,FALSE))","v":"1"},null,null,{"$f":"IF(VLOOKUP(A105,対象者情報!$B$8:$Z$32,2,FALSE)=0,\"\",VLOOKUP(A105,対象者情報!$B$8:$Z$32,15,FALSE))","v":"9"},null,null,null,null,null,null,null,null,null,null,null,null,null,null,null,null,null,null,null,null,"翌年\n以降",null,null,"（１人目と同年）"]
[]
[]
[]
[{"$f":"A105+1","v":8},null,{"$f":"IF(VLOOKUP(A113,対象者情報!$B$8:$Z$32,2,FALSE)=0,\"\",VLOOKUP(A113,対象者情報!$B$8:$Z$32,16,FALSE))","v":"1"},null,null,{"$f":"IF(VLOOKUP(A113,対象者情報!$B$8:$Z$32,2,FALSE)=0,\"\",VLOOKUP(A113,対象者情報!$B$8:$Z$32,17,FALSE))","v":"3"},null,null,{"$f":"IF(VLOOKUP(A113,対象者情報!$B$8:$Z$32,2,FALSE)=0,\"\",VLOOKUP(A113,対象者情報!$B$8:$Z$32,18,FALSE))","v":"0"},null,null,{"$f":"IF(VLOOKUP(A113,対象者情報!$B$8:$Z$32,2,FALSE)=0,\"\",VLOOKUP(A113,対象者情報!$B$8:$Z$32,19,FALSE))","v":"4"},null,null,"－",null,{"$f":"IF(VLOOKUP(A113,対象者情報!$B$8:$Z$32,2,FALSE)=0,\"\",VLOOKUP(A113,対象者情報!$B$8:$Z$32,20,FALSE))","v":"4"},null,null,{"$f":"IF(VLOOKUP(A113,対象者情報!$B$8:$Z$32,2,FALSE)=0,\"\",VLOOKUP(A113,対象者情報!$B$8:$Z$32,21,FALSE))","v":"5"},null,null,{"$f":"IF(VLOOKUP(A113,対象者情報!$B$8:$Z$32,2,FALSE)=0,\"\",VLOOKUP(A113,対象者情報!$B$8:$Z$32,22,FALSE))","v":"6"},null,null,{"$f":"IF(VLOOKUP(A113,対象者情報!$B$8:$Z$32,2,FALSE)=0,\"\",VLOOKUP(A113,対象者情報!$B$8:$Z$32,23,FALSE))","v":"7"},null,null,{"$f":"IF(VLOOKUP(A113,対象者情報!$B$8:$Z$32,2,FALSE)=0,\"\",VLOOKUP(A113,対象者情報!$B$8:$Z$32,24,FALSE))","v":"7"},null,null,{"$f":"IF(VLOOKUP(A113,対象者情報!$B$8:$Z$32,2,FALSE)=0,\"\",VLOOKUP(A113,対象者情報!$B$8:$Z$32,25,FALSE))","v":"2"},null,null,{"$f":"IF(VLOOKUP(A113,対象者情報!$B$8:$G$32,3,FALSE)=0,\"\",VLOOKUP(A113,対象者情報!$B$8:$G$32,3,FALSE))","v":"ササベ　ナホミ"},null,null,null,null,null,null,null,null,null,null,null,null,null,null,null,null,null,"当年",null,null,"（１人目と同年）"]
[]
[]
[null,null,null,null,null,null,null,null,null,null,null,null,null,null,null,null,null,null,null,null,null,null,null,null,null,null,null,null,null,null,null,null,null,null,{"$f":"IF(VLOOKUP(A113,対象者情報!$B$8:$G$32,2,FALSE)=0,\"\",VLOOKUP(A113,対象者情報!$B$8:$G$32,2,FALSE))","v":"笹部　菜穂美"}]
[null,null,null,null,null,null,{"$f":"IF(VLOOKUP(A113,対象者情報!$B$8:$G$32,4,FALSE)=0,\"\",IF(VLOOKUP(A113,対象者情報!$B$8:$G$32,4,FALSE)=\"男\",\"1　男\",\"2　女\"))","v":"2　女"},null,null,null,null,{"$f":"IF(VLOOKUP(A113,対象者情報!$B$8:$Z$32,8,FALSE)=0,\"\",IF(VLOOKUP(A113,対象者情報!$B$8:$Z$32,8,FALSE)=\"昭和\",\"5　昭和\",IF(VLOOKUP(A113,対象者情報!$B$8:$Z$32,8,FALSE)=\"平成\",\"7　平成\",\"\")))","v":"7　平成"},null,null,null,null,{"$f":"IF(VLOOKUP(A113,対象者情報!$B$8:$Z$32,2,FALSE)=0,\"\",VLOOKUP(A113,対象者情報!$B$8:$Z$32,10,FALSE))","v":"0"},null,null,{"$f":"IF(VLOOKUP(A113,対象者情報!$B$8:$Z$32,2,FALSE)=0,\"\",VLOOKUP(A113,対象者情報!$B$8:$Z$32,11,FALSE))","v":"3"},null,null,{"$f":"IF(VLOOKUP(A113,対象者情報!$B$8:$Z$32,2,FALSE)=0,\"\",VLOOKUP(A113,対象者情報!$B$8:$Z$32,12,FALSE))","v":"0"},null,null,{"$f":"IF(VLOOKUP(A113,対象者情報!$B$8:$Z$32,2,FALSE)=0,\"\",VLOOKUP(A113,対象者情報!$B$8:$Z$32,13,FALSE))","v":"3"},null,null,{"$f":"IF(VLOOKUP(A113,対象者情報!$B$8:$Z$32,2,FALSE)=0,\"\",VLOOKUP(A113,対象者情報!$B$8:$Z$32,14,FALSE))","v":"0"},null,null,{"$f":"IF(VLOOKUP(A113,対象者情報!$B$8:$Z$32,2,FALSE)=0,\"\",VLOOKUP(A113,対象者情報!$B$8:$Z$32,15,FALSE))","v":"8"},null,null,null,null,null,null,null,null,null,null,null,null,null,null,null,null,null,null,null,null,"翌年\n以降",null,null,"（１人目と同年）"]
[]
[]
[]
[{"$f":"A113+1","v":9},null,{"$f":"IF(VLOOKUP(A121,対象者情報!$B$8:$Z$32,2,FALSE)=0,\"\",VLOOKUP(A121,対象者情報!$B$8:$Z$32,16,FALSE))","v":"1"},null,null,{"$f":"IF(VLOOKUP(A121,対象者情報!$B$8:$Z$32,2,FALSE)=0,\"\",VLOOKUP(A121,対象者情報!$B$8:$Z$32,17,FALSE))","v":"3"},null,null,{"$f":"IF(VLOOKUP(A121,対象者情報!$B$8:$Z$32,2,FALSE)=0,\"\",VLOOKUP(A121,対象者情報!$B$8:$Z$32,18,FALSE))","v":"1"},null,null,{"$f":"IF(VLOOKUP(A121,対象者情報!$B$8:$Z$32,2,FALSE)=0,\"\",VLOOKUP(A121,対象者情報!$B$8:$Z$32,19,FALSE))","v":"4"},null,null,"－",null,{"$f":"IF(VLOOKUP(A121,対象者情報!$B$8:$Z$32,2,FALSE)=0,\"\",VLOOKUP(A121,対象者情報!$B$8:$Z$32,20,FALSE))","v":"4"},null,null,{"$f":"IF(VLOOKUP(A121,対象者情報!$B$8:$Z$32,2,FALSE)=0,\"\",VLOOKUP(A121,対象者情報!$B$8:$Z$32,21,FALSE))","v":"4"},null,null,{"$f":"IF(VLOOKUP(A121,対象者情報!$B$8:$Z$32,2,FALSE)=0,\"\",VLOOKUP(A121,対象者情報!$B$8:$Z$32,22,FALSE))","v":"0"},null,null,{"$f":"IF(VLOOKUP(A121,対象者情報!$B$8:$Z$32,2,FALSE)=0,\"\",VLOOKUP(A121,対象者情報!$B$8:$Z$32,23,FALSE))","v":"8"},null,null,{"$f":"IF(VLOOKUP(A121,対象者情報!$B$8:$Z$32,2,FALSE)=0,\"\",VLOOKUP(A121,対象者情報!$B$8:$Z$32,24,FALSE))","v":"9"},null,null,{"$f":"IF(VLOOKUP(A121,対象者情報!$B$8:$Z$32,2,FALSE)=0,\"\",VLOOKUP(A121,対象者情報!$B$8:$Z$32,25,FALSE))","v":"8"},null,null,{"$f":"IF(VLOOKUP(A121,対象者情報!$B$8:$G$32,3,FALSE)=0,\"\",VLOOKUP(A121,対象者情報!$B$8:$G$32,3,FALSE))","v":"ウネノ　シゲキ"},null,null,null,null,null,null,null,null,null,null,null,null,null,null,null,null,null,"当年",null,null,"（１人目と同年）"]
[]
[]
[null,null,null,null,null,null,null,null,null,null,null,null,null,null,null,null,null,null,null,null,null,null,null,null,null,null,null,null,null,null,null,null,null,null,{"$f":"IF(VLOOKUP(A121,対象者情報!$B$8:$G$32,2,FALSE)=0,\"\",VLOOKUP(A121,対象者情報!$B$8:$G$32,2,FALSE))","v":"畦野　繁樹"}]
[null,null,null,null,null,null,{"$f":"IF(VLOOKUP(A121,対象者情報!$B$8:$G$32,4,FALSE)=0,\"\",IF(VLOOKUP(A121,対象者情報!$B$8:$G$32,4,FALSE)=\"男\",\"1　男\",\"2　女\"))","v":"1　男"},null,null,null,null,{"$f":"IF(VLOOKUP(A121,対象者情報!$B$8:$Z$32,8,FALSE)=0,\"\",IF(VLOOKUP(A121,対象者情報!$B$8:$Z$32,8,FALSE)=\"昭和\",\"5　昭和\",IF(VLOOKUP(A121,対象者情報!$B$8:$Z$32,8,FALSE)=\"平成\",\"7　平成\",\"\")))","v":"7　平成"},null,null,null,null,{"$f":"IF(VLOOKUP(A121,対象者情報!$B$8:$Z$32,2,FALSE)=0,\"\",VLOOKUP(A121,対象者情報!$B$8:$Z$32,10,FALSE))","v":"0"},null,null,{"$f":"IF(VLOOKUP(A121,対象者情報!$B$8:$Z$32,2,FALSE)=0,\"\",VLOOKUP(A121,対象者情報!$B$8:$Z$32,11,FALSE))","v":"4"},null,null,{"$f":"IF(VLOOKUP(A121,対象者情報!$B$8:$Z$32,2,FALSE)=0,\"\",VLOOKUP(A121,対象者情報!$B$8:$Z$32,12,FALSE))","v":"0"},null,null,{"$f":"IF(VLOOKUP(A121,対象者情報!$B$8:$Z$32,2,FALSE)=0,\"\",VLOOKUP(A121,対象者情報!$B$8:$Z$32,13,FALSE))","v":"2"},null,null,{"$f":"IF(VLOOKUP(A121,対象者情報!$B$8:$Z$32,2,FALSE)=0,\"\",VLOOKUP(A121,対象者情報!$B$8:$Z$32,14,FALSE))","v":"0"},null,null,{"$f":"IF(VLOOKUP(A121,対象者情報!$B$8:$Z$32,2,FALSE)=0,\"\",VLOOKUP(A121,対象者情報!$B$8:$Z$32,15,FALSE))","v":"5"},null,null,null,null,null,null,null,null,null,null,null,null,null,null,null,null,null,null,null,null,"翌年\n以降",null,null,"（１人目と同年）"]
[]
[]
[]
[{"$f":"A121+1","v":10},null,{"$f":"IF(VLOOKUP(A129,対象者情報!$B$8:$Z$32,2,FALSE)=0,\"\",VLOOKUP(A129,対象者情報!$B$8:$Z$32,16,FALSE))","v":"1"},null,null,{"$f":"IF(VLOOKUP(A129,対象者情報!$B$8:$Z$32,2,FALSE)=0,\"\",VLOOKUP(A129,対象者情報!$B$8:$Z$32,17,FALSE))","v":"3"},null,null,{"$f":"IF(VLOOKUP(A129,対象者情報!$B$8:$Z$32,2,FALSE)=0,\"\",VLOOKUP(A129,対象者情報!$B$8:$Z$32,18,FALSE))","v":"2"},null,null,{"$f":"IF(VLOOKUP(A129,対象者情報!$B$8:$Z$32,2,FALSE)=0,\"\",VLOOKUP(A129,対象者情報!$B$8:$Z$32,19,FALSE))","v":"4"},null,null,"－",null,{"$f":"IF(VLOOKUP(A129,対象者情報!$B$8:$Z$32,2,FALSE)=0,\"\",VLOOKUP(A129,対象者情報!$B$8:$Z$32,20,FALSE))","v":"4"},null,null,{"$f":"IF(VLOOKUP(A129,対象者情報!$B$8:$Z$32,2,FALSE)=0,\"\",VLOOKUP(A129,対象者情報!$B$8:$Z$32,21,FALSE))","v":"2"},null,null,{"$f":"IF(VLOOKUP(A129,対象者情報!$B$8:$Z$32,2,FALSE)=0,\"\",VLOOKUP(A129,対象者情報!$B$8:$Z$32,22,FALSE))","v":"5"},null,null,{"$f":"IF(VLOOKUP(A129,対象者情報!$B$8:$Z$32,2,FALSE)=0,\"\",VLOOKUP(A129,対象者情報!$B$8:$Z$32,23,FALSE))","v":"0"},null,null,{"$f":"IF(VLOOKUP(A129,対象者情報!$B$8:$Z$32,2,FALSE)=0,\"\",VLOOKUP(A129,対象者情報!$B$8:$Z$32,24,FALSE))","v":"2"},null,null,{"$f":"IF(VLOOKUP(A129,対象者情報!$B$8:$Z$32,2,FALSE)=0,\"\",VLOOKUP(A129,対象者情報!$B$8:$Z$32,25,FALSE))","v":"4"},null,null,{"$f":"IF(VLOOKUP(A129,対象者情報!$B$8:$G$32,3,FALSE)=0,\"\",VLOOKUP(A129,対象者情報!$B$8:$G$32,3,FALSE))","v":"タダ　アキヒコ"},null,null,null,null,null,null,null,null,null,null,null,null,null,null,null,null,null,"当年",null,null,"（１人目と同年）"]
[]
[]
[null,null,null,null,null,null,null,null,null,null,null,null,null,null,null,null,null,null,null,null,null,null,null,null,null,null,null,null,null,null,null,null,null,null,{"$f":"IF(VLOOKUP(A129,対象者情報!$B$8:$G$32,2,FALSE)=0,\"\",VLOOKUP(A129,対象者情報!$B$8:$G$32,2,FALSE))","v":"多田　昭彦"}]
[null,null,null,null,null,null,{"$f":"IF(VLOOKUP(A129,対象者情報!$B$8:$G$32,4,FALSE)=0,\"\",IF(VLOOKUP(A129,対象者情報!$B$8:$G$32,4,FALSE)=\"男\",\"1　男\",\"2　女\"))","v":"1　男"},null,null,null,null,{"$f":"IF(VLOOKUP(A129,対象者情報!$B$8:$Z$32,8,FALSE)=0,\"\",IF(VLOOKUP(A129,対象者情報!$B$8:$Z$32,8,FALSE)=\"昭和\",\"5　昭和\",IF(VLOOKUP(A129,対象者情報!$B$8:$Z$32,8,FALSE)=\"平成\",\"7　平成\",\"\")))","v":"7　平成"},null,null,null,null,{"$f":"IF(VLOOKUP(A129,対象者情報!$B$8:$Z$32,2,FALSE)=0,\"\",VLOOKUP(A129,対象者情報!$B$8:$Z$32,10,FALSE))","v":"0"},null,null,{"$f":"IF(VLOOKUP(A129,対象者情報!$B$8:$Z$32,2,FALSE)=0,\"\",VLOOKUP(A129,対象者情報!$B$8:$Z$32,11,FALSE))","v":"5"},null,null,{"$f":"IF(VLOOKUP(A129,対象者情報!$B$8:$Z$32,2,FALSE)=0,\"\",VLOOKUP(A129,対象者情報!$B$8:$Z$32,12,FALSE))","v":"0"},null,null,{"$f":"IF(VLOOKUP(A129,対象者情報!$B$8:$Z$32,2,FALSE)=0,\"\",VLOOKUP(A129,対象者情報!$B$8:$Z$32,13,FALSE))","v":"9"},null,null,{"$f":"IF(VLOOKUP(A129,対象者情報!$B$8:$Z$32,2,FALSE)=0,\"\",VLOOKUP(A129,対象者情報!$B$8:$Z$32,14,FALSE))","v":"3"},null,null,{"$f":"IF(VLOOKUP(A129,対象者情報!$B$8:$Z$32,2,FALSE)=0,\"\",VLOOKUP(A129,対象者情報!$B$8:$Z$32,15,FALSE))","v":"0"},null,null,null,null,null,null,null,null,null,null,null,null,null,null,null,null,null,null,null,null,"翌年\n以降",null,null,"（１人目と同年）"]
[]
[]
[]
[]
[]
[null,null,null,null,null,null,null,null,null,null,null,null,null,null,null,null,null,null,null,null,null,null,null,null,null,null,null,null,null,null,null,null,null,null,null,null,null,null,null,null,null,null,null,null,null,null,null,null,null,null,null,null,null,null,null,null,null,null,null,null,null,null,null,null,null,null,null,null,null,null,null,null,null,"連合会",null,null,null,null,null,"9：\n令和",null,null,null,null,null,null,null,null,null,null,null,null,null,null,"厚生労働省"]
[]
[]
[]
[]
[]
[]
[]
[]
[]
[]
[]
[]
[]
[]
[]
[]
[]
[]
[]
[]
[]
[]
[]
[]
[]
[null,null,"登 録 事 業 所 番 号",null,null,null,null,null,null,null,null,null,null,null,null,null,null,null,"登　　　　録　　　　事　　　　業　　　　所　　　　名　　　　称"]
[]
[null,null,{"$f":"$C$7","v":""},null,{"$f":"$E$7","v":""},null,{"$f":"$G$7","v":""},null,{"$f":"$I$7","v":""},null,{"$f":"$K$7","v":""},null,{"$f":"$M$7","v":""},null,{"$f":"$O$7","v":""},null,{"$f":"$Q$7","v":""},null,{"$f":"$S$7","v":"カ）　コンノデザイン"}]
[]
[null,null,null,null,null,null,null,null,null,null,null,null,null,null,null,null,null,null,{"$f":"$S$9","v":"株式会社今野デザイン"}]
[]
[]
[null,null,"基礎年金番号\n性別・生年月日※",null,null,null,null,null,null,null,null,null,null,null,null,null,null,null,null,null,null,null,null,null,null,null,null,null,null,null,null,null,null,null,"氏名",null,null,null,null,null,null,null,null,null,null,null,null,null,null,null,null,null,"中小事業主掛金額（千円単位）"]
[]
[null,null,null,null,null,null,null,null,null,null,null,null,null,null,null,null,null,null,null,null,null,null,null,null,null,null,null,null,null,null,null,null,null,null,null,null,null,null,null,null,null,null,null,null,null,null,null,null,null,null,null,null,null,null,null,null,null,null,null,null,null,null,"納付月","1月\n（12月分）",null,null,null,"2月\n（1月分）",null,null,null,"3月\n（2月分）",null,null,null,"4月\n（3月分）",null,null,null,"5月\n（4月分）",null,null,null,"6月\n（5月分）",null,null,null,"7月\n（6月分）",null,null,null,"8月\n（7月分）",null,null,null,"9月\n（8月分）",null,null,null,"10月\n（9月分）",null,null,null,"11月\n（10月分）",null,null,null,"12月\n（11月分）"]
[]
[null,null,null,null,null,null,null,null,null,null,null,null,null,null,null,null,null,null,null,null,null,null,null,null,null,null,null,null,null,null,null,null,null,null,null,null,null,null,null,null,null,null,null,null,null,null,null,null,null,null,null,null,"年"]
[{"$f":"A129+1","v":11},null,{"$f":"IF(VLOOKUP(A177,対象者情報!$B$8:$Z$32,2,FALSE)=0,\"\",VLOOKUP(A177,対象者情報!$B$8:$Z$32,16,FALSE))","v":"1"},null,null,{"$f":"IF(VLOOKUP(A177,対象者情報!$B$8:$Z$32,2,FALSE)=0,\"\",VLOOKUP(A177,対象者情報!$B$8:$Z$32,17,FALSE))","v":"3"},null,null,{"$f":"IF(VLOOKUP(A177,対象者情報!$B$8:$Z$32,2,FALSE)=0,\"\",VLOOKUP(A177,対象者情報!$B$8:$Z$32,18,FALSE))","v":"3"},null,null,{"$f":"IF(VLOOKUP(A177,対象者情報!$B$8:$Z$32,2,FALSE)=0,\"\",VLOOKUP(A177,対象者情報!$B$8:$Z$32,19,FALSE))","v":"4"},null,null,"－",null,{"$f":"IF(VLOOKUP(A177,対象者情報!$B$8:$Z$32,2,FALSE)=0,\"\",VLOOKUP(A177,対象者情報!$B$8:$Z$32,20,FALSE))","v":"4"},null,null,{"$f":"IF(VLOOKUP(A177,対象者情報!$B$8:$Z$32,2,FALSE)=0,\"\",VLOOKUP(A177,対象者情報!$B$8:$Z$32,21,FALSE))","v":"0"},null,null,{"$f":"IF(VLOOKUP(A177,対象者情報!$B$8:$Z$32,2,FALSE)=0,\"\",VLOOKUP(A177,対象者情報!$B$8:$Z$32,22,FALSE))","v":"9"},null,null,{"$f":"IF(VLOOKUP(A177,対象者情報!$B$8:$Z$32,2,FALSE)=0,\"\",VLOOKUP(A177,対象者情報!$B$8:$Z$32,23,FALSE))","v":"1"},null,null,{"$f":"IF(VLOOKUP(A177,対象者情報!$B$8:$Z$32,2,FALSE)=0,\"\",VLOOKUP(A177,対象者情報!$B$8:$Z$32,24,FALSE))","v":"5"},null,null,{"$f":"IF(VLOOKUP(A177,対象者情報!$B$8:$Z$32,2,FALSE)=0,\"\",VLOOKUP(A177,対象者情報!$B$8:$Z$32,25,FALSE))","v":"0"},null,null,{"$f":"IF(VLOOKUP(A177,対象者情報!$B$8:$G$32,3,FALSE)=0,\"\",VLOOKUP(A177,対象者情報!$B$8:$G$32,3,FALSE))","v":"カワニシ　メグミ"},null,null,null,null,null,null,null,null,null,null,null,null,null,null,null,null,null,"当年",null,null,"令和",null,3]
[]
[null,null,null,null,null,null,null,null,null,null,null,null,null,null,null,null,null,null,null,null,null,null,null,null,null,null,null,null,null,null,null,null,null,null,null,null,null,null,null,null,null,null,null,null,null,null,null,null,null,null,null,null,null,null,null,null,null,null,null,null,null,null,"年"]
[null,null,null,null,null,null,null,null,null,null,null,null,null,null,null,null,null,null,null,null,null,null,null,null,null,null,null,null,null,null,null,null,null,null,{"$f":"IF(VLOOKUP(A177,対象者情報!$B$8:$G$32,2,FALSE)=0,\"\",VLOOKUP(A177,対象者情報!$B$8:$G$32,2,FALSE))","v":"川西　めぐみ"}]
[null,null,null,null,null,null,{"$f":"IF(VLOOKUP(A177,対象者情報!$B$8:$G$32,4,FALSE)=0,\"\",IF(VLOOKUP(A177,対象者情報!$B$8:$G$32,4,FALSE)=\"男\",\"1　男\",\"2　女\"))","v":"2　女"},null,null,null,null,{"$f":"IF(VLOOKUP(A177,対象者情報!$B$8:$Z$32,8,FALSE)=0,\"\",IF(VLOOKUP(A177,対象者情報!$B$8:$Z$32,8,FALSE)=\"昭和\",\"5　昭和\",IF(VLOOKUP(A177,対象者情報!$B$8:$Z$32,8,FALSE)=\"平成\",\"7　平成\",\"\")))","v":"7　平成"},null,null,null,null,{"$f":"IF(VLOOKUP(A177,対象者情報!$B$8:$Z$32,2,FALSE)=0,\"\",VLOOKUP(A177,対象者情報!$B$8:$Z$32,10,FALSE))","v":"1"},null,null,{"$f":"IF(VLOOKUP(A177,対象者情報!$B$8:$Z$32,2,FALSE)=0,\"\",VLOOKUP(A177,対象者情報!$B$8:$Z$32,11,FALSE))","v":"0"},null,null,{"$f":"IF(VLOOKUP(A177,対象者情報!$B$8:$Z$32,2,FALSE)=0,\"\",VLOOKUP(A177,対象者情報!$B$8:$Z$32,12,FALSE))","v":"0"},null,null,{"$f":"IF(VLOOKUP(A177,対象者情報!$B$8:$Z$32,2,FALSE)=0,\"\",VLOOKUP(A177,対象者情報!$B$8:$Z$32,13,FALSE))","v":"3"},null,null,{"$f":"IF(VLOOKUP(A177,対象者情報!$B$8:$Z$32,2,FALSE)=0,\"\",VLOOKUP(A177,対象者情報!$B$8:$Z$32,14,FALSE))","v":"0"},null,null,{"$f":"IF(VLOOKUP(A177,対象者情報!$B$8:$Z$32,2,FALSE)=0,\"\",VLOOKUP(A177,対象者情報!$B$8:$Z$32,15,FALSE))","v":"6"},null,null,null,null,null,null,null,null,null,null,null,null,null,null,null,null,null,null,null,null,"翌年\n以降",null,null,"令和",null,4]
[]
[null,null,null,null,null,null,null,null,null,null,null,null,null,null,null,null,null,null,null,null,null,null,null,null,null,null,null,null,null,null,null,null,null,null,null,null,null,null,null,null,null,null,null,null,null,null,null,null,null,null,null,null,null,null,null,null,null,null,null,null,null,null,"年"]
[null,null,null,null,null,null,null,null,null,null,null,null,null,null,null,null,null,null,null,null,null,null,null,null,null,null,null,null,null,null,null,null,null,null,null,null,null,null,null,null,null,null,null,null,null,null,null,null,null,null,null,null,null,null,null,null,null,null,null,null,null,null,"以降"]
[{"$f":"A177+1","v":12},null,{"$f":"IF(VLOOKUP(A185,対象者情報!$B$8:$Z$32,2,FALSE)=0,\"\",VLOOKUP(A185,対象者情報!$B$8:$Z$32,16,FALSE))","v":"1"},null,null,{"$f":"IF(VLOOKUP(A185,対象者情報!$B$8:$Z$32,2,FALSE)=0,\"\",VLOOKUP(A185,対象者情報!$B$8:$Z$32,17,FALSE))","v":"3"},null,null,{"$f":"IF(VLOOKUP(A185,対象者情報!$B$8:$Z$32,2,FALSE)=0,\"\",VLOOKUP(A185,対象者情報!$B$8:$Z$32,18,FALSE))","v":"4"},null,null,{"$f":"IF(VLOOKUP(A185,対象者情報!$B$8:$Z$32,2,FALSE)=0,\"\",VLOOKUP(A185,対象者情報!$B$8:$Z$32,19,FALSE))","v":"4"},null,null,"－",null,{"$f":"IF(VLOOKUP(A185,対象者情報!$B$8:$Z$32,2,FALSE)=0,\"\",VLOOKUP(A185,対象者情報!$B$8:$Z$32,20,FALSE))","v":"3"},null,null,{"$f":"IF(VLOOKUP(A185,対象者情報!$B$8:$Z$32,2,FALSE)=0,\"\",VLOOKUP(A185,対象者情報!$B$8:$Z$32,21,FALSE))","v":"9"},null,null,{"$f":"IF(VLOOKUP(A185,対象者情報!$B$8:$Z$32,2,FALSE)=0,\"\",VLOOKUP(A185,対象者情報!$B$8:$Z$32,22,FALSE))","v":"3"},null,null,{"$f":"IF(VLOOKUP(A185,対象者情報!$B$8:$Z$32,2,FALSE)=0,\"\",VLOOKUP(A185,対象者情報!$B$8:$Z$32,23,FALSE))","v":"2"},null,null,{"$f":"IF(VLOOKUP(A185,対象者情報!$B$8:$Z$32,2,FALSE)=0,\"\",VLOOKUP(A185,対象者情報!$B$8:$Z$32,24,FALSE))","v":"7"},null,null,{"$f":"IF(VLOOKUP(A185,対象者情報!$B$8:$Z$32,2,FALSE)=0,\"\",VLOOKUP(A185,対象者情報!$B$8:$Z$32,25,FALSE))","v":"6"},null,null,{"$f":"IF(VLOOKUP(A185,対象者情報!$B$8:$G$32,3,FALSE)=0,\"\",VLOOKUP(A185,対象者情報!$B$8:$G$32,3,FALSE))","v":"トキワ　ノリコ"},null,null,null,null,null,null,null,null,null,null,null,null,null,null,null,null,null,"当年",null,null,"（１人目と同年）"]
[]
[]
[null,null,null,null,null,null,null,null,null,null,null,null,null,null,null,null,null,null,null,null,null,null,null,null,null,null,null,null,null,null,null,null,null,null,{"$f":"IF(VLOOKUP(A185,対象者情報!$B$8:$G$32,2,FALSE)=0,\"\",VLOOKUP(A185,対象者情報!$B$8:$G$32,2,FALSE))","v":"常盤　典子"}]
[null,null,null,null,null,null,{"$f":"IF(VLOOKUP(A185,対象者情報!$B$8:$G$32,4,FALSE)=0,\"\",IF(VLOOKUP(A185,対象者情報!$B$8:$G$32,4,FALSE)=\"男\",\"1　男\",\"2　女\"))","v":"2　女"},null,null,null,null,{"$f":"IF(VLOOKUP(A185,対象者情報!$B$8:$Z$32,8,FALSE)=0,\"\",IF(VLOOKUP(A185,対象者情報!$B$8:$Z$32,8,FALSE)=\"昭和\",\"5　昭和\",IF(VLOOKUP(A185,対象者情報!$B$8:$Z$32,8,FALSE)=\"平成\",\"7　平成\",\"\")))","v":"7　平成"},null,null,null,null,{"$f":"IF(VLOOKUP(A185,対象者情報!$B$8:$Z$32,2,FALSE)=0,\"\",VLOOKUP(A185,対象者情報!$B$8:$Z$32,10,FALSE))","v":"1"},null,null,{"$f":"IF(VLOOKUP(A185,対象者情報!$B$8:$Z$32,2,FALSE)=0,\"\",VLOOKUP(A185,対象者情報!$B$8:$Z$32,11,FALSE))","v":"1"},null,null,{"$f":"IF(VLOOKUP(A185,対象者情報!$B$8:$Z$32,2,FALSE)=0,\"\",VLOOKUP(A185,対象者情報!$B$8:$Z$32,12,FALSE))","v":"0"},null,null,{"$f":"IF(VLOOKUP(A185,対象者情報!$B$8:$Z$32,2,FALSE)=0,\"\",VLOOKUP(A185,対象者情報!$B$8:$Z$32,13,FALSE))","v":"7"},null,null,{"$f":"IF(VLOOKUP(A185,対象者情報!$B$8:$Z$32,2,FALSE)=0,\"\",VLOOKUP(A185,対象者情報!$B$8:$Z$32,14,FALSE))","v":"0"},null,null,{"$f":"IF(VLOOKUP(A185,対象者情報!$B$8:$Z$32,2,FALSE)=0,\"\",VLOOKUP(A185,対象者情報!$B$8:$Z$32,15,FALSE))","v":"8"},null,null,null,null,null,null,null,null,null,null,null,null,null,null,null,null,null,null,null,null,"翌年\n以降",null,null,"（１人目と同年）"]
[]
[]
[]
[{"$f":"A185+1","v":13},null,{"$f":"IF(VLOOKUP(A193,対象者情報!$B$8:$Z$32,2,FALSE)=0,\"\",VLOOKUP(A193,対象者情報!$B$8:$Z$32,16,FALSE))","v":"1"},null,null,{"$f":"IF(VLOOKUP(A193,対象者情報!$B$8:$Z$32,2,FALSE)=0,\"\",VLOOKUP(A193,対象者情報!$B$8:$Z$32,17,FALSE))","v":"3"},null,null,{"$f":"IF(VLOOKUP(A193,対象者情報!$B$8:$Z$32,2,FALSE)=0,\"\",VLOOKUP(A193,対象者情報!$B$8:$Z$32,18,FALSE))","v":"5"},null,null,{"$f":"IF(VLOOKUP(A193,対象者情報!$B$8:$Z$32,2,FALSE)=0,\"\",VLOOKUP(A193,対象者情報!$B$8:$Z$32,19,FALSE))","v":"4"},null,null,"－",null,{"$f":"IF(VLOOKUP(A193,対象者情報!$B$8:$Z$32,2,FALSE)=0,\"\",VLOOKUP(A193,対象者情報!$B$8:$Z$32,20,FALSE))","v":"3"},null,null,{"$f":"IF(VLOOKUP(A193,対象者情報!$B$8:$Z$32,2,FALSE)=0,\"\",VLOOKUP(A193,対象者情報!$B$8:$Z$32,21,FALSE))","v":"7"},null,null,{"$f":"IF(VLOOKUP(A193,対象者情報!$B$8:$Z$32,2,FALSE)=0,\"\",VLOOKUP(A193,対象者情報!$B$8:$Z$32,22,FALSE))","v":"7"},null,null,{"$f":"IF(VLOOKUP(A193,対象者情報!$B$8:$Z$32,2,FALSE)=0,\"\",VLOOKUP(A193,対象者情報!$B$8:$Z$32,23,FALSE))","v":"4"},null,null,{"$f":"IF(VLOOKUP(A193,対象者情報!$B$8:$Z$32,2,FALSE)=0,\"\",VLOOKUP(A193,対象者情報!$B$8:$Z$32,24,FALSE))","v":"0"},null,null,{"$f":"IF(VLOOKUP(A193,対象者情報!$B$8:$Z$32,2,FALSE)=0,\"\",VLOOKUP(A193,対象者情報!$B$8:$Z$32,25,FALSE))","v":"2"},null,null,{"$f":"IF(VLOOKUP(A193,対象者情報!$B$8:$G$32,3,FALSE)=0,\"\",VLOOKUP(A193,対象者情報!$B$8:$G$32,3,FALSE))","v":"ヒラノ　ヒロシ"},null,null,null,null,null,null,null,null,null,null,null,null,null,null,null,null,null,"当年",null,null,"（１人目と同年）"]
[]
[]
[null,null,null,null,null,null,null,null,null,null,null,null,null,null,null,null,null,null,null,null,null,null,null,null,null,null,null,null,null,null,null,null,null,null,{"$f":"IF(VLOOKUP(A193,対象者情報!$B$8:$G$32,2,FALSE)=0,\"\",VLOOKUP(A193,対象者情報!$B$8:$G$32,2,FALSE))","v":"平野　裕"}]
[null,null,null,null,null,null,{"$f":"IF(VLOOKUP(A193,対象者情報!$B$8:$G$32,4,FALSE)=0,\"\",IF(VLOOKUP(A193,対象者情報!$B$8:$G$32,4,FALSE)=\"男\",\"1　男\",\"2　女\"))","v":"1　男"},null,null,null,null,{"$f":"IF(VLOOKUP(A193,対象者情報!$B$8:$Z$32,8,FALSE)=0,\"\",IF(VLOOKUP(A193,対象者情報!$B$8:$Z$32,8,FALSE)=\"昭和\",\"5　昭和\",IF(VLOOKUP(A193,対象者情報!$B$8:$Z$32,8,FALSE)=\"平成\",\"7　平成\",\"\")))","v":"5　昭和"},null,null,null,null,{"$f":"IF(VLOOKUP(A193,対象者情報!$B$8:$Z$32,2,FALSE)=0,\"\",VLOOKUP(A193,対象者情報!$B$8:$Z$32,10,FALSE))","v":"6"},null,null,{"$f":"IF(VLOOKUP(A193,対象者情報!$B$8:$Z$32,2,FALSE)=0,\"\",VLOOKUP(A193,対象者情報!$B$8:$Z$32,11,FALSE))","v":"3"},null,null,{"$f":"IF(VLOOKUP(A193,対象者情報!$B$8:$Z$32,2,FALSE)=0,\"\",VLOOKUP(A193,対象者情報!$B$8:$Z$32,12,FALSE))","v":"0"},null,null,{"$f":"IF(VLOOKUP(A193,対象者情報!$B$8:$Z$32,2,FALSE)=0,\"\",VLOOKUP(A193,対象者情報!$B$8:$Z$32,13,FALSE))","v":"3"},null,null,{"$f":"IF(VLOOKUP(A193,対象者情報!$B$8:$Z$32,2,FALSE)=0,\"\",VLOOKUP(A193,対象者情報!$B$8:$Z$32,14,FALSE))","v":"0"},null,null,{"$f":"IF(VLOOKUP(A193,対象者情報!$B$8:$Z$32,2,FALSE)=0,\"\",VLOOKUP(A193,対象者情報!$B$8:$Z$32,15,FALSE))","v":"4"},null,null,null,null,null,null,null,null,null,null,null,null,null,null,null,null,null,null,null,null,"翌年\n以降",null,null,"（１人目と同年）"]
[]
[]
[]
[{"$f":"A193+1","v":14},null,{"$f":"IF(VLOOKUP(A201,対象者情報!$B$8:$Z$32,2,FALSE)=0,\"\",VLOOKUP(A201,対象者情報!$B$8:$Z$32,16,FALSE))","v":"1"},null,null,{"$f":"IF(VLOOKUP(A201,対象者情報!$B$8:$Z$32,2,FALSE)=0,\"\",VLOOKUP(A201,対象者情報!$B$8:$Z$32,17,FALSE))","v":"3"},null,null,{"$f":"IF(VLOOKUP(A201,対象者情報!$B$8:$Z$32,2,FALSE)=0,\"\",VLOOKUP(A201,対象者情報!$B$8:$Z$32,18,FALSE))","v":"6"},null,null,{"$f":"IF(VLOOKUP(A201,対象者情報!$B$8:$Z$32,2,FALSE)=0,\"\",VLOOKUP(A201,対象者情報!$B$8:$Z$32,19,FALSE))","v":"4"},null,null,"－",null,{"$f":"IF(VLOOKUP(A201,対象者情報!$B$8:$Z$32,2,FALSE)=0,\"\",VLOOKUP(A201,対象者情報!$B$8:$Z$32,20,FALSE))","v":"3"},null,null,{"$f":"IF(VLOOKUP(A201,対象者情報!$B$8:$Z$32,2,FALSE)=0,\"\",VLOOKUP(A201,対象者情報!$B$8:$Z$32,21,FALSE))","v":"6"},null,null,{"$f":"IF(VLOOKUP(A201,対象者情報!$B$8:$Z$32,2,FALSE)=0,\"\",VLOOKUP(A201,対象者情報!$B$8:$Z$32,22,FALSE))","v":"1"},null,null,{"$f":"IF(VLOOKUP(A201,対象者情報!$B$8:$Z$32,2,FALSE)=0,\"\",VLOOKUP(A201,対象者情報!$B$8:$Z$32,23,FALSE))","v":"5"},null,null,{"$f":"IF(VLOOKUP(A201,対象者情報!$B$8:$Z$32,2,FALSE)=0,\"\",VLOOKUP(A201,対象者情報!$B$8:$Z$32,24,FALSE))","v":"2"},null,null,{"$f":"IF(VLOOKUP(A201,対象者情報!$B$8:$Z$32,2,FALSE)=0,\"\",VLOOKUP(A201,対象者情報!$B$8:$Z$32,25,FALSE))","v":"8"},null,null,{"$f":"IF(VLOOKUP(A201,対象者情報!$B$8:$G$32,3,FALSE)=0,\"\",VLOOKUP(A201,対象者情報!$B$8:$G$32,3,FALSE))","v":"ツツミタキ　ケンゾウ"},null,null,null,null,null,null,null,null,null,null,null,null,null,null,null,null,null,"当年",null,null,"（１人目と同年）"]
[]
[]
[null,null,null,null,null,null,null,null,null,null,null,null,null,null,null,null,null,null,null,null,null,null,null,null,null,null,null,null,null,null,null,null,null,null,{"$f":"VLOOKUP(A201,対象者情報!$B$8:$G$32,2,FALSE)","v":"鼓滝　健三"}]
[null,null,null,null,null,null,{"$f":"IF(VLOOKUP(A201,対象者情報!$B$8:$G$32,4,FALSE)=0,\"\",IF(VLOOKUP(A201,対象者情報!$B$8:$G$32,4,FALSE)=\"男\",\"1　男\",\"2　女\"))","v":"1　男"},null,null,null,null,{"$f":"IF(VLOOKUP(A201,対象者情報!$B$8:$Z$32,8,FALSE)=0,\"\",IF(VLOOKUP(A201,対象者情報!$B$8:$Z$32,8,FALSE)=\"昭和\",\"5　昭和\",IF(VLOOKUP(A201,対象者情報!$B$8:$Z$32,8,FALSE)=\"平成\",\"7　平成\",\"\")))","v":"5　昭和"},null,null,null,null,{"$f":"IF(VLOOKUP(A201,対象者情報!$B$8:$Z$32,2,FALSE)=0,\"\",VLOOKUP(A201,対象者情報!$B$8:$Z$32,10,FALSE))","v":"6"},null,null,{"$f":"IF(VLOOKUP(A201,対象者情報!$B$8:$Z$32,2,FALSE)=0,\"\",VLOOKUP(A201,対象者情報!$B$8:$Z$32,11,FALSE))","v":"2"},null,null,{"$f":"IF(VLOOKUP(A201,対象者情報!$B$8:$Z$32,2,FALSE)=0,\"\",VLOOKUP(A201,対象者情報!$B$8:$Z$32,12,FALSE))","v":"0"},null,null,{"$f":"IF(VLOOKUP(A201,対象者情報!$B$8:$Z$32,2,FALSE)=0,\"\",VLOOKUP(A201,対象者情報!$B$8:$Z$32,13,FALSE))","v":"5"},null,null,{"$f":"IF(VLOOKUP(A201,対象者情報!$B$8:$Z$32,2,FALSE)=0,\"\",VLOOKUP(A201,対象者情報!$B$8:$Z$32,14,FALSE))","v":"0"},null,null,{"$f":"IF(VLOOKUP(A201,対象者情報!$B$8:$Z$32,2,FALSE)=0,\"\",VLOOKUP(A201,対象者情報!$B$8:$Z$32,15,FALSE))","v":"5"},null,null,null,null,null,null,null,null,null,null,null,null,null,null,null,null,null,null,null,null,"翌年\n以降",null,null,"（１人目と同年）"]
[]
[]
[]
[{"$f":"A201+1","v":15},null,{"$f":"IF(VLOOKUP(A209,対象者情報!$B$8:$Z$32,2,FALSE)=0,\"\",VLOOKUP(A209,対象者情報!$B$8:$Z$32,16,FALSE))","v":"1"},null,null,{"$f":"IF(VLOOKUP(A209,対象者情報!$B$8:$Z$32,2,FALSE)=0,\"\",VLOOKUP(A209,対象者情報!$B$8:$Z$32,17,FALSE))","v":"3"},null,null,{"$f":"IF(VLOOKUP(A209,対象者情報!$B$8:$Z$32,2,FALSE)=0,\"\",VLOOKUP(A209,対象者情報!$B$8:$Z$32,18,FALSE))","v":"7"},null,null,{"$f":"IF(VLOOKUP(A209,対象者情報!$B$8:$Z$32,2,FALSE)=0,\"\",VLOOKUP(A209,対象者情報!$B$8:$Z$32,19,FALSE))","v":"4"},null,null,"－",null,{"$f":"IF(VLOOKUP(A209,対象者情報!$B$8:$Z$32,2,FALSE)=0,\"\",VLOOKUP(A209,対象者情報!$B$8:$Z$32,20,FALSE))","v":"3"},null,null,{"$f":"IF(VLOOKUP(A209,対象者情報!$B$8:$Z$32,2,FALSE)=0,\"\",VLOOKUP(A209,対象者情報!$B$8:$Z$32,21,FALSE))","v":"4"},null,null,{"$f":"IF(VLOOKUP(A209,対象者情報!$B$8:$Z$32,2,FALSE)=0,\"\",VLOOKUP(A209,対象者情報!$B$8:$Z$32,22,FALSE))","v":"5"},null,null,{"$f":"IF(VLOOKUP(A209,対象者情報!$B$8:$Z$32,2,FALSE)=0,\"\",VLOOKUP(A209,対象者情報!$B$8:$Z$32,23,FALSE))","v":"6"},null,null,{"$f":"IF(VLOOKUP(A209,対象者情報!$B$8:$Z$32,2,FALSE)=0,\"\",VLOOKUP(A209,対象者情報!$B$8:$Z$32,24,FALSE))","v":"5"},null,null,{"$f":"IF(VLOOKUP(A209,対象者情報!$B$8:$Z$32,2,FALSE)=0,\"\",VLOOKUP(A209,対象者情報!$B$8:$Z$32,25,FALSE))","v":"4"},null,null,{"$f":"IF(VLOOKUP(A209,対象者情報!$B$8:$G$32,3,FALSE)=0,\"\",VLOOKUP(A209,対象者情報!$B$8:$G$32,3,FALSE))","v":"ミョウケン　リュウイチ"},null,null,null,null,null,null,null,null,null,null,null,null,null,null,null,null,null,"当年",null,null,"（１人目と同年）"]
[]
[]
[null,null,null,null,null,null,null,null,null,null,null,null,null,null,null,null,null,null,null,null,null,null,null,null,null,null,null,null,null,null,null,null,null,null,{"$f":"IF(VLOOKUP(A209,対象者情報!$B$8:$G$32,2,FALSE)=0,\"\",VLOOKUP(A209,対象者情報!$B$8:$G$32,2,FALSE))","v":"妙見　隆一"}]
[null,null,null,null,null,null,{"$f":"IF(VLOOKUP(A209,対象者情報!$B$8:$G$32,4,FALSE)=0,\"\",IF(VLOOKUP(A209,対象者情報!$B$8:$G$32,4,FALSE)=\"男\",\"1　男\",\"2　女\"))","v":"1　男"},null,null,null,null,{"$f":"IF(VLOOKUP(A209,対象者情報!$B$8:$Z$32,8,FALSE)=0,\"\",IF(VLOOKUP(A209,対象者情報!$B$8:$Z$32,8,FALSE)=\"昭和\",\"5　昭和\",IF(VLOOKUP(A209,対象者情報!$B$8:$Z$32,8,FALSE)=\"平成\",\"7　平成\",\"\")))","v":"5　昭和"},null,null,null,null,{"$f":"IF(VLOOKUP(A209,対象者情報!$B$8:$Z$32,2,FALSE)=0,\"\",VLOOKUP(A209,対象者情報!$B$8:$Z$32,10,FALSE))","v":"6"},null,null,{"$f":"IF(VLOOKUP(A209,対象者情報!$B$8:$Z$32,2,FALSE)=0,\"\",VLOOKUP(A209,対象者情報!$B$8:$Z$32,11,FALSE))","v":"1"},null,null,{"$f":"IF(VLOOKUP(A209,対象者情報!$B$8:$Z$32,2,FALSE)=0,\"\",VLOOKUP(A209,対象者情報!$B$8:$Z$32,12,FALSE))","v":"0"},null,null,{"$f":"IF(VLOOKUP(A209,対象者情報!$B$8:$Z$32,2,FALSE)=0,\"\",VLOOKUP(A209,対象者情報!$B$8:$Z$32,13,FALSE))","v":"7"},null,null,{"$f":"IF(VLOOKUP(A209,対象者情報!$B$8:$Z$32,2,FALSE)=0,\"\",VLOOKUP(A209,対象者情報!$B$8:$Z$32,14,FALSE))","v":"1"},null,null,{"$f":"IF(VLOOKUP(A209,対象者情報!$B$8:$Z$32,2,FALSE)=0,\"\",VLOOKUP(A209,対象者情報!$B$8:$Z$32,15,FALSE))","v":"7"},null,null,null,null,null,null,null,null,null,null,null,null,null,null,null,null,null,null,null,null,"翌年\n以降",null,null,"（１人目と同年）"]
[]
[]
[]
[]
[]
[null,null,null,null,null,null,null,null,null,null,null,null,null,null,null,null,null,null,null,null,null,null,null,null,null,null,null,null,null,null,null,null,null,null,null,null,null,null,null,null,null,null,null,null,null,null,null,null,null,null,null,null,null,null,null,null,null,null,null,null,null,null,null,null,null,null,null,null,null,null,null,null,null,"連合会",null,null,null,null,null,"9：\n令和",null,null,null,null,null,null,null,null,null,null,null,null,null,null,"厚生労働省"]
[]
[]
[]
[]
[]
[]
[]
[]
[]
[]
[]
[]
[]
[]
[]
[]
[]
[]
[]
[]
[]
[]
[]
[]
[]
[null,null,"登 録 事 業 所 番 号",null,null,null,null,null,null,null,null,null,null,null,null,null,null,null,"登　　　　録　　　　事　　　　業　　　　所　　　　名　　　　称"]
[]
[null,null,{"$f":"$C$7","v":""},null,{"$f":"$E$7","v":""},null,{"$f":"$G$7","v":""},null,{"$f":"$I$7","v":""},null,{"$f":"$K$7","v":""},null,{"$f":"$M$7","v":""},null,{"$f":"$O$7","v":""},null,{"$f":"$Q$7","v":""},null,{"$f":"$S$7","v":"カ）　コンノデザイン"}]
[]
[null,null,null,null,null,null,null,null,null,null,null,null,null,null,null,null,null,null,{"$f":"$S$9","v":"株式会社今野デザイン"}]
[]
[]
[null,null,"基礎年金番号\n性別・生年月日※",null,null,null,null,null,null,null,null,null,null,null,null,null,null,null,null,null,null,null,null,null,null,null,null,null,null,null,null,null,null,null,"氏名",null,null,null,null,null,null,null,null,null,null,null,null,null,null,null,null,null,"中小事業主掛金額（千円単位）"]
[]
[null,null,null,null,null,null,null,null,null,null,null,null,null,null,null,null,null,null,null,null,null,null,null,null,null,null,null,null,null,null,null,null,null,null,null,null,null,null,null,null,null,null,null,null,null,null,null,null,null,null,null,null,null,null,null,null,null,null,null,null,null,null,"納付月","1月\n（12月分）",null,null,null,"2月\n（1月分）",null,null,null,"3月\n（2月分）",null,null,null,"4月\n（3月分）",null,null,null,"5月\n（4月分）",null,null,null,"6月\n（5月分）",null,null,null,"7月\n（6月分）",null,null,null,"8月\n（7月分）",null,null,null,"9月\n（8月分）",null,null,null,"10月\n（9月分）",null,null,null,"11月\n（10月分）",null,null,null,"12月\n（11月分）"]
[]
[null,null,null,null,null,null,null,null,null,null,null,null,null,null,null,null,null,null,null,null,null,null,null,null,null,null,null,null,null,null,null,null,null,null,null,null,null,null,null,null,null,null,null,null,null,null,null,null,null,null,null,null,"年"]
[{"$f":"A209+1","v":16},null,{"$f":"IF(VLOOKUP(A257,対象者情報!$B$8:$Z$32,2,FALSE)=0,\"\",VLOOKUP(A257,対象者情報!$B$8:$Z$32,16,FALSE))","v":""},null,null,{"$f":"IF(VLOOKUP(A257,対象者情報!$B$8:$Z$32,2,FALSE)=0,\"\",VLOOKUP(A257,対象者情報!$B$8:$Z$32,17,FALSE))","v":""},null,null,{"$f":"IF(VLOOKUP(A257,対象者情報!$B$8:$Z$32,2,FALSE)=0,\"\",VLOOKUP(A257,対象者情報!$B$8:$Z$32,18,FALSE))","v":""},null,null,{"$f":"IF(VLOOKUP(A257,対象者情報!$B$8:$Z$32,2,FALSE)=0,\"\",VLOOKUP(A257,対象者情報!$B$8:$Z$32,19,FALSE))","v":""},null,null,"－",null,{"$f":"IF(VLOOKUP(A257,対象者情報!$B$8:$Z$32,2,FALSE)=0,\"\",VLOOKUP(A257,対象者情報!$B$8:$Z$32,20,FALSE))","v":""},null,null,{"$f":"IF(VLOOKUP(A257,対象者情報!$B$8:$Z$32,2,FALSE)=0,\"\",VLOOKUP(A257,対象者情報!$B$8:$Z$32,21,FALSE))","v":""},null,null,{"$f":"IF(VLOOKUP(A257,対象者情報!$B$8:$Z$32,2,FALSE)=0,\"\",VLOOKUP(A257,対象者情報!$B$8:$Z$32,22,FALSE))","v":""},null,null,{"$f":"IF(VLOOKUP(A257,対象者情報!$B$8:$Z$32,2,FALSE)=0,\"\",VLOOKUP(A257,対象者情報!$B$8:$Z$32,23,FALSE))","v":""},null,null,{"$f":"IF(VLOOKUP(A257,対象者情報!$B$8:$Z$32,2,FALSE)=0,\"\",VLOOKUP(A257,対象者情報!$B$8:$Z$32,24,FALSE))","v":""},null,null,{"$f":"IF(VLOOKUP(A257,対象者情報!$B$8:$Z$32,2,FALSE)=0,\"\",VLOOKUP(A257,対象者情報!$B$8:$Z$32,25,FALSE))","v":""},null,null,{"$f":"IF(VLOOKUP(A257,対象者情報!$B$8:$G$32,3,FALSE)=0,\"\",VLOOKUP(A257,対象者情報!$B$8:$G$32,3,FALSE))","v":""},null,null,null,null,null,null,null,null,null,null,null,null,null,null,null,null,null,"当年",null,null,"令和"]
[]
[null,null,null,null,null,null,null,null,null,null,null,null,null,null,null,null,null,null,null,null,null,null,null,null,null,null,null,null,null,null,null,null,null,null,null,null,null,null,null,null,null,null,null,null,null,null,null,null,null,null,null,null,null,null,null,null,null,null,null,null,null,null,"年"]
[null,null,null,null,null,null,null,null,null,null,null,null,null,null,null,null,null,null,null,null,null,null,null,null,null,null,null,null,null,null,null,null,null,null,{"$f":"IF(VLOOKUP(A257,対象者情報!$B$8:$G$32,2,FALSE)=0,\"\",VLOOKUP(A257,対象者情報!$B$8:$G$32,2,FALSE))","v":""}]
[null,null,null,null,null,null,{"$f":"IF(VLOOKUP(A257,対象者情報!$B$8:$G$32,4,FALSE)=0,\"\",IF(VLOOKUP(A257,対象者情報!$B$8:$G$32,4,FALSE)=\"男\",\"1　男\",\"2　女\"))","v":""},null,null,null,null,{"$f":"IF(VLOOKUP(A257,対象者情報!$B$8:$Z$32,8,FALSE)=0,\"\",IF(VLOOKUP(A257,対象者情報!$B$8:$Z$32,8,FALSE)=\"昭和\",\"5　昭和\",IF(VLOOKUP(A257,対象者情報!$B$8:$Z$32,8,FALSE)=\"平成\",\"7　平成\",\"\")))","v":""},null,null,null,null,{"$f":"IF(VLOOKUP(A257,対象者情報!$B$8:$Z$32,2,FALSE)=0,\"\",VLOOKUP(A257,対象者情報!$B$8:$Z$32,10,FALSE))","v":""},null,null,{"$f":"IF(VLOOKUP(A257,対象者情報!$B$8:$Z$32,2,FALSE)=0,\"\",VLOOKUP(A257,対象者情報!$B$8:$Z$32,11,FALSE))","v":""},null,null,{"$f":"IF(VLOOKUP(A257,対象者情報!$B$8:$Z$32,2,FALSE)=0,\"\",VLOOKUP(A257,対象者情報!$B$8:$Z$32,12,FALSE))","v":""},null,null,{"$f":"IF(VLOOKUP(A257,対象者情報!$B$8:$Z$32,2,FALSE)=0,\"\",VLOOKUP(A257,対象者情報!$B$8:$Z$32,13,FALSE))","v":""},null,null,{"$f":"IF(VLOOKUP(A257,対象者情報!$B$8:$Z$32,2,FALSE)=0,\"\",VLOOKUP(A257,対象者情報!$B$8:$Z$32,14,FALSE))","v":""},null,null,{"$f":"IF(VLOOKUP(A257,対象者情報!$B$8:$Z$32,2,FALSE)=0,\"\",VLOOKUP(A257,対象者情報!$B$8:$Z$32,15,FALSE))","v":""},null,null,null,null,null,null,null,null,null,null,null,null,null,null,null,null,null,null,null,null,"翌年\n以降",null,null,"令和"]
[]
[null,null,null,null,null,null,null,null,null,null,null,null,null,null,null,null,null,null,null,null,null,null,null,null,null,null,null,null,null,null,null,null,null,null,null,null,null,null,null,null,null,null,null,null,null,null,null,null,null,null,null,null,null,null,null,null,null,null,null,null,null,null,"年"]
[null,null,null,null,null,null,null,null,null,null,null,null,null,null,null,null,null,null,null,null,null,null,null,null,null,null,null,null,null,null,null,null,null,null,null,null,null,null,null,null,null,null,null,null,null,null,null,null,null,null,null,null,null,null,null,null,null,null,null,null,null,null,"以降"]
[{"$f":"A257+1","v":17},null,{"$f":"IF(VLOOKUP(A265,対象者情報!$B$8:$Z$32,2,FALSE)=0,\"\",VLOOKUP(A265,対象者情報!$B$8:$Z$32,16,FALSE))","v":""},null,null,{"$f":"IF(VLOOKUP(A265,対象者情報!$B$8:$Z$32,2,FALSE)=0,\"\",VLOOKUP(A265,対象者情報!$B$8:$Z$32,17,FALSE))","v":""},null,null,{"$f":"IF(VLOOKUP(A265,対象者情報!$B$8:$Z$32,2,FALSE)=0,\"\",VLOOKUP(A265,対象者情報!$B$8:$Z$32,18,FALSE))","v":""},null,null,{"$f":"IF(VLOOKUP(A265,対象者情報!$B$8:$Z$32,2,FALSE)=0,\"\",VLOOKUP(A265,対象者情報!$B$8:$Z$32,19,FALSE))","v":""},null,null,"－",null,{"$f":"IF(VLOOKUP(A265,対象者情報!$B$8:$Z$32,2,FALSE)=0,\"\",VLOOKUP(A265,対象者情報!$B$8:$Z$32,20,FALSE))","v":""},null,null,{"$f":"IF(VLOOKUP(A265,対象者情報!$B$8:$Z$32,2,FALSE)=0,\"\",VLOOKUP(A265,対象者情報!$B$8:$Z$32,21,FALSE))","v":""},null,null,{"$f":"IF(VLOOKUP(A265,対象者情報!$B$8:$Z$32,2,FALSE)=0,\"\",VLOOKUP(A265,対象者情報!$B$8:$Z$32,22,FALSE))","v":""},null,null,{"$f":"IF(VLOOKUP(A265,対象者情報!$B$8:$Z$32,2,FALSE)=0,\"\",VLOOKUP(A265,対象者情報!$B$8:$Z$32,23,FALSE))","v":""},null,null,{"$f":"IF(VLOOKUP(A265,対象者情報!$B$8:$Z$32,2,FALSE)=0,\"\",VLOOKUP(A265,対象者情報!$B$8:$Z$32,24,FALSE))","v":""},null,null,{"$f":"IF(VLOOKUP(A265,対象者情報!$B$8:$Z$32,2,FALSE)=0,\"\",VLOOKUP(A265,対象者情報!$B$8:$Z$32,25,FALSE))","v":""},null,null,{"$f":"IF(VLOOKUP(A265,対象者情報!$B$8:$G$32,3,FALSE)=0,\"\",VLOOKUP(A265,対象者情報!$B$8:$G$32,3,FALSE))","v":""},null,null,null,null,null,null,null,null,null,null,null,null,null,null,null,null,null,"当年",null,null,"（１人目と同年）"]
[]
[]
[null,null,null,null,null,null,null,null,null,null,null,null,null,null,null,null,null,null,null,null,null,null,null,null,null,null,null,null,null,null,null,null,null,null,{"$f":"IF(VLOOKUP(A265,対象者情報!$B$8:$G$32,2,FALSE)=0,\"\",VLOOKUP(A265,対象者情報!$B$8:$G$32,2,FALSE))","v":""}]
[null,null,null,null,null,null,{"$f":"IF(VLOOKUP(A265,対象者情報!$B$8:$G$32,4,FALSE)=0,\"\",IF(VLOOKUP(A265,対象者情報!$B$8:$G$32,4,FALSE)=\"男\",\"1　男\",\"2　女\"))","v":""},null,null,null,null,{"$f":"IF(VLOOKUP(A265,対象者情報!$B$8:$Z$32,8,FALSE)=0,\"\",IF(VLOOKUP(A265,対象者情報!$B$8:$Z$32,8,FALSE)=\"昭和\",\"5　昭和\",IF(VLOOKUP(A265,対象者情報!$B$8:$Z$32,8,FALSE)=\"平成\",\"7　平成\",\"\")))","v":""},null,null,null,null,{"$f":"IF(VLOOKUP(A265,対象者情報!$B$8:$Z$32,2,FALSE)=0,\"\",VLOOKUP(A265,対象者情報!$B$8:$Z$32,10,FALSE))","v":""},null,null,{"$f":"IF(VLOOKUP(A265,対象者情報!$B$8:$Z$32,2,FALSE)=0,\"\",VLOOKUP(A265,対象者情報!$B$8:$Z$32,11,FALSE))","v":""},null,null,{"$f":"IF(VLOOKUP(A265,対象者情報!$B$8:$Z$32,2,FALSE)=0,\"\",VLOOKUP(A265,対象者情報!$B$8:$Z$32,12,FALSE))","v":""},null,null,{"$f":"IF(VLOOKUP(A265,対象者情報!$B$8:$Z$32,2,FALSE)=0,\"\",VLOOKUP(A265,対象者情報!$B$8:$Z$32,13,FALSE))","v":""},null,null,{"$f":"IF(VLOOKUP(A265,対象者情報!$B$8:$Z$32,2,FALSE)=0,\"\",VLOOKUP(A265,対象者情報!$B$8:$Z$32,14,FALSE))","v":""},null,null,{"$f":"IF(VLOOKUP(A265,対象者情報!$B$8:$Z$32,2,FALSE)=0,\"\",VLOOKUP(A265,対象者情報!$B$8:$Z$32,15,FALSE))","v":""},null,null,null,null,null,null,null,null,null,null,null,null,null,null,null,null,null,null,null,null,"翌年\n以降",null,null,"（１人目と同年）"]
[]
[]
[]
[{"$f":"A265+1","v":18},null,{"$f":"IF(VLOOKUP(A273,対象者情報!$B$8:$Z$32,2,FALSE)=0,\"\",VLOOKUP(A273,対象者情報!$B$8:$Z$32,16,FALSE))","v":""},null,null,{"$f":"IF(VLOOKUP(A273,対象者情報!$B$8:$Z$32,2,FALSE)=0,\"\",VLOOKUP(A273,対象者情報!$B$8:$Z$32,17,FALSE))","v":""},null,null,{"$f":"IF(VLOOKUP(A273,対象者情報!$B$8:$Z$32,2,FALSE)=0,\"\",VLOOKUP(A273,対象者情報!$B$8:$Z$32,18,FALSE))","v":""},null,null,{"$f":"IF(VLOOKUP(A273,対象者情報!$B$8:$Z$32,2,FALSE)=0,\"\",VLOOKUP(A273,対象者情報!$B$8:$Z$32,19,FALSE))","v":""},null,null,"－",null,{"$f":"IF(VLOOKUP(A273,対象者情報!$B$8:$Z$32,2,FALSE)=0,\"\",VLOOKUP(A273,対象者情報!$B$8:$Z$32,20,FALSE))","v":""},null,null,{"$f":"IF(VLOOKUP(A273,対象者情報!$B$8:$Z$32,2,FALSE)=0,\"\",VLOOKUP(A273,対象者情報!$B$8:$Z$32,21,FALSE))","v":""},null,null,{"$f":"IF(VLOOKUP(A273,対象者情報!$B$8:$Z$32,2,FALSE)=0,\"\",VLOOKUP(A273,対象者情報!$B$8:$Z$32,22,FALSE))","v":""},null,null,{"$f":"IF(VLOOKUP(A273,対象者情報!$B$8:$Z$32,2,FALSE)=0,\"\",VLOOKUP(A273,対象者情報!$B$8:$Z$32,23,FALSE))","v":""},null,null,{"$f":"IF(VLOOKUP(A273,対象者情報!$B$8:$Z$32,2,FALSE)=0,\"\",VLOOKUP(A273,対象者情報!$B$8:$Z$32,24,FALSE))","v":""},null,null,{"$f":"IF(VLOOKUP(A273,対象者情報!$B$8:$Z$32,2,FALSE)=0,\"\",VLOOKUP(A273,対象者情報!$B$8:$Z$32,25,FALSE))","v":""},null,null,{"$f":"IF(VLOOKUP(A273,対象者情報!$B$8:$G$32,3,FALSE)=0,\"\",VLOOKUP(A273,対象者情報!$B$8:$G$32,3,FALSE))","v":""},null,null,null,null,null,null,null,null,null,null,null,null,null,null,null,null,null,"当年",null,null,"（１人目と同年）"]
[]
[]
[null,null,null,null,null,null,null,null,null,null,null,null,null,null,null,null,null,null,null,null,null,null,null,null,null,null,null,null,null,null,null,null,null,null,{"$f":"IF(VLOOKUP(A273,対象者情報!$B$8:$G$32,2,FALSE)=0,\"\",VLOOKUP(A273,対象者情報!$B$8:$G$32,2,FALSE))","v":""}]
[null,null,null,null,null,null,{"$f":"IF(VLOOKUP(A273,対象者情報!$B$8:$G$32,4,FALSE)=0,\"\",IF(VLOOKUP(A273,対象者情報!$B$8:$G$32,4,FALSE)=\"男\",\"1　男\",\"2　女\"))","v":""},null,null,null,null,{"$f":"IF(VLOOKUP(A273,対象者情報!$B$8:$Z$32,8,FALSE)=0,\"\",IF(VLOOKUP(A273,対象者情報!$B$8:$Z$32,8,FALSE)=\"昭和\",\"5　昭和\",IF(VLOOKUP(A273,対象者情報!$B$8:$Z$32,8,FALSE)=\"平成\",\"7　平成\",\"\")))","v":""},null,null,null,null,{"$f":"IF(VLOOKUP(A273,対象者情報!$B$8:$Z$32,2,FALSE)=0,\"\",VLOOKUP(A273,対象者情報!$B$8:$Z$32,10,FALSE))","v":""},null,null,{"$f":"IF(VLOOKUP(A273,対象者情報!$B$8:$Z$32,2,FALSE)=0,\"\",VLOOKUP(A273,対象者情報!$B$8:$Z$32,11,FALSE))","v":""},null,null,{"$f":"IF(VLOOKUP(A273,対象者情報!$B$8:$Z$32,2,FALSE)=0,\"\",VLOOKUP(A273,対象者情報!$B$8:$Z$32,12,FALSE))","v":""},null,null,{"$f":"IF(VLOOKUP(A273,対象者情報!$B$8:$Z$32,2,FALSE)=0,\"\",VLOOKUP(A273,対象者情報!$B$8:$Z$32,13,FALSE))","v":""},null,null,{"$f":"IF(VLOOKUP(A273,対象者情報!$B$8:$Z$32,2,FALSE)=0,\"\",VLOOKUP(A273,対象者情報!$B$8:$Z$32,14,FALSE))","v":""},null,null,{"$f":"IF(VLOOKUP(A273,対象者情報!$B$8:$Z$32,2,FALSE)=0,\"\",VLOOKUP(A273,対象者情報!$B$8:$Z$32,15,FALSE))","v":""},null,null,null,null,null,null,null,null,null,null,null,null,null,null,null,null,null,null,null,null,"翌年\n以降",null,null,"（１人目と同年）"]
[]
[]
[]
[{"$f":"A273+1","v":19},null,{"$f":"IF(VLOOKUP(A281,対象者情報!$B$8:$Z$32,2,FALSE)=0,\"\",VLOOKUP(A281,対象者情報!$B$8:$Z$32,16,FALSE))","v":""},null,null,{"$f":"IF(VLOOKUP(A281,対象者情報!$B$8:$Z$32,2,FALSE)=0,\"\",VLOOKUP(A281,対象者情報!$B$8:$Z$32,17,FALSE))","v":""},null,null,{"$f":"IF(VLOOKUP(A281,対象者情報!$B$8:$Z$32,2,FALSE)=0,\"\",VLOOKUP(A281,対象者情報!$B$8:$Z$32,18,FALSE))","v":""},null,null,{"$f":"IF(VLOOKUP(A281,対象者情報!$B$8:$Z$32,2,FALSE)=0,\"\",VLOOKUP(A281,対象者情報!$B$8:$Z$32,19,FALSE))","v":""},null,null,"－",null,{"$f":"IF(VLOOKUP(A281,対象者情報!$B$8:$Z$32,2,FALSE)=0,\"\",VLOOKUP(A281,対象者情報!$B$8:$Z$32,20,FALSE))","v":""},null,null,{"$f":"IF(VLOOKUP(A281,対象者情報!$B$8:$Z$32,2,FALSE)=0,\"\",VLOOKUP(A281,対象者情報!$B$8:$Z$32,21,FALSE))","v":""},null,null,{"$f":"IF(VLOOKUP(A281,対象者情報!$B$8:$Z$32,2,FALSE)=0,\"\",VLOOKUP(A281,対象者情報!$B$8:$Z$32,22,FALSE))","v":""},null,null,{"$f":"IF(VLOOKUP(A281,対象者情報!$B$8:$Z$32,2,FALSE)=0,\"\",VLOOKUP(A281,対象者情報!$B$8:$Z$32,23,FALSE))","v":""},null,null,{"$f":"IF(VLOOKUP(A281,対象者情報!$B$8:$Z$32,2,FALSE)=0,\"\",VLOOKUP(A281,対象者情報!$B$8:$Z$32,24,FALSE))","v":""},null,null,{"$f":"IF(VLOOKUP(A281,対象者情報!$B$8:$Z$32,2,FALSE)=0,\"\",VLOOKUP(A281,対象者情報!$B$8:$Z$32,25,FALSE))","v":""},null,null,{"$f":"IF(VLOOKUP(A281,対象者情報!$B$8:$G$32,3,FALSE)=0,\"\",VLOOKUP(A281,対象者情報!$B$8:$G$32,3,FALSE))","v":""},null,null,null,null,null,null,null,null,null,null,null,null,null,null,null,null,null,"当年",null,null,"（１人目と同年）"]
[]
[]
[null,null,null,null,null,null,null,null,null,null,null,null,null,null,null,null,null,null,null,null,null,null,null,null,null,null,null,null,null,null,null,null,null,null,{"$f":"IF(VLOOKUP(A281,対象者情報!$B$8:$G$32,2,FALSE)=0,\"\",VLOOKUP(A281,対象者情報!$B$8:$G$32,2,FALSE))","v":""}]
[null,null,null,null,null,null,{"$f":"IF(VLOOKUP(A281,対象者情報!$B$8:$G$32,4,FALSE)=0,\"\",IF(VLOOKUP(A281,対象者情報!$B$8:$G$32,4,FALSE)=\"男\",\"1　男\",\"2　女\"))","v":""},null,null,null,null,{"$f":"IF(VLOOKUP(A281,対象者情報!$B$8:$Z$32,8,FALSE)=0,\"\",IF(VLOOKUP(A281,対象者情報!$B$8:$Z$32,8,FALSE)=\"昭和\",\"5　昭和\",IF(VLOOKUP(A281,対象者情報!$B$8:$Z$32,8,FALSE)=\"平成\",\"7　平成\",\"\")))","v":""},null,null,null,null,{"$f":"IF(VLOOKUP(A281,対象者情報!$B$8:$Z$32,2,FALSE)=0,\"\",VLOOKUP(A281,対象者情報!$B$8:$Z$32,10,FALSE))","v":""},null,null,{"$f":"IF(VLOOKUP(A281,対象者情報!$B$8:$Z$32,2,FALSE)=0,\"\",VLOOKUP(A281,対象者情報!$B$8:$Z$32,11,FALSE))","v":""},null,null,{"$f":"IF(VLOOKUP(A281,対象者情報!$B$8:$Z$32,2,FALSE)=0,\"\",VLOOKUP(A281,対象者情報!$B$8:$Z$32,12,FALSE))","v":""},null,null,{"$f":"IF(VLOOKUP(A281,対象者情報!$B$8:$Z$32,2,FALSE)=0,\"\",VLOOKUP(A281,対象者情報!$B$8:$Z$32,13,FALSE))","v":""},null,null,{"$f":"IF(VLOOKUP(A281,対象者情報!$B$8:$Z$32,2,FALSE)=0,\"\",VLOOKUP(A281,対象者情報!$B$8:$Z$32,14,FALSE))","v":""},null,null,{"$f":"IF(VLOOKUP(A281,対象者情報!$B$8:$Z$32,2,FALSE)=0,\"\",VLOOKUP(A281,対象者情報!$B$8:$Z$32,15,FALSE))","v":""},null,null,null,null,null,null,null,null,null,null,null,null,null,null,null,null,null,null,null,null,"翌年\n以降",null,null,"（１人目と同年）"]
[]
[]
[]
[{"$f":"A281+1","v":20},null,{"$f":"IF(VLOOKUP(A289,対象者情報!$B$8:$Z$32,2,FALSE)=0,\"\",VLOOKUP(A289,対象者情報!$B$8:$Z$32,16,FALSE))","v":""},null,null,{"$f":"IF(VLOOKUP(A289,対象者情報!$B$8:$Z$32,2,FALSE)=0,\"\",VLOOKUP(A289,対象者情報!$B$8:$Z$32,17,FALSE))","v":""},null,null,{"$f":"IF(VLOOKUP(A289,対象者情報!$B$8:$Z$32,2,FALSE)=0,\"\",VLOOKUP(A289,対象者情報!$B$8:$Z$32,18,FALSE))","v":""},null,null,{"$f":"IF(VLOOKUP(A289,対象者情報!$B$8:$Z$32,2,FALSE)=0,\"\",VLOOKUP(A289,対象者情報!$B$8:$Z$32,19,FALSE))","v":""},null,null,"－",null,{"$f":"IF(VLOOKUP(A289,対象者情報!$B$8:$Z$32,2,FALSE)=0,\"\",VLOOKUP(A289,対象者情報!$B$8:$Z$32,20,FALSE))","v":""},null,null,{"$f":"IF(VLOOKUP(A289,対象者情報!$B$8:$Z$32,2,FALSE)=0,\"\",VLOOKUP(A289,対象者情報!$B$8:$Z$32,21,FALSE))","v":""},null,null,{"$f":"IF(VLOOKUP(A289,対象者情報!$B$8:$Z$32,2,FALSE)=0,\"\",VLOOKUP(A289,対象者情報!$B$8:$Z$32,22,FALSE))","v":""},null,null,{"$f":"IF(VLOOKUP(A289,対象者情報!$B$8:$Z$32,2,FALSE)=0,\"\",VLOOKUP(A289,対象者情報!$B$8:$Z$32,23,FALSE))","v":""},null,null,{"$f":"IF(VLOOKUP(A289,対象者情報!$B$8:$Z$32,2,FALSE)=0,\"\",VLOOKUP(A289,対象者情報!$B$8:$Z$32,24,FALSE))","v":""},null,null,{"$f":"IF(VLOOKUP(A289,対象者情報!$B$8:$Z$32,2,FALSE)=0,\"\",VLOOKUP(A289,対象者情報!$B$8:$Z$32,25,FALSE))","v":""},null,null,{"$f":"IF(VLOOKUP(A289,対象者情報!$B$8:$G$32,3,FALSE)=0,\"\",VLOOKUP(A289,対象者情報!$B$8:$G$32,3,FALSE))","v":""},null,null,null,null,null,null,null,null,null,null,null,null,null,null,null,null,null,"当年",null,null,"（１人目と同年）"]
[]
[]
[null,null,null,null,null,null,null,null,null,null,null,null,null,null,null,null,null,null,null,null,null,null,null,null,null,null,null,null,null,null,null,null,null,null,{"$f":"IF(VLOOKUP(A289,対象者情報!$B$8:$G$32,2,FALSE)=0,\"\",VLOOKUP(A289,対象者情報!$B$8:$G$32,2,FALSE))","v":""}]
[null,null,null,null,null,null,{"$f":"IF(VLOOKUP(A289,対象者情報!$B$8:$G$32,4,FALSE)=0,\"\",IF(VLOOKUP(A289,対象者情報!$B$8:$G$32,4,FALSE)=\"男\",\"1　男\",\"2　女\"))","v":""},null,null,null,null,{"$f":"IF(VLOOKUP(A289,対象者情報!$B$8:$Z$32,8,FALSE)=0,\"\",IF(VLOOKUP(A289,対象者情報!$B$8:$Z$32,8,FALSE)=\"昭和\",\"5　昭和\",IF(VLOOKUP(A289,対象者情報!$B$8:$Z$32,8,FALSE)=\"平成\",\"7　平成\",\"\")))","v":""},null,null,null,null,{"$f":"IF(VLOOKUP(A289,対象者情報!$B$8:$Z$32,2,FALSE)=0,\"\",VLOOKUP(A289,対象者情報!$B$8:$Z$32,10,FALSE))","v":""},null,null,{"$f":"IF(VLOOKUP(A289,対象者情報!$B$8:$Z$32,2,FALSE)=0,\"\",VLOOKUP(A289,対象者情報!$B$8:$Z$32,11,FALSE))","v":""},null,null,{"$f":"IF(VLOOKUP(A289,対象者情報!$B$8:$Z$32,2,FALSE)=0,\"\",VLOOKUP(A289,対象者情報!$B$8:$Z$32,12,FALSE))","v":""},null,null,{"$f":"IF(VLOOKUP(A289,対象者情報!$B$8:$Z$32,2,FALSE)=0,\"\",VLOOKUP(A289,対象者情報!$B$8:$Z$32,13,FALSE))","v":""},null,null,{"$f":"IF(VLOOKUP(A289,対象者情報!$B$8:$Z$32,2,FALSE)=0,\"\",VLOOKUP(A289,対象者情報!$B$8:$Z$32,14,FALSE))","v":""},null,null,{"$f":"IF(VLOOKUP(A289,対象者情報!$B$8:$Z$32,2,FALSE)=0,\"\",VLOOKUP(A289,対象者情報!$B$8:$Z$32,15,FALSE))","v":""},null,null,null,null,null,null,null,null,null,null,null,null,null,null,null,null,null,null,null,null,"翌年\n以降",null,null,"（１人目と同年）"]
[]
[]
[]
[]
[]
[null,null,null,null,null,null,null,null,null,null,null,null,null,null,null,null,null,null,null,null,null,null,null,null,null,null,null,null,null,null,null,null,null,null,null,null,null,null,null,null,null,null,null,null,null,null,null,null,null,null,null,null,null,null,null,null,null,null,null,null,null,null,null,null,null,null,null,null,null,null,null,null,null,"連合会",null,null,null,null,null,"9：\n令和",null,null,null,null,null,null,null,null,null,null,null,null,null,null,"厚生労働省"]
[]
[]
[]
[]
[]
[]
[]
[]
[]
[]
[]
[]
[]
[]
[]
[]
[]
[]
[]
[]
[]
[]
[]
[]
[]
[null,null,"登 録 事 業 所 番 号",null,null,null,null,null,null,null,null,null,null,null,null,null,null,null,"登　　　　録　　　　事　　　　業　　　　所　　　　名　　　　称"]
[]
[null,null,{"$f":"$C$7","v":""},null,{"$f":"$E$7","v":""},null,{"$f":"$G$7","v":""},null,{"$f":"$I$7","v":""},null,{"$f":"$K$7","v":""},null,{"$f":"$M$7","v":""},null,{"$f":"$O$7","v":""},null,{"$f":"$Q$7","v":""},null,{"$f":"$S$7","v":"カ）　コンノデザイン"}]
[]
[null,null,null,null,null,null,null,null,null,null,null,null,null,null,null,null,null,null,{"$f":"$S$9","v":"株式会社今野デザイン"}]
[]
[]
[null,null,"基礎年金番号\n性別・生年月日※",null,null,null,null,null,null,null,null,null,null,null,null,null,null,null,null,null,null,null,null,null,null,null,null,null,null,null,null,null,null,null,"氏名",null,null,null,null,null,null,null,null,null,null,null,null,null,null,null,null,null,"中小事業主掛金額（千円単位）"]
[]
[null,null,null,null,null,null,null,null,null,null,null,null,null,null,null,null,null,null,null,null,null,null,null,null,null,null,null,null,null,null,null,null,null,null,null,null,null,null,null,null,null,null,null,null,null,null,null,null,null,null,null,null,null,null,null,null,null,null,null,null,null,null,"納付月","1月\n（12月分）",null,null,null,"2月\n（1月分）",null,null,null,"3月\n（2月分）",null,null,null,"4月\n（3月分）",null,null,null,"5月\n（4月分）",null,null,null,"6月\n（5月分）",null,null,null,"7月\n（6月分）",null,null,null,"8月\n（7月分）",null,null,null,"9月\n（8月分）",null,null,null,"10月\n（9月分）",null,null,null,"11月\n（10月分）",null,null,null,"12月\n（11月分）"]
[]
[null,null,null,null,null,null,null,null,null,null,null,null,null,null,null,null,null,null,null,null,null,null,null,null,null,null,null,null,null,null,null,null,null,null,null,null,null,null,null,null,null,null,null,null,null,null,null,null,null,null,null,null,"年"]
[{"$f":"A289+1","v":21},null,{"$f":"IF(VLOOKUP(A337,対象者情報!$B$8:$Z$32,2,FALSE)=0,\"\",VLOOKUP(A337,対象者情報!$B$8:$Z$32,16,FALSE))","v":""},null,null,{"$f":"IF(VLOOKUP(A337,対象者情報!$B$8:$Z$32,2,FALSE)=0,\"\",VLOOKUP(A337,対象者情報!$B$8:$Z$32,17,FALSE))","v":""},null,null,{"$f":"IF(VLOOKUP(A337,対象者情報!$B$8:$Z$32,2,FALSE)=0,\"\",VLOOKUP(A337,対象者情報!$B$8:$Z$32,18,FALSE))","v":""},null,null,{"$f":"IF(VLOOKUP(A337,対象者情報!$B$8:$Z$32,2,FALSE)=0,\"\",VLOOKUP(A337,対象者情報!$B$8:$Z$32,19,FALSE))","v":""},null,null,"－",null,{"$f":"IF(VLOOKUP(A337,対象者情報!$B$8:$Z$32,2,FALSE)=0,\"\",VLOOKUP(A337,対象者情報!$B$8:$Z$32,20,FALSE))","v":""},null,null,{"$f":"IF(VLOOKUP(A337,対象者情報!$B$8:$Z$32,2,FALSE)=0,\"\",VLOOKUP(A337,対象者情報!$B$8:$Z$32,21,FALSE))","v":""},null,null,{"$f":"IF(VLOOKUP(A337,対象者情報!$B$8:$Z$32,2,FALSE)=0,\"\",VLOOKUP(A337,対象者情報!$B$8:$Z$32,22,FALSE))","v":""},null,null,{"$f":"IF(VLOOKUP(A337,対象者情報!$B$8:$Z$32,2,FALSE)=0,\"\",VLOOKUP(A337,対象者情報!$B$8:$Z$32,23,FALSE))","v":""},null,null,{"$f":"IF(VLOOKUP(A337,対象者情報!$B$8:$Z$32,2,FALSE)=0,\"\",VLOOKUP(A337,対象者情報!$B$8:$Z$32,24,FALSE))","v":""},null,null,{"$f":"IF(VLOOKUP(A337,対象者情報!$B$8:$Z$32,2,FALSE)=0,\"\",VLOOKUP(A337,対象者情報!$B$8:$Z$32,25,FALSE))","v":""},null,null,{"$f":"IF(VLOOKUP(A337,対象者情報!$B$8:$G$32,3,FALSE)=0,\"\",VLOOKUP(A337,対象者情報!$B$8:$G$32,3,FALSE))","v":""},null,null,null,null,null,null,null,null,null,null,null,null,null,null,null,null,null,"当年",null,null,"令和"]
[]
[null,null,null,null,null,null,null,null,null,null,null,null,null,null,null,null,null,null,null,null,null,null,null,null,null,null,null,null,null,null,null,null,null,null,null,null,null,null,null,null,null,null,null,null,null,null,null,null,null,null,null,null,null,null,null,null,null,null,null,null,null,null,"年"]
[null,null,null,null,null,null,null,null,null,null,null,null,null,null,null,null,null,null,null,null,null,null,null,null,null,null,null,null,null,null,null,null,null,null,{"$f":"IF(VLOOKUP(A337,対象者情報!$B$8:$G$32,2,FALSE)=0,\"\",VLOOKUP(A337,対象者情報!$B$8:$G$32,2,FALSE))","v":""}]
[null,null,null,null,null,null,{"$f":"IF(VLOOKUP(A337,対象者情報!$B$8:$G$32,4,FALSE)=0,\"\",IF(VLOOKUP(A337,対象者情報!$B$8:$G$32,4,FALSE)=\"男\",\"1　男\",\"2　女\"))","v":""},null,null,null,null,{"$f":"IF(VLOOKUP(A337,対象者情報!$B$8:$Z$32,8,FALSE)=0,\"\",IF(VLOOKUP(A337,対象者情報!$B$8:$Z$32,8,FALSE)=\"昭和\",\"5　昭和\",IF(VLOOKUP(A337,対象者情報!$B$8:$Z$32,8,FALSE)=\"平成\",\"7　平成\",\"\")))","v":""},null,null,null,null,{"$f":"IF(VLOOKUP(A337,対象者情報!$B$8:$Z$32,2,FALSE)=0,\"\",VLOOKUP(A337,対象者情報!$B$8:$Z$32,10,FALSE))","v":""},null,null,{"$f":"IF(VLOOKUP(A337,対象者情報!$B$8:$Z$32,2,FALSE)=0,\"\",VLOOKUP(A337,対象者情報!$B$8:$Z$32,11,FALSE))","v":""},null,null,{"$f":"IF(VLOOKUP(A337,対象者情報!$B$8:$Z$32,2,FALSE)=0,\"\",VLOOKUP(A337,対象者情報!$B$8:$Z$32,12,FALSE))","v":""},null,null,{"$f":"IF(VLOOKUP(A337,対象者情報!$B$8:$Z$32,2,FALSE)=0,\"\",VLOOKUP(A337,対象者情報!$B$8:$Z$32,13,FALSE))","v":""},null,null,{"$f":"IF(VLOOKUP(A337,対象者情報!$B$8:$Z$32,2,FALSE)=0,\"\",VLOOKUP(A337,対象者情報!$B$8:$Z$32,14,FALSE))","v":""},null,null,{"$f":"IF(VLOOKUP(A337,対象者情報!$B$8:$Z$32,2,FALSE)=0,\"\",VLOOKUP(A337,対象者情報!$B$8:$Z$32,15,FALSE))","v":""},null,null,null,null,null,null,null,null,null,null,null,null,null,null,null,null,null,null,null,null,"翌年\n以降",null,null,"令和"]
[]
[null,null,null,null,null,null,null,null,null,null,null,null,null,null,null,null,null,null,null,null,null,null,null,null,null,null,null,null,null,null,null,null,null,null,null,null,null,null,null,null,null,null,null,null,null,null,null,null,null,null,null,null,null,null,null,null,null,null,null,null,null,null,"年"]
[null,null,null,null,null,null,null,null,null,null,null,null,null,null,null,null,null,null,null,null,null,null,null,null,null,null,null,null,null,null,null,null,null,null,null,null,null,null,null,null,null,null,null,null,null,null,null,null,null,null,null,null,null,null,null,null,null,null,null,null,null,null,"以降"]
[{"$f":"A337+1","v":22},null,{"$f":"IF(VLOOKUP(A345,対象者情報!$B$8:$Z$32,2,FALSE)=0,\"\",VLOOKUP(A345,対象者情報!$B$8:$Z$32,16,FALSE))","v":""},null,null,{"$f":"IF(VLOOKUP(A345,対象者情報!$B$8:$Z$32,2,FALSE)=0,\"\",VLOOKUP(A345,対象者情報!$B$8:$Z$32,17,FALSE))","v":""},null,null,{"$f":"IF(VLOOKUP(A345,対象者情報!$B$8:$Z$32,2,FALSE)=0,\"\",VLOOKUP(A345,対象者情報!$B$8:$Z$32,18,FALSE))","v":""},null,null,{"$f":"IF(VLOOKUP(A345,対象者情報!$B$8:$Z$32,2,FALSE)=0,\"\",VLOOKUP(A345,対象者情報!$B$8:$Z$32,19,FALSE))","v":""},null,null,"－",null,{"$f":"IF(VLOOKUP(A345,対象者情報!$B$8:$Z$32,2,FALSE)=0,\"\",VLOOKUP(A345,対象者情報!$B$8:$Z$32,20,FALSE))","v":""},null,null,{"$f":"IF(VLOOKUP(A345,対象者情報!$B$8:$Z$32,2,FALSE)=0,\"\",VLOOKUP(A345,対象者情報!$B$8:$Z$32,21,FALSE))","v":""},null,null,{"$f":"IF(VLOOKUP(A345,対象者情報!$B$8:$Z$32,2,FALSE)=0,\"\",VLOOKUP(A345,対象者情報!$B$8:$Z$32,22,FALSE))","v":""},null,null,{"$f":"IF(VLOOKUP(A345,対象者情報!$B$8:$Z$32,2,FALSE)=0,\"\",VLOOKUP(A345,対象者情報!$B$8:$Z$32,23,FALSE))","v":""},null,null,{"$f":"IF(VLOOKUP(A345,対象者情報!$B$8:$Z$32,2,FALSE)=0,\"\",VLOOKUP(A345,対象者情報!$B$8:$Z$32,24,FALSE))","v":""},null,null,{"$f":"IF(VLOOKUP(A345,対象者情報!$B$8:$Z$32,2,FALSE)=0,\"\",VLOOKUP(A345,対象者情報!$B$8:$Z$32,25,FALSE))","v":""},null,null,{"$f":"IF(VLOOKUP(A345,対象者情報!$B$8:$G$32,3,FALSE)=0,\"\",VLOOKUP(A345,対象者情報!$B$8:$G$32,3,FALSE))","v":""},null,null,null,null,null,null,null,null,null,null,null,null,null,null,null,null,null,"当年",null,null,"（１人目と同年）"]
[]
[]
[null,null,null,null,null,null,null,null,null,null,null,null,null,null,null,null,null,null,null,null,null,null,null,null,null,null,null,null,null,null,null,null,null,null,{"$f":"IF(VLOOKUP(A345,対象者情報!$B$8:$G$32,2,FALSE)=0,\"\",VLOOKUP(A345,対象者情報!$B$8:$G$32,2,FALSE))","v":""}]
[null,null,null,null,null,null,{"$f":"IF(VLOOKUP(A345,対象者情報!$B$8:$G$32,4,FALSE)=0,\"\",IF(VLOOKUP(A345,対象者情報!$B$8:$G$32,4,FALSE)=\"男\",\"1　男\",\"2　女\"))","v":""},null,null,null,null,{"$f":"IF(VLOOKUP(A345,対象者情報!$B$8:$Z$32,8,FALSE)=0,\"\",IF(VLOOKUP(A345,対象者情報!$B$8:$Z$32,8,FALSE)=\"昭和\",\"5　昭和\",IF(VLOOKUP(A345,対象者情報!$B$8:$Z$32,8,FALSE)=\"平成\",\"7　平成\",\"\")))","v":""},null,null,null,null,{"$f":"IF(VLOOKUP(A345,対象者情報!$B$8:$Z$32,2,FALSE)=0,\"\",VLOOKUP(A345,対象者情報!$B$8:$Z$32,10,FALSE))","v":""},null,null,{"$f":"IF(VLOOKUP(A345,対象者情報!$B$8:$Z$32,2,FALSE)=0,\"\",VLOOKUP(A345,対象者情報!$B$8:$Z$32,11,FALSE))","v":""},null,null,{"$f":"IF(VLOOKUP(A345,対象者情報!$B$8:$Z$32,2,FALSE)=0,\"\",VLOOKUP(A345,対象者情報!$B$8:$Z$32,12,FALSE))","v":""},null,null,{"$f":"IF(VLOOKUP(A345,対象者情報!$B$8:$Z$32,2,FALSE)=0,\"\",VLOOKUP(A345,対象者情報!$B$8:$Z$32,13,FALSE))","v":""},null,null,{"$f":"IF(VLOOKUP(A345,対象者情報!$B$8:$Z$32,2,FALSE)=0,\"\",VLOOKUP(A345,対象者情報!$B$8:$Z$32,14,FALSE))","v":""},null,null,{"$f":"IF(VLOOKUP(A345,対象者情報!$B$8:$Z$32,2,FALSE)=0,\"\",VLOOKUP(A345,対象者情報!$B$8:$Z$32,15,FALSE))","v":""},null,null,null,null,null,null,null,null,null,null,null,null,null,null,null,null,null,null,null,null,"翌年\n以降",null,null,"（１人目と同年）"]
[]
[]
[]
[{"$f":"A345+1","v":23},null,{"$f":"IF(VLOOKUP(A353,対象者情報!$B$8:$Z$32,2,FALSE)=0,\"\",VLOOKUP(A353,対象者情報!$B$8:$Z$32,16,FALSE))","v":""},null,null,{"$f":"IF(VLOOKUP(A353,対象者情報!$B$8:$Z$32,2,FALSE)=0,\"\",VLOOKUP(A353,対象者情報!$B$8:$Z$32,17,FALSE))","v":""},null,null,{"$f":"IF(VLOOKUP(A353,対象者情報!$B$8:$Z$32,2,FALSE)=0,\"\",VLOOKUP(A353,対象者情報!$B$8:$Z$32,18,FALSE))","v":""},null,null,{"$f":"IF(VLOOKUP(A353,対象者情報!$B$8:$Z$32,2,FALSE)=0,\"\",VLOOKUP(A353,対象者情報!$B$8:$Z$32,19,FALSE))","v":""},null,null,"－",null,{"$f":"IF(VLOOKUP(A353,対象者情報!$B$8:$Z$32,2,FALSE)=0,\"\",VLOOKUP(A353,対象者情報!$B$8:$Z$32,20,FALSE))","v":""},null,null,{"$f":"IF(VLOOKUP(A353,対象者情報!$B$8:$Z$32,2,FALSE)=0,\"\",VLOOKUP(A353,対象者情報!$B$8:$Z$32,21,FALSE))","v":""},null,null,{"$f":"IF(VLOOKUP(A353,対象者情報!$B$8:$Z$32,2,FALSE)=0,\"\",VLOOKUP(A353,対象者情報!$B$8:$Z$32,22,FALSE))","v":""},null,null,{"$f":"IF(VLOOKUP(A353,対象者情報!$B$8:$Z$32,2,FALSE)=0,\"\",VLOOKUP(A353,対象者情報!$B$8:$Z$32,23,FALSE))","v":""},null,null,{"$f":"IF(VLOOKUP(A353,対象者情報!$B$8:$Z$32,2,FALSE)=0,\"\",VLOOKUP(A353,対象者情報!$B$8:$Z$32,24,FALSE))","v":""},null,null,{"$f":"IF(VLOOKUP(A353,対象者情報!$B$8:$Z$32,2,FALSE)=0,\"\",VLOOKUP(A353,対象者情報!$B$8:$Z$32,25,FALSE))","v":""},null,null,{"$f":"IF(VLOOKUP(A353,対象者情報!$B$8:$G$32,3,FALSE)=0,\"\",VLOOKUP(A353,対象者情報!$B$8:$G$32,3,FALSE))","v":""},null,null,null,null,null,null,null,null,null,null,null,null,null,null,null,null,null,"当年",null,null,"（１人目と同年）"]
[]
[]
[null,null,null,null,null,null,null,null,null,null,null,null,null,null,null,null,null,null,null,null,null,null,null,null,null,null,null,null,null,null,null,null,null,null,{"$f":"IF(VLOOKUP(A353,対象者情報!$B$8:$G$32,2,FALSE)=0,\"\",VLOOKUP(A353,対象者情報!$B$8:$G$32,2,FALSE))","v":""}]
[null,null,null,null,null,null,{"$f":"IF(VLOOKUP(A353,対象者情報!$B$8:$G$32,4,FALSE)=0,\"\",IF(VLOOKUP(A353,対象者情報!$B$8:$G$32,4,FALSE)=\"男\",\"1　男\",\"2　女\"))","v":""},null,null,null,null,{"$f":"IF(VLOOKUP(A353,対象者情報!$B$8:$Z$32,8,FALSE)=0,\"\",IF(VLOOKUP(A353,対象者情報!$B$8:$Z$32,8,FALSE)=\"昭和\",\"5　昭和\",IF(VLOOKUP(A353,対象者情報!$B$8:$Z$32,8,FALSE)=\"平成\",\"7　平成\",\"\")))","v":""},null,null,null,null,{"$f":"IF(VLOOKUP(A353,対象者情報!$B$8:$Z$32,2,FALSE)=0,\"\",VLOOKUP(A353,対象者情報!$B$8:$Z$32,10,FALSE))","v":""},null,null,{"$f":"IF(VLOOKUP(A353,対象者情報!$B$8:$Z$32,2,FALSE)=0,\"\",VLOOKUP(A353,対象者情報!$B$8:$Z$32,11,FALSE))","v":""},null,null,{"$f":"IF(VLOOKUP(A353,対象者情報!$B$8:$Z$32,2,FALSE)=0,\"\",VLOOKUP(A353,対象者情報!$B$8:$Z$32,12,FALSE))","v":""},null,null,{"$f":"IF(VLOOKUP(A353,対象者情報!$B$8:$Z$32,2,FALSE)=0,\"\",VLOOKUP(A353,対象者情報!$B$8:$Z$32,13,FALSE))","v":""},null,null,{"$f":"IF(VLOOKUP(A353,対象者情報!$B$8:$Z$32,2,FALSE)=0,\"\",VLOOKUP(A353,対象者情報!$B$8:$Z$32,14,FALSE))","v":""},null,null,{"$f":"IF(VLOOKUP(A353,対象者情報!$B$8:$Z$32,2,FALSE)=0,\"\",VLOOKUP(A353,対象者情報!$B$8:$Z$32,15,FALSE))","v":""},null,null,null,null,null,null,null,null,null,null,null,null,null,null,null,null,null,null,null,null,"翌年\n以降",null,null,"（１人目と同年）"]
[]
[]
[]
[{"$f":"A353+1","v":24},null,{"$f":"IF(VLOOKUP(A361,対象者情報!$B$8:$Z$32,2,FALSE)=0,\"\",VLOOKUP(A361,対象者情報!$B$8:$Z$32,16,FALSE))","v":""},null,null,{"$f":"IF(VLOOKUP(A361,対象者情報!$B$8:$Z$32,2,FALSE)=0,\"\",VLOOKUP(A361,対象者情報!$B$8:$Z$32,17,FALSE))","v":""},null,null,{"$f":"IF(VLOOKUP(A361,対象者情報!$B$8:$Z$32,2,FALSE)=0,\"\",VLOOKUP(A361,対象者情報!$B$8:$Z$32,18,FALSE))","v":""},null,null,{"$f":"IF(VLOOKUP(A361,対象者情報!$B$8:$Z$32,2,FALSE)=0,\"\",VLOOKUP(A361,対象者情報!$B$8:$Z$32,19,FALSE))","v":""},null,null,"－",null,{"$f":"IF(VLOOKUP(A361,対象者情報!$B$8:$Z$32,2,FALSE)=0,\"\",VLOOKUP(A361,対象者情報!$B$8:$Z$32,20,FALSE))","v":""},null,null,{"$f":"IF(VLOOKUP(A361,対象者情報!$B$8:$Z$32,2,FALSE)=0,\"\",VLOOKUP(A361,対象者情報!$B$8:$Z$32,21,FALSE))","v":""},null,null,{"$f":"IF(VLOOKUP(A361,対象者情報!$B$8:$Z$32,2,FALSE)=0,\"\",VLOOKUP(A361,対象者情報!$B$8:$Z$32,22,FALSE))","v":""},null,null,{"$f":"IF(VLOOKUP(A361,対象者情報!$B$8:$Z$32,2,FALSE)=0,\"\",VLOOKUP(A361,対象者情報!$B$8:$Z$32,23,FALSE))","v":""},null,null,{"$f":"IF(VLOOKUP(A361,対象者情報!$B$8:$Z$32,2,FALSE)=0,\"\",VLOOKUP(A361,対象者情報!$B$8:$Z$32,24,FALSE))","v":""},null,null,{"$f":"IF(VLOOKUP(A361,対象者情報!$B$8:$Z$32,2,FALSE)=0,\"\",VLOOKUP(A361,対象者情報!$B$8:$Z$32,25,FALSE))","v":""},null,null,{"$f":"IF(VLOOKUP(A361,対象者情報!$B$8:$G$32,3,FALSE)=0,\"\",VLOOKUP(A361,対象者情報!$B$8:$G$32,3,FALSE))","v":""},null,null,null,null,null,null,null,null,null,null,null,null,null,null,null,null,null,"当年",null,null,"（１人目と同年）"]
[]
[]
[null,null,null,null,null,null,null,null,null,null,null,null,null,null,null,null,null,null,null,null,null,null,null,null,null,null,null,null,null,null,null,null,null,null,{"$f":"IF(VLOOKUP(A361,対象者情報!$B$8:$G$32,2,FALSE)=0,\"\",VLOOKUP(A361,対象者情報!$B$8:$G$32,2,FALSE))","v":""}]
[null,null,null,null,null,null,{"$f":"IF(VLOOKUP(A361,対象者情報!$B$8:$G$32,4,FALSE)=0,\"\",IF(VLOOKUP(A361,対象者情報!$B$8:$G$32,4,FALSE)=\"男\",\"1　男\",\"2　女\"))","v":""},null,null,null,null,{"$f":"IF(VLOOKUP(A361,対象者情報!$B$8:$Z$32,8,FALSE)=0,\"\",IF(VLOOKUP(A361,対象者情報!$B$8:$Z$32,8,FALSE)=\"昭和\",\"5　昭和\",IF(VLOOKUP(A361,対象者情報!$B$8:$Z$32,8,FALSE)=\"平成\",\"7　平成\",\"\")))","v":""},null,null,null,null,{"$f":"IF(VLOOKUP(A361,対象者情報!$B$8:$Z$32,2,FALSE)=0,\"\",VLOOKUP(A361,対象者情報!$B$8:$Z$32,10,FALSE))","v":""},null,null,{"$f":"IF(VLOOKUP(A361,対象者情報!$B$8:$Z$32,2,FALSE)=0,\"\",VLOOKUP(A361,対象者情報!$B$8:$Z$32,11,FALSE))","v":""},null,null,{"$f":"IF(VLOOKUP(A361,対象者情報!$B$8:$Z$32,2,FALSE)=0,\"\",VLOOKUP(A361,対象者情報!$B$8:$Z$32,12,FALSE))","v":""},null,null,{"$f":"IF(VLOOKUP(A361,対象者情報!$B$8:$Z$32,2,FALSE)=0,\"\",VLOOKUP(A361,対象者情報!$B$8:$Z$32,13,FALSE))","v":""},null,null,{"$f":"IF(VLOOKUP(A361,対象者情報!$B$8:$Z$32,2,FALSE)=0,\"\",VLOOKUP(A361,対象者情報!$B$8:$Z$32,14,FALSE))","v":""},null,null,{"$f":"IF(VLOOKUP(A361,対象者情報!$B$8:$Z$32,2,FALSE)=0,\"\",VLOOKUP(A361,対象者情報!$B$8:$Z$32,15,FALSE))","v":""},null,null,null,null,null,null,null,null,null,null,null,null,null,null,null,null,null,null,null,null,"翌年\n以降",null,null,"（１人目と同年）"]
[]
[]
[]
[{"$f":"A361+1","v":25},null,{"$f":"IF(VLOOKUP(A369,対象者情報!$B$8:$Z$32,2,FALSE)=0,\"\",VLOOKUP(A369,対象者情報!$B$8:$Z$32,16,FALSE))","v":""},null,null,{"$f":"IF(VLOOKUP(A369,対象者情報!$B$8:$Z$32,2,FALSE)=0,\"\",VLOOKUP(A369,対象者情報!$B$8:$Z$32,17,FALSE))","v":""},null,null,{"$f":"IF(VLOOKUP(A369,対象者情報!$B$8:$Z$32,2,FALSE)=0,\"\",VLOOKUP(A369,対象者情報!$B$8:$Z$32,18,FALSE))","v":""},null,null,{"$f":"IF(VLOOKUP(A369,対象者情報!$B$8:$Z$32,2,FALSE)=0,\"\",VLOOKUP(A369,対象者情報!$B$8:$Z$32,19,FALSE))","v":""},null,null,"－",null,{"$f":"IF(VLOOKUP(A369,対象者情報!$B$8:$Z$32,2,FALSE)=0,\"\",VLOOKUP(A369,対象者情報!$B$8:$Z$32,20,FALSE))","v":""},null,null,{"$f":"IF(VLOOKUP(A369,対象者情報!$B$8:$Z$32,2,FALSE)=0,\"\",VLOOKUP(A369,対象者情報!$B$8:$Z$32,21,FALSE))","v":""},null,null,{"$f":"IF(VLOOKUP(A369,対象者情報!$B$8:$Z$32,2,FALSE)=0,\"\",VLOOKUP(A369,対象者情報!$B$8:$Z$32,22,FALSE))","v":""},null,null,{"$f":"IF(VLOOKUP(A369,対象者情報!$B$8:$Z$32,2,FALSE)=0,\"\",VLOOKUP(A369,対象者情報!$B$8:$Z$32,23,FALSE))","v":""},null,null,{"$f":"IF(VLOOKUP(A369,対象者情報!$B$8:$Z$32,2,FALSE)=0,\"\",VLOOKUP(A369,対象者情報!$B$8:$Z$32,24,FALSE))","v":""},null,null,{"$f":"IF(VLOOKUP(A369,対象者情報!$B$8:$Z$32,2,FALSE)=0,\"\",VLOOKUP(A369,対象者情報!$B$8:$Z$32,25,FALSE))","v":""},null,null,{"$f":"IF(VLOOKUP(A369,対象者情報!$B$8:$G$32,3,FALSE)=0,\"\",VLOOKUP(A369,対象者情報!$B$8:$G$32,3,FALSE))","v":""},null,null,null,null,null,null,null,null,null,null,null,null,null,null,null,null,null,"当年",null,null,"（１人目と同年）"]
[]
[]
[null,null,null,null,null,null,null,null,null,null,null,null,null,null,null,null,null,null,null,null,null,null,null,null,null,null,null,null,null,null,null,null,null,null,{"$f":"IF(VLOOKUP(A369,対象者情報!$B$8:$G$32,2,FALSE)=0,\"\",VLOOKUP(A369,対象者情報!$B$8:$G$32,2,FALSE))","v":""}]
[null,null,null,null,null,null,{"$f":"IF(VLOOKUP(A369,対象者情報!$B$8:$G$32,4,FALSE)=0,\"\",IF(VLOOKUP(A369,対象者情報!$B$8:$G$32,4,FALSE)=\"男\",\"1　男\",\"2　女\"))","v":""},null,null,null,null,{"$f":"IF(VLOOKUP(A369,対象者情報!$B$8:$Z$32,8,FALSE)=0,\"\",IF(VLOOKUP(A369,対象者情報!$B$8:$Z$32,8,FALSE)=\"昭和\",\"5　昭和\",IF(VLOOKUP(A369,対象者情報!$B$8:$Z$32,8,FALSE)=\"平成\",\"7　平成\",\"\")))","v":""},null,null,null,null,{"$f":"IF(VLOOKUP(A369,対象者情報!$B$8:$Z$32,2,FALSE)=0,\"\",VLOOKUP(A369,対象者情報!$B$8:$Z$32,10,FALSE))","v":""},null,null,{"$f":"IF(VLOOKUP(A369,対象者情報!$B$8:$Z$32,2,FALSE)=0,\"\",VLOOKUP(A369,対象者情報!$B$8:$Z$32,11,FALSE))","v":""},null,null,{"$f":"IF(VLOOKUP(A369,対象者情報!$B$8:$Z$32,2,FALSE)=0,\"\",VLOOKUP(A369,対象者情報!$B$8:$Z$32,12,FALSE))","v":""},null,null,{"$f":"IF(VLOOKUP(A369,対象者情報!$B$8:$Z$32,2,FALSE)=0,\"\",VLOOKUP(A369,対象者情報!$B$8:$Z$32,13,FALSE))","v":""},null,null,{"$f":"IF(VLOOKUP(A369,対象者情報!$B$8:$Z$32,2,FALSE)=0,\"\",VLOOKUP(A369,対象者情報!$B$8:$Z$32,14,FALSE))","v":""},null,null,{"$f":"IF(VLOOKUP(A369,対象者情報!$B$8:$Z$32,2,FALSE)=0,\"\",VLOOKUP(A369,対象者情報!$B$8:$Z$32,15,FALSE))","v":""},null,null,null,null,null,null,null,null,null,null,null,null,null,null,null,null,null,null,null,null,"翌年\n以降",null,null,"（１人目と同年）"]
[]
[]
[]
[]
[]
[null,null,null,null,null,null,null,null,null,null,null,null,null,null,null,null,null,null,null,null,null,null,null,null,null,null,null,null,null,null,null,null,null,null,null,null,null,null,null,null,null,null,null,null,null,null,null,null,null,null,null,null,null,null,null,null,null,null,null,null,null,null,null,null,null,null,null,null,null,null,null,null,null,"連合会",null,null,null,null,null,"9：\n令和",null,null,null,null,null,null,null,null,null,null,null,null,null,null,"厚生労働省"]

{"sheet":"K-307","index":7,"n_rows":78,"n_cols":91,"rows_kept":78,"cut":false,"hidden":false,"merged":[[69,23,70,36],[69,37,72,69],[73,23,74,36],[73,37,76,69],[77,23,78,36],[77,37,80,69],[49,8,52,27],[49,28,52,40],[51,41,54,44],[53,19,56,40],[65,23,66,36],[65,37,68,69],[43,7,45,38],[46,8,48,18],[46,19,48,21],[46,22,48,27],[46,28,48,30],[46,31,48,36],[46,37,48,39],[31,7,33,70],[31,74,33,89],[31,90,33,92],[36,7,39,70],[36,74,38,89],[36,90,38,92],[26,7,28,70],[26,74,28,111],[11,23,13,34],[11,35,13,37],[11,38,13,44],[11,45,13,47],[11,48,13,54],[11,55,13,57],[11,58,13,89],[16,7,18,70],[16,74,18,111],[21,7,23,70],[21,74,23,111]]}
[]
[]
[]
[]
[]
[]
[]
[]
[]
[]
[]
[null,null,null,null,null,null,null,null,null,null,null,null,null,null,null,null,null,null,null,null,null,null,null,null,null,null,null,null,null,null,null,null,null,null,null,"年",null,null,null,null,null,null,null,null,null,"月",null,null,null,null,null,null,null,null,null,"日",null,null,"現在の標記状況は以下の通りです。"]
[]
[]
[]
[]
[null,null,null,null,null,null,null,"１.　厚生年金適用事業所名",null,null,null,null,null,null,null,null,null,null,null,null,null,null,null,null,null,null,null,null,null,null,null,null,null,null,null,null,null,null,null,null,null,null,null,null,null,null,null,null,null,null,null,null,null,null,null,null,null,null,null,null,null,null,null,null,null,null,null,null,null,null,null,null,null,null,{"$f":"基本情報!C7","v":"株式会社今野デザイン"}]
[]
[]
[]
[]
[null,null,null,null,null,null,null,"２.　事業主名",null,null,null,null,null,null,null,null,null,null,null,null,null,null,null,null,null,null,null,null,null,null,null,null,null,null,null,null,null,null,null,null,null,null,null,null,null,null,null,null,null,null,null,null,null,null,null,null,null,null,null,null,null,null,null,null,null,null,null,null,null,null,null,null,null,null,{"$f":"基本情報!C7&\"　\"&基本情報!C9","v":"株式会社今野デザイン　代表取締役　今野　友夫"}]
[]
[]
[]
[]
[null,null,null,null,null,null,null,"３.　企業型年金、確定給付企業年金及び存続厚生年金基金の実施状況",null,null,null,null,null,null,null,null,null,null,null,null,null,null,null,null,null,null,null,null,null,null,null,null,null,null,null,null,null,null,null,null,null,null,null,null,null,null,null,null,null,null,null,null,null,null,null,null,null,null,null,null,null,null,null,null,null,null,null,null,null,null,null,null,null,null,"なし"]
[]
[]
[]
[]
[null,null,null,null,null,null,null,"４.　当該厚生年金適用事業所に使用される第一号厚生年金被保険者の数",null,null,null,null,null,null,null,null,null,null,null,null,null,null,null,null,null,null,null,null,null,null,null,null,null,null,null,null,null,null,null,null,null,null,null,null,null,null,null,null,null,null,null,null,null,null,null,null,null,null,null,null,null,null,null,null,null,null,null,null,null,null,null,null,null,null,15,null,null,null,null,null,null,null,null,null,null,null,null,null,null,null,"人"]
[]
[]
[]
[]
[null,null,null,null,null,null,null,"５.　当該事業主が複数の厚生年金適用事業所で第一号厚生年金被保険者\n     を使用する場合にあっては、その全体の第一号厚生年金被保険者の総数",null,null,null,null,null,null,null,null,null,null,null,null,null,null,null,null,null,null,null,null,null,null,null,null,null,null,null,null,null,null,null,null,null,null,null,null,null,null,null,null,null,null,null,null,null,null,null,null,null,null,null,null,null,null,null,null,null,null,null,null,null,null,null,null,null,null,null,null,null,null,null,null,null,null,null,null,null,null,null,null,null,null,"人"]
[]
[]
[]
[]
[]
[]
[null,null,null,null,null,null,null,"上記のとおり相違ないことを証明します。"]
[]
[]
[null,null,null,null,null,null,null,null,null,null,null,null,null,null,null,null,null,null,null,"年",null,null,null,null,null,null,null,null,"月",null,null,null,null,null,null,null,null,"日"]
[]
[]
[null,null,null,null,null,null,null,null,{"$f":"基本情報!H22","v":"近畿"},null,null,null,null,null,null,null,null,null,null,null,null,null,null,null,null,null,null,null,"厚生 （支） 局長"]
[]
[null,null,null,null,null,null,null,null,null,null,null,null,null,null,null,null,null,null,null,null,null,null,null,null,null,null,null,null,null,null,null,null,null,null,null,null,null,null,null,null,null,"殿"]
[]
[null,null,null,null,null,null,null,null,null,null,null,null,null,null,null,null,null,null,null,"国民年金基金連合会理事長"]
[]
[]
[]
[]
[]
[]
[]
[]
[]
[]
[]
[null,null,null,null,null,null,null,null,null,null,null,null,null,null,null,null,null,null,null,null,null,null,null,"厚生年金適用事業所名",null,null,null,null,null,null,null,null,null,null,null,null,null,{"$f":"基本情報!C7","v":"株式会社今野デザイン"}]
[]
[]
[]
[null,null,null,null,null,null,null,null,null,null,null,null,null,null,null,null,null,null,null,null,null,null,null,"所在地",null,null,null,null,null,null,null,null,null,null,null,null,null,{"$f":"基本情報!C14","v":"兵庫県神戸市東灘区御影〇－〇－〇"}]
[]
[]
[]
[null,null,null,null,null,null,null,null,null,null,null,null,null,null,null,null,null,null,null,null,null,null,null,"事業主名",null,null,null,null,null,null,null,null,null,null,null,null,null,{"$f":"基本情報!C7&\"　\"&基本情報!C9","v":"株式会社今野デザイン　代表取締役　今野　友夫"}]
[]
[]
[]
[null,null,null,null,null,null,null,null,null,null,null,null,null,null,null,null,null,null,null,null,null,null,null,"住所",null,null,null,null,null,null,null,null,null,null,null,null,null,{"$f":"基本情報!C14","v":"兵庫県神戸市東灘区御影〇－〇－〇"}]

{"sheet":"K-312","index":8,"n_rows":75,"n_cols":91,"rows_kept":75,"cut":false,"hidden":false,"merged":[[66,23,67,36],[66,37,69,69],[70,23,71,36],[70,37,73,69],[74,23,75,36],[74,37,77,69],[48,8,51,27],[48,28,51,40],[50,41,53,44],[52,19,55,40],[62,23,63,36],[62,37,65,69],[31,7,34,70],[31,74,33,89],[31,90,33,92],[42,7,44,37],[45,8,47,18],[45,19,47,21],[45,22,47,27],[45,28,47,30],[45,31,47,36],[45,37,47,39],[26,7,28,70],[26,74,28,89],[26,90,28,92],[11,23,13,34],[11,35,13,37],[11,38,13,44],[11,45,13,47],[11,48,13,54],[11,55,13,57],[11,58,13,89],[16,7,18,51],[16,53,18,92],[21,7,23,51],[21,53,23,92]]}
[]
[]
[]
[]
[]
[]
[]
[]
[]
[]
[]
[null,null,null,null,null,null,null,null,null,null,null,null,null,null,null,null,null,null,null,null,null,null,null,null,null,null,null,null,null,null,null,null,null,null,null,"年",null,null,null,null,null,null,null,null,null,"月",null,null,null,null,null,null,null,null,null,"日",null,null,"現在の標記状況は以下の通りです。"]
[]
[]
[]
[]
[null,null,null,null,null,null,null,"１.　厚生年金適用事業所名",null,null,null,null,null,null,null,null,null,null,null,null,null,null,null,null,null,null,null,null,null,null,null,null,null,null,null,null,null,null,null,null,null,null,null,null,null,null,null,null,null,null,null,null,null,{"$f":"基本情報!C7","v":"株式会社今野デザイン"}]
[]
[]
[]
[]
[null,null,null,null,null,null,null,"２.　労働組合の名称"]
[]
[]
[]
[]
[null,null,null,null,null,null,null,"３.　当該厚生年金適用事業所に使用される第一号厚生年金被保険者の数",null,null,null,null,null,null,null,null,null,null,null,null,null,null,null,null,null,null,null,null,null,null,null,null,null,null,null,null,null,null,null,null,null,null,null,null,null,null,null,null,null,null,null,null,null,null,null,null,null,null,null,null,null,null,null,null,null,null,null,null,null,null,null,null,null,null,null,null,null,null,null,null,null,null,null,null,null,null,null,null,null,null,"人"]
[]
[]
[]
[]
[null,null,null,null,null,null,null,"４.　当該厚生年金適用事業所に使用される第一号厚生年金被保険者のうち\n　 　当該労働組合の組合員の数",null,null,null,null,null,null,null,null,null,null,null,null,null,null,null,null,null,null,null,null,null,null,null,null,null,null,null,null,null,null,null,null,null,null,null,null,null,null,null,null,null,null,null,null,null,null,null,null,null,null,null,null,null,null,null,null,null,null,null,null,null,null,null,null,null,null,null,null,null,null,null,null,null,null,null,null,null,null,null,null,null,null,"人"]
[]
[]
[]
[]
[]
[]
[]
[]
[]
[]
[null,null,null,null,null,null,null,"上記のとおり相違ないことを証明します。"]
[]
[]
[null,null,null,null,null,null,null,null,null,null,null,null,null,null,null,null,null,null,null,"年",null,null,null,null,null,null,null,null,"月",null,null,null,null,null,null,null,null,"日"]
[]
[]
[null,null,null,null,null,null,null,null,{"$f":"基本情報!H22","v":"近畿"},null,null,null,null,null,null,null,null,null,null,null,null,null,null,null,null,null,null,null,"厚生 （支） 局長"]
[]
[null,null,null,null,null,null,null,null,null,null,null,null,null,null,null,null,null,null,null,null,null,null,null,null,null,null,null,null,null,null,null,null,null,null,null,null,null,null,null,null,null,"殿"]
[]
[null,null,null,null,null,null,null,null,null,null,null,null,null,null,null,null,null,null,null,"国民年金基金連合会理事長"]
[]
[]
[]
[]
[]
[]
[]
[]
[]
[null,null,null,null,null,null,null,null,null,null,null,null,null,null,null,null,null,null,null,null,null,null,null,"厚生年金適用事業所名",null,null,null,null,null,null,null,null,null,null,null,null,null,{"$f":"基本情報!C7","v":"株式会社今野デザイン"}]
[]
[]
[]
[null,null,null,null,null,null,null,null,null,null,null,null,null,null,null,null,null,null,null,null,null,null,null,"所在地",null,null,null,null,null,null,null,null,null,null,null,null,null,{"$f":"基本情報!C14","v":"兵庫県神戸市東灘区御影〇－〇－〇"}]
[]
[]
[]
[null,null,null,null,null,null,null,null,null,null,null,null,null,null,null,null,null,null,null,null,null,null,null,"事業主名",null,null,null,null,null,null,null,null,null,null,null,null,null,{"$f":"基本情報!C7&\"　\"&基本情報!C9","v":"株式会社今野デザイン　代表取締役　今野　友夫"}]
[]
[]
[]
[null,null,null,null,null,null,null,null,null,null,null,null,null,null,null,null,null,null,null,null,null,null,null,"住所",null,null,null,null,null,null,null,null,null,null,null,null,null,{"$f":"基本情報!C14","v":"兵庫県神戸市東灘区御影〇－〇－〇"}]

{"sheet":"K-313","index":9,"n_rows":78,"n_cols":42,"rows_kept":78,"cut":false,"hidden":false,"merged":[[77,23,78,36],[77,37,80,69],[53,19,56,40],[69,23,70,36],[69,37,72,69],[73,23,74,36],[73,37,76,69],[65,23,66,36],[65,37,68,69],[46,37,48,39],[49,8,52,27],[49,28,52,40],[51,41,54,44],[26,13,28,22],[26,30,28,92],[46,8,48,18],[46,19,48,21],[46,22,48,27],[46,28,48,30],[46,31,48,36],[31,13,33,22],[31,30,33,92],[36,13,38,22],[36,30,38,92],[43,7,45,37],[10,13,13,104],[16,13,18,22],[16,30,18,92],[21,13,23,22],[21,30,23,92]]}
[]
[]
[]
[]
[]
[]
[]
[]
[]
[]
[null,null,null,null,null,null,null,null,null,null,null,null,null,"　　　　　　　　　　　　　　　　下記の者が当厚生年金適用事業所の第一号厚生年金被保険者の過半数を代表する者として、\n　　　　　　　　　　　　　　　正当に選出された者であることを証明します。"]
[]
[]
[]
[]
[]
[null,null,null,null,null,null,null,null,null,null,null,null,null,"１.　所属"]
[]
[]
[]
[]
[null,null,null,null,null,null,null,null,null,null,null,null,null,"２.　役職"]
[]
[]
[]
[]
[null,null,null,null,null,null,null,null,null,null,null,null,null,"３.　氏名"]
[]
[]
[]
[]
[null,null,null,null,null,null,null,null,null,null,null,null,null,"４.　住所"]
[]
[]
[]
[]
[null,null,null,null,null,null,null,null,null,null,null,null,null,"５.　選出方法"]
[]
[]
[]
[]
[]
[]
[null,null,null,null,null,null,null,"上記のとおり相違ないことを証明します。"]
[]
[]
[null,null,null,null,null,null,null,null,null,null,null,null,null,null,null,null,null,null,null,"年",null,null,null,null,null,null,null,null,"月",null,null,null,null,null,null,null,null,"日"]
[]
[]
[null,null,null,null,null,null,null,null,{"$f":"基本情報!H22","v":"近畿"},null,null,null,null,null,null,null,null,null,null,null,null,null,null,null,null,null,null,null,"厚生 （支） 局長"]
[]
[null,null,null,null,null,null,null,null,null,null,null,null,null,null,null,null,null,null,null,null,null,null,null,null,null,null,null,null,null,null,null,null,null,null,null,null,null,null,null,null,null,"殿"]
[]
[null,null,null,null,null,null,null,null,null,null,null,null,null,null,null,null,null,null,null,"国民年金基金連合会理事長"]
[]
[]
[]
[]
[]
[]
[]
[]
[]
[]
[]
[null,null,null,null,null,null,null,null,null,null,null,null,null,null,null,null,null,null,null,null,null,null,null,"厚生年金適用事業所名",null,null,null,null,null,null,null,null,null,null,null,null,null,{"$f":"基本情報!C7","v":"株式会社今野デザイン"}]
[]
[]
[]
[null,null,null,null,null,null,null,null,null,null,null,null,null,null,null,null,null,null,null,null,null,null,null,"所在地",null,null,null,null,null,null,null,null,null,null,null,null,null,{"$f":"基本情報!C14","v":"兵庫県神戸市東灘区御影〇－〇－〇"}]
[]
[]
[]
[null,null,null,null,null,null,null,null,null,null,null,null,null,null,null,null,null,null,null,null,null,null,null,"事業主名",null,null,null,null,null,null,null,null,null,null,null,null,null,{"$f":"基本情報!C7&\"　\"&基本情報!C9","v":"株式会社今野デザイン　代表取締役　今野　友夫"}]
[]
[]
[]
[null,null,null,null,null,null,null,null,null,null,null,null,null,null,null,null,null,null,null,null,null,null,null,"住所",null,null,null,null,null,null,null,null,null,null,null,null,null,{"$f":"基本情報!C14","v":"兵庫県神戸市東灘区御影〇－〇－〇"}]

{"sheet":"K-306","index":10,"n_rows":61,"n_cols":105,"rows_kept":61,"cut":false,"hidden":false,"merged":[[60,87,62,88],[60,89,62,90],[60,91,62,92],[60,93,62,109],[63,72,76,92],[63,93,76,109],[54,80,57,85],[54,86,57,91],[54,92,57,97],[54,98,57,103],[54,104,57,109],[60,72,62,77],[60,78,62,80],[60,81,62,82],[60,83,62,84],[60,85,62,86],[50,104,53,109],[54,29,57,31],[54,32,57,37],[54,38,57,43],[54,44,57,49],[54,50,57,55],[54,56,57,61],[54,62,57,67],[54,68,57,73],[54,74,57,79],[50,68,53,73],[50,74,53,79],[50,80,53,85],[50,86,53,91],[50,92,53,97],[50,98,53,103],[50,1,57,28],[50,29,53,31],[50,32,53,37],[50,38,53,43],[50,44,53,49],[50,50,53,55],[50,56,53,61],[50,62,53,67],[46,62,49,67],[42,1,49,28],[42,29,45,31],[42,32,45,37],[42,38,45,43],[42,44,45,49],[42,86,45,91],[42,92,45,97],[42,98,45,103],[42,104,45,109],[46,29,49,31],[46,32,49,37],[46,38,49,43],[46,44,49,49],[46,50,49,55],[46,56,49,61],[42,50,45,55],[42,56,45,61],[42,62,45,67],[42,68,45,73],[42,74,45,79],[42,80,45,85],[46,98,49,103],[46,104,49,109],[46,68,49,73],[46,74,49,79],[46,80,49,85],[46,86,49,91],[46,92,49,97],[34,80,37,85],[34,86,37,91],[34,92,37,97],[34,98,37,103],[38,80,41,85],[38,86,41,91],[38,92,41,97],[38,98,41,103],[38,104,41,109],[38,38,41,43],[38,44,41,49],[38,50,41,55],[38,56,41,61],[38,62,41,67],[38,68,41,73],[38,74,41,79],[34,68,37,73],[34,74,37,79],[30,104,33,109],[34,1,41,28],[34,29,37,31],[34,32,37,37],[34,38,37,43],[34,44,37,49],[34,50,37,55],[34,56,37,61],[34,62,37,67],[30,62,33,67],[30,68,33,73],[30,74,33,79],[30,80,33,85],[30,86,33,91],[30,92,33,97],[30,29,33,31],[30,32,33,37],[30,38,33,43],[30,44,33,49],[30,50,33,55],[30,56,33,61],[34,104,37,109],[38,29,41,31],[38,32,41,37],[26,74,29,79],[26,80,29,85],[26,86,29,91],[26,92,29,97],[26,98,29,103],[26,104,29,109],[22,104,25,109],[26,1,33,28],[26,29,29,31],[26,32,29,37],[26,38,29,43],[26,44,29,49],[26,50,29,55],[26,56,29,61],[26,62,29,67],[26,68,29,73],[22,68,25,73],[22,74,25,79],[22,80,25,85],[22,86,25,91],[22,92,25,97],[22,98,25,103],[18,1,25,28],[30,98,33,103],[18,92,21,97],[18,98,21,103],[18,104,21,109],[22,29,25,31],[22,32,25,37],[22,38,25,43],[22,44,25,49],[22,50,25,55],[22,56,25,61],[22,62,25,67],[18,56,21,61],[18,62,21,67],[18,68,21,73],[18,74,21,79],[18,80,21,85],[18,86,21,91],[18,29,21,31],[18,32,21,37],[18,38,21,43],[18,44,21,49],[18,50,21,55],[14,74,17,79],[14,80,17,85],[14,86,17,91],[14,92,17,97],[14,98,17,103],[14,104,17,109],[6,17,7,56],[8,17,10,56],[11,1,17,28],[11,29,13,109],[14,38,17,43],[14,44,17,49],[14,50,17,55],[14,56,17,61],[14,62,17,67],[14,68,17,73],[4,1,5,16],[4,17,5,56],[6,1,10,2],[6,3,10,4],[6,5,10,6],[6,7,10,8],[6,9,10,10],[6,11,10,12],[6,13,10,14],[6,15,10,16]]}
[]
[]
[]
[]
[null,"登 録 事 業 所 番 号",null,null,null,null,null,null,null,null,null,null,null,null,null,null,null,"登　　　録　　　事　　　業　　　所　　　名　　　称"]
[]
[null,{"$f":"基本情報!H20","v":""},null,{"$f":"基本情報!I20","v":""},null,{"$f":"基本情報!J20","v":""},null,{"$f":"基本情報!K20","v":""},null,{"$f":"基本情報!L20","v":""},null,{"$f":"基本情報!M20","v":""},null,{"$f":"基本情報!N20","v":""},null,{"$f":"基本情報!O20","v":""},null,{"$f":"基本情報!C6","v":"カ）　コンノデザイン"}]
[]
[null,null,null,null,null,null,null,null,null,null,null,null,null,null,null,null,null,{"$f":"基本情報!C7","v":"株式会社今野デザイン"}]
[]
[]
[null,"資格",null,null,null,null,null,null,null,null,null,null,null,null,null,null,null,null,null,null,null,null,null,null,null,null,null,null,null,"納　　　　付　　　　金　　　　額　　　　（　　　　千　　　　円　　　　単　　　　位　　　　）"]
[]
[]
[null,null,null,null,null,null,null,null,null,null,null,null,null,null,null,null,null,null,null,null,null,null,null,null,null,null,null,null,null,null,null,null,null,null,null,null,null,"納付月","1月\n\n（12月分）",null,null,null,null,null,"2月\n\n（1月分）",null,null,null,null,null,"3月\n\n（2月分）",null,null,null,null,null,"4月\n\n（3月分）",null,null,null,null,null,"5月\n\n（4月分）",null,null,null,null,null,"6月\n\n（5月分）",null,null,null,null,null,"7月\n\n（6月分）",null,null,null,null,null,"8月\n\n（7月分）",null,null,null,null,null,"9月\n\n（8月分）",null,null,null,null,null,"10月\n\n（9月分）",null,null,null,null,null,"11月\n\n（10月分）",null,null,null,null,null,"12月\n\n（11月分）"]
[]
[]
[null,null,null,null,null,null,null,null,null,null,null,null,null,null,null,null,null,null,null,null,null,null,null,null,null,null,null,null,null,"年"]
[null,"勤続期間１０年以上",null,null,null,null,null,null,null,null,null,null,null,null,null,null,null,null,null,null,null,null,null,null,null,null,null,null,null,"当年",null,null,3,null,null,null,null,null,null,null,null,null,null,null,null,null,null,null,null,null,null,null,null,null,null,null,null,null,null,null,null,null,null,null,null,null,null,null,null,null,null,null,null,null,null,null,null,null,null,null,null,null,null,null,null,null,22,null,null,null,null,null,22,null,null,null,null,null,22,null,null,null,null,null,22]
[]
[]
[]
[null,null,null,null,null,null,null,null,null,null,null,null,null,null,null,null,null,null,null,null,null,null,null,null,null,null,null,null,null,"翌年\n以降",null,null,4,null,null,null,null,null,22,null,null,null,null,null,22,null,null,null,null,null,22,null,null,null,null,null,22,null,null,null,null,null,22,null,null,null,null,null,22,null,null,null,null,null,22,null,null,null,null,null,22,null,null,null,null,null,22,null,null,null,null,null,22,null,null,null,null,null,22,null,null,null,null,null,22]
[]
[]
[]
[null,"勤続期間５年以上１０年未満",null,null,null,null,null,null,null,null,null,null,null,null,null,null,null,null,null,null,null,null,null,null,null,null,null,null,null,"当年",null,null,3,null,null,null,null,null,null,null,null,null,null,null,null,null,null,null,null,null,null,null,null,null,null,null,null,null,null,null,null,null,null,null,null,null,null,null,null,null,null,null,null,null,null,null,null,null,null,null,null,null,null,null,null,null,5,null,null,null,null,null,5,null,null,null,null,null,5,null,null,null,null,null,5]
[]
[]
[]
[null,null,null,null,null,null,null,null,null,null,null,null,null,null,null,null,null,null,null,null,null,null,null,null,null,null,null,null,null,"翌年\n以降",null,null,4,null,null,null,null,null,5,null,null,null,null,null,5,null,null,null,null,null,5,null,null,null,null,null,5,null,null,null,null,null,5,null,null,null,null,null,5,null,null,null,null,null,5,null,null,null,null,null,5,null,null,null,null,null,5,null,null,null,null,null,5,null,null,null,null,null,5,null,null,null,null,null,5]
[]
[]
[]
[null,"勤続期間３年以上５年未満",null,null,null,null,null,null,null,null,null,null,null,null,null,null,null,null,null,null,null,null,null,null,null,null,null,null,null,"当年",null,null,3,null,null,null,null,null,null,null,null,null,null,null,null,null,null,null,null,null,null,null,null,null,null,null,null,null,null,null,null,null,null,null,null,null,null,null,null,null,null,null,null,null,null,null,null,null,null,null,null,null,null,null,null,null,3,null,null,null,null,null,3,null,null,null,null,null,3,null,null,null,null,null,3]
[]
[]
[]
[null,null,null,null,null,null,null,null,null,null,null,null,null,null,null,null,null,null,null,null,null,null,null,null,null,null,null,null,null,"翌年\n以降",null,null,4,null,null,null,null,null,3,null,null,null,null,null,3,null,null,null,null,null,3,null,null,null,null,null,3,null,null,null,null,null,3,null,null,null,null,null,3,null,null,null,null,null,3,null,null,null,null,null,3,null,null,null,null,null,3,null,null,null,null,null,3,null,null,null,null,null,3,null,null,null,null,null,3]
[]
[]
[]
[null,null,null,null,null,null,null,null,null,null,null,null,null,null,null,null,null,null,null,null,null,null,null,null,null,null,null,null,null,"当年"]
[]
[]
[]
[null,null,null,null,null,null,null,null,null,null,null,null,null,null,null,null,null,null,null,null,null,null,null,null,null,null,null,null,null,"翌年\n以降"]
[]
[]
[]
[null,null,null,null,null,null,null,null,null,null,null,null,null,null,null,null,null,null,null,null,null,null,null,null,null,null,null,null,null,"当年"]
[]
[]
[]
[null,null,null,null,null,null,null,null,null,null,null,null,null,null,null,null,null,null,null,null,null,null,null,null,null,null,null,null,null,"翌年\n以降"]
[]
[]
[]
[]
[]
[null,null,null,null,null,null,null,null,null,null,null,null,null,null,null,null,null,null,null,null,null,null,null,null,null,null,null,null,null,null,null,null,null,null,null,null,null,null,null,null,null,null,null,null,null,null,null,null,null,null,null,null,null,null,null,null,null,null,null,null,null,null,null,null,null,null,null,null,null,null,null,null,"連合会",null,null,null,null,null,"9：\n令和",null,null,null,null,null,null,null,null,null,null,null,null,null,null,"厚生労働省"]

{"sheet":"K-314","index":11,"n_rows":105,"n_cols":77,"rows_kept":105,"cut":false,"hidden":false,"merged":[[104,47,106,48],[104,49,106,50],[104,51,106,52],[104,53,106,54],[104,55,106,56],[104,59,112,77],[101,1,103,14],[101,15,103,17],[101,20,103,40],[101,41,103,56],[101,59,103,77],[104,1,106,14],[104,23,106,40],[104,41,106,42],[104,43,106,44],[104,45,106,46],[86,37,87,40],[86,42,88,45],[86,46,88,49],[86,50,87,61],[86,62,87,77],[88,36,90,41],[88,50,90,51],[88,52,90,53],[88,54,90,55],[88,56,90,57],[88,70,90,71],[88,72,90,73],[88,74,90,75],[88,76,90,77],[89,42,90,45],[89,46,90,49],[88,58,90,59],[88,60,90,61],[88,62,90,63],[88,64,90,65],[88,66,90,67],[88,68,90,69],[72,76,74,77],[73,43,76,60],[78,42,79,49],[78,50,79,77],[80,42,85,43],[80,44,85,49],[80,50,85,53],[80,54,85,57],[80,58,85,61],[80,62,85,65],[80,66,85,69],[80,70,85,73],[80,74,85,77],[63,37,65,40],[63,62,69,69],[63,70,65,71],[63,72,65,73],[63,74,65,75],[63,76,65,77],[64,43,68,60],[49,1,50,77],[52,1,53,77],[54,1,56,4],[54,5,56,35],[61,1,90,2],[61,3,62,35],[61,42,62,69],[61,70,62,77],[63,3,64,8],[63,9,64,35],[66,9,77,33],[69,36,78,41],[70,42,71,71],[70,72,71,77],[72,62,77,69],[72,72,74,73],[72,74,74,75],[31,1,32,77],[33,7,34,77],[35,1,46,77],[47,1,48,49],[47,50,48,58],[47,59,48,75],[47,76,48,77],[25,58,26,59],[25,60,26,64],[25,66,26,67],[27,1,30,8],[27,9,30,12],[27,13,30,18],[27,19,30,20],[27,21,30,26],[27,27,30,30],[27,31,30,67],[25,8,26,9],[25,10,26,16],[25,36,26,45],[25,46,26,50],[25,51,26,52],[25,53,26,57],[21,1,22,67],[21,68,22,77],[23,7,24,67],[23,68,30,69],[23,70,30,71],[23,72,30,73],[23,74,30,75],[23,76,30,77],[25,1,26,2],[25,3,26,7],[10,1,12,6],[10,7,12,13],[13,1,14,67],[13,68,14,77],[15,7,16,67],[15,68,20,71],[15,72,20,74],[15,75,20,77],[17,1,20,67]]}
[]
[]
[]
[]
[]
[]
[]
[]
[]
[]
[null,"届書\nコード",null,null,null,null,null,13062]
[]
[]
[null,"事　　　　　　　　　　業　　　　　　　　　　所　　　　　　　　　　名　　　　　　　　　　称　　　　　　　　　　（※）",null,null,null,null,null,null,null,null,null,null,null,null,null,null,null,null,null,null,null,null,null,null,null,null,null,null,null,null,null,null,null,null,null,null,null,null,null,null,null,null,null,null,null,null,null,null,null,null,null,null,null,null,null,null,null,null,null,null,null,null,null,null,null,null,null,null,"企業名称区分"]
[]
[null,null,null,null,null,null,null,{"$f":"基本情報!C6","v":"カ）　コンノデザイン"}]
[]
[null,{"$f":"基本情報!C7","v":"株式会社今野デザイン"}]
[]
[]
[]
[null,"所　　　　　　　　　　　　　　　　　　　　　　在　　　　　　　　　　　　　　　　　　　　　　地",null,null,null,null,null,null,null,null,null,null,null,null,null,null,null,null,null,null,null,null,null,null,null,null,null,null,null,null,null,null,null,null,null,null,null,null,null,null,null,null,null,null,null,null,null,null,null,null,null,null,null,null,null,null,null,null,null,null,null,null,null,null,null,null,null,null,"市区町村コード"]
[]
[null,null,null,null,null,null,null,{"$f":"基本情報!C13","v":"ヒョウゴケンコウベシヒガシナダクミカゲ"}]
[]
[null,"〒",null,{"$f":"基本情報!H11","v":"658"},null,null,null,null,"－",null,{"$f":"基本情報!I11","v":"0047"},null,null,null,null,null,null,null,null,null,null,null,null,null,null,null,null,null,null,null,null,null,null,null,null,null,"連絡先電話番号　（",null,null,null,null,null,null,null,null,null,{"$f":"基本情報!C18","v":"078"},null,null,null,null,"－",null,{"$f":"基本情報!D18","v":"111"},null,null,null,null,"－",null,{"$f":"基本情報!E18","v":"2222"},null,null,null,null,null,"）"]
[]
[null,{"$f":"基本情報!C16","v":"兵庫"},null,null,null,null,null,null,null,"都 道\n府 県",null,null,null,{"$f":"IF(基本情報!D16=\"\",\"\",基本情報!D16)","v":""},null,null,null,null,null,"郡",null,{"$f":"基本情報!E16","v":"神戸市東灘"},null,null,null,null,null,"市 区\n町 村",null,null,null,{"$f":"基本情報!F16","v":"御影〇－〇－〇"}]
[]
[]
[]
[null,"事　　　　　　業　　　　　　主　　　　　　名　　　　　　称　　　　　　又　　　　　　は　　　　　　氏　　　　　　名"]
[]
[null,null,null,null,null,null,null,{"$f":"基本情報!C8","v":"ダイヒョウトリシマリヤク　コンノ　トモオ"}]
[]
[null,{"$f":"基本情報!C9","v":"代表取締役　今野　友夫"}]
[]
[]
[]
[]
[]
[]
[]
[]
[]
[]
[]
[null,null,null,null,null,null,null,null,null,null,null,null,null,null,null,null,null,null,null,null,null,null,null,null,null,null,null,null,null,null,null,null,null,null,null,null,null,null,null,null,null,null,null,null,null,null,null,null,null,null,"（申請ご担当者名",null,null,null,null,null,null,null,null,{"$f":"IF(基本情報!C24=\"\",\"\",基本情報!C24)","v":"絹延橋　みつ子"},null,null,null,null,null,null,null,null,null,null,null,null,null,null,null,null,"）"]
[]
[]
[]
[]
[null,"掛　　　　　　　金　　　　　　　納　　　　　　　付　　　　　　　方　　　　　　　法"]
[]
[null,null,null,null,null,"： 事業主払込 （口座振替）"]
[]
[]
[]
[]
[]
[]
[null,"掛金引落口座情報",null,"口座名義人（事業所名義）",null,null,null,null,null,null,null,null,null,null,null,null,null,null,null,null,null,null,null,null,null,null,null,null,null,null,null,null,null,null,null,null,null,null,null,null,null,null,"金融機関名",null,null,null,null,null,null,null,null,null,null,null,null,null,null,null,null,null,null,null,null,null,null,null,null,null,null,null,"金融機関コード"]
[]
[null,null,null,"フリガナ",null,null,null,null,null,{"$f":"基本情報!C34","v":"カブシキガイシャコンノデザイン　ダイヒョウトリシマリヤク　コンノ　トモオ"},null,null,null,null,null,null,null,null,null,null,null,null,null,null,null,null,null,null,null,null,null,null,null,null,null,null,null,null,null,null,null,null,null,null,null,null,null,null,null,null,null,null,null,null,null,null,null,null,null,null,null,null,"銀行　　労金\n信連　　農協\n信金　　信組"]
[null,null,null,null,null,null,null,null,null,null,null,null,null,null,null,null,null,null,null,null,null,null,null,null,null,null,null,null,null,null,null,null,null,null,null,null,null,null,null,null,null,null,null,{"$f":"基本情報!C26","v":"四菱USJ"}]
[]
[null,null,null,null,null,null,null,null,null,{"$f":"基本情報!C32","v":"株式会社今野デザイン　代表取締役　今野　友夫"}]
[]
[]
[null,null,null,null,null,null,null,null,null,null,null,null,null,null,null,null,null,null,null,null,null,null,null,null,null,null,null,null,null,null,null,null,null,null,null,null,"ゆうちょ\n銀   行\n以外の\n金   融\n機   関"]
[null,null,null,null,null,null,null,null,null,null,null,null,null,null,null,null,null,null,null,null,null,null,null,null,null,null,null,null,null,null,null,null,null,null,null,null,null,null,null,null,null,null,"支店名",null,null,null,null,null,null,null,null,null,null,null,null,null,null,null,null,null,null,null,null,null,null,null,null,null,null,null,null,null,"支店コード"]
[]
[null,null,null,null,null,null,null,null,null,null,null,null,null,null,null,null,null,null,null,null,null,null,null,null,null,null,null,null,null,null,null,null,null,null,null,null,null,null,null,null,null,null,null,null,null,null,null,null,null,null,null,null,null,null,null,null,null,null,null,null,null,null,"本店\n支店（支所）\n出張所"]
[null,null,null,null,null,null,null,null,null,null,null,null,null,null,null,null,null,null,null,null,null,null,null,null,null,null,null,null,null,null,null,null,null,null,null,null,null,null,null,null,null,null,null,{"$f":"基本情報!C28","v":"住吉"}]
[]
[]
[]
[]
[null,null,null,null,null,null,null,null,null,null,null,null,null,null,null,null,null,null,null,null,null,null,null,null,null,null,null,null,null,null,null,null,null,null,null,null,null,null,null,null,null,null,"預金種別",null,null,null,null,null,null,null,"口座番号（右詰め）"]
[]
[null,null,null,null,null,null,null,null,null,null,null,null,null,null,null,null,null,null,null,null,null,null,null,null,null,null,null,null,null,null,null,null,null,null,null,null,null,null,null,null,null,null,null,null," ： 普 通\n\n ： 当 座",null,null,null,null,null,{"$f":"IF(ISERROR(基本情報!H30),\"\",基本情報!H30)","v":"1"},null,null,null,{"$f":"IF(ISERROR(基本情報!I30),\"\",基本情報!I30)","v":"2"},null,null,null,{"$f":"IF(ISERROR(基本情報!J30),\"\",基本情報!J30)","v":"3"},null,null,null,{"$f":"IF(ISERROR(基本情報!K30),\"\",基本情報!K30)","v":"4"},null,null,null,{"$f":"IF(ISERROR(基本情報!L30),\"\",基本情報!L30)","v":"5"},null,null,null,{"$f":"IF(ISERROR(基本情報!M30),\"\",基本情報!M30)","v":"6"},null,null,null,{"$f":"IF(ISERROR(基本情報!N30),\"\",基本情報!N30)","v":"7"}]
[]
[]
[]
[]
[]
[null,null,null,null,null,null,null,null,null,null,null,null,null,null,null,null,null,null,null,null,null,null,null,null,null,null,null,null,null,null,null,null,null,null,null,null,null,null,null,null,null,null,"種別\nコード",null,null,null,"契約種別\nコード",null,null,null,"通帳記号",null,null,null,null,null,null,null,null,null,null,null,"通帳番号（右詰め）"]
[]
[null,null,null,null,null,null,null,null,null,null,null,null,null,null,null,null,null,null,null,null,null,null,null,null,null,null,null,null,null,null,null,null,null,null,null,null,"ゆうちょ\n銀    行"]
[null,null,null,null,null,null,null,null,null,null,null,null,null,null,null,null,null,null,null,null,null,null,null,null,null,null,null,null,null,null,null,null,null,null,null,null,null,null,null,null,null,null,166,null,null,null,30]
[]
[]
[]
[]
[]
[]
[]
[]
[]
[]
[]
[null,"各種届書・添付書類",null,null,null,null,null,null,null,null,null,null,null,null,null,"事セ\n確認",null,null,null,null,"採番する掛金の納付方法",null,null,null,null,null,null,null,null,null,null,null,null,null,null,null,null,null,null,null,null,"採番した登録事業所番号",null,null,null,null,null,null,null,null,null,null,null,null,null,null,null,null,null,"事務処理センター"]
[]
[]
[null,"預金口座振替依頼書",null,null,null,null,null,null,null,null,null,null,null,null,null,null,null,null,null,null,null,null,null,"事業主払込（口座振替）で採番"]

{"sheet":"送り状","index":12,"n_rows":54,"n_cols":14,"rows_kept":54,"cut":false,"hidden":false,"merged":[[42,11,42,12],[44,11,44,12],[46,0,47,10],[35,11,35,12],[36,11,36,12],[37,11,37,12],[39,11,39,12],[40,11,40,12],[41,11,41,12],[34,11,34,12],[22,11,22,12],[23,11,23,12],[24,11,24,12],[25,11,25,12],[26,11,26,12],[28,11,28,12],[29,11,29,12],[30,11,30,12],[31,11,31,12],[32,11,32,12],[33,11,33,12],[21,11,21,12],[10,0,14,0],[10,3,10,13],[12,1,13,13],[14,1,14,2],[14,10,14,11],[15,1,15,13],[17,1,17,9],[17,11,17,12],[18,11,18,12],[19,11,19,12],[20,11,20,12],[1,0,1,13],[3,0,3,10],[6,0,6,6],[6,7,9,8],[6,10,6,13],[7,0,9,6],[7,9,9,13]]}
[]
["中小事業主掛金納付制度　各種届書　送付状"]
[null,null,null,null,null,null,null,null,null,null,"送付日","年","月","日"]
[" 国民年金基金連合会 中小事業主掛金 担当者　御中"]
["下記の通り送付いたしますので、ご確認ください。"]
[]
["登 録 事 業 所 番 号",null,null,null,null,null,null,"事業所名称",null,"フリガナ",{"$f":"基本情報!C6","v":"カ）　コンノデザイン"}]
[{"$f":"IF(基本情報!C20=\"\",\"\",基本情報!C20)","v":""},null,null,null,null,null,null,null,null,{"$f":"基本情報!C7","v":"株式会社今野デザイン"}]
[]
[]
["所在地","フリガナ",null,{"$f":"基本情報!C13","v":"ヒョウゴケンコウベシヒガシナダクミカゲ"}]
[null,"〒",{"$f":"基本情報!H11","v":"658"},"―",{"$f":"基本情報!I11","v":"0047"}]
[null,{"$f":"基本情報!C14","v":"兵庫県神戸市東灘区御影〇－〇－〇"}]
[]
[null,"連絡先電話番号",null,null,{"$f":"基本情報!C18","v":"078"},"―",{"$f":"基本情報!D18","v":"111"},"―",{"$f":"基本情報!E18","v":"2222"},"担当部署",null,null,"担当者",{"$f":"基本情報!C24","v":"絹延橋　みつ子"}]
[null,"　※連絡先電話番号・担当部署・担当者名は、必ずご記入ください。"]
["１．開始時の届出書類  ( 今回送付するものの枚数をご記入ください。)　※各２部ずつ必要です。"]
["様式","届の種類",null,null,null,null,null,null,null,null,"枚数","備考",null,"連合会\n確認欄"]
["K-301"," 中小事業主掛金納付開始・終了届"]
["K-303"," 中小事業主掛金対象者登録届"]
["K-306"," 資格別中小事業主掛金届"]
["K-307"," 中小事業主の資格に関する現況について (様式第10号)"]
["K-308"," 同意書 (様式第11号)"]
["K-309"," 同意書 (様式第12号)"]
["K-312"," 労働組合の現況について (様式第15号)"]
["K-313"," 証明書 (様式第16号)"]
["－"," 労働協約又は就業規則などの写し"]
["２．変更時の届出書類  ( 今回送付するものの枚数をご記入ください。)　※各２部ずつ必要です。"]
["K-302"," 中小事業主掛金納付変更・削除届"]
["K-303"," 中小事業主掛金対象者登録届"]
["K-304"," 中小事業主掛金額変更・削除届"]
["K-305"," 中小事業主掛金対象者情報変更届"]
["K-306"," 資格別中小事業主掛金届"]
["K-309"," 同意書 (様式第12号)"]
["K-310"," 同意書 (様式第13号)"]
["K-312"," 労働組合の現況について (様式第15号)"]
["K-313"," 証明書 (様式第16号)"]
["－"," 労働協約又は就業規則などの写し"]
["３．終了時の届出書類  ( 今回送付するものの枚数をご記入ください。)　※各２部ずつ必要です。"]
["K-301"," 中小事業主掛金納付開始・終了届"]
["K-311"," 同意書 (様式第14号)"]
["K-312"," 労働組合の現況について (様式第15号)"]
["K-313"," 証明書 (様式第16号)"]
["４．毎年１回の現況届  ( ２部必要です。）"]
["K-307"," 中小事業主の資格に関する現況について (様式第10号)"]
[]
[]
[]
[]
[]
[]
[]
[]
[null,null,null,null,null,null,null,null,null,null,null,null,null,"(2020.12)"]

{"sheet":"労使協定","index":13,"n_rows":58,"n_cols":11,"rows_kept":58,"cut":false,"hidden":false,"merged":[[19,1,20,10],[0,0,0,10],[3,0,4,10],[7,1,8,10],[11,1,12,10],[15,1,16,10],[45,1,45,10],[23,1,25,10],[33,1,34,10],[37,1,38,10],[41,1,42,10]]}
["中小事業主掛金納付制度に関する労使協定"]
[]
[]
[{"$f":"\"　\"&基本情報!C7&\"（以下、「会社」という。）と\"&基本情報!C7&\"労働者代表とは、中小事業主掛金納付制度に関し、次のとおり協定を締結する。\"","v":"　株式会社今野デザイン（以下、「会社」という。）と株式会社今野デザイン労働者代表とは、中小事業主掛金納付制度に関し、次のとおり協定を締結する。"}]
[]
[]
["第一条"]
[null,"会社は、役員及び従業員の老後の資産形成支援のため、中小事業主掛金納付制度を導入することとする。"]
[]
[]
["第二条"]
[null,"中小事業主掛金納付制度の対象は、役員及び正社員のうち、個人型確定拠出年金（iDeCo）の加入者のみとする。"]
[]
[]
["第三条"]
[null,"会社は加入者の掛金を給与天引きで控除し、事業主掛金と合わせて、国民年金基金連合会に拠出する。"]
[]
[]
["第四条"]
[null,"個人型確定拠出年金にかかる「加入時・移換時手数料」、「口座管理手数料」、「給付事務手数料」、「還付事務手数料」は加入者負担とする。"]
[]
[]
["第五条"]
[null,"事業主掛金の月額は次の通りとする。\n（掛金月額は、職種毎にも設定できるものとし、必要に応じ労使協議による同意の上、取り決めるものとする。）"]
[]
[]
[]
[null,"勤続期間５年以上",null,null,null,"２２，０００円"]
[null,"勤続期間３年以上５年未満",null,null,null,"５，０００円"]
[null,"勤続期間３年未満",null,null,null,"３，０００円"]
[]
[]
["第六条"]
[null,"中小事業主掛金納付制度の加入を希望する者は、会社に加入希望申出書を提出するものとし、事業主掛金は提出月の翌々月より拠出を開始する。"]
[]
[]
["第七条"]
[null,"中小事業主掛金納付制度の加入者が休職した場合、休職期間中は、会社は事業主掛金は拠出しないものとする。"]
[]
[]
["第八条"]
[null,"中小事業主掛金納付制度の加入者が退職した場合、退職日の翌日が属する月については、会社は事業主掛金は拠出しないものとする。"]
[]
[]
["第九条"]
[null,"本協定の有効期間は、締結日から１年間とする。"]
[]
[]
[]
["令和　　年　　月　　日"]
[]
[]
[]
[null,null,null,null,{"$f":"基本情報!C7","v":"株式会社今野デザイン"}]
[null,null,null,null,{"$f":"基本情報!C9","v":"代表取締役　今野　友夫"},null,null,null,null,null,"印"]
[null,null,null,null,null,null,"　"]
[null,null,null,null,{"$f":"基本情報!C7","v":"株式会社今野デザイン"}]
[null,null,null,null,"労働者代表　　　　",null,null,null,null,null,"印"]